BEGIN:VCALENDAR
VERSION:2.0
PRODID:-//Downtown Dayton Partnership - ECPv6.8.1//NONSGML v1.0//EN
CALSCALE:GREGORIAN
METHOD:PUBLISH
X-ORIGINAL-URL:https://downtowndayton.org
X-WR-CALDESC:Events for Downtown Dayton Partnership
REFRESH-INTERVAL;VALUE=DURATION:PT1H
X-Robots-Tag:noindex
X-PUBLISHED-TTL:PT1H
BEGIN:VTIMEZONE
TZID:America/Detroit
BEGIN:DAYLIGHT
TZOFFSETFROM:-0500
TZOFFSETTO:-0400
TZNAME:EDT
DTSTART:20240310T070000
END:DAYLIGHT
BEGIN:STANDARD
TZOFFSETFROM:-0400
TZOFFSETTO:-0500
TZNAME:EST
DTSTART:20241103T060000
END:STANDARD
END:VTIMEZONE
BEGIN:VEVENT
DTSTART;TZID=America/Detroit:20240925T110000
DTEND;TZID=America/Detroit:20240925T180000
DTSTAMP:20260422T080447
CREATED:20240829T121656Z
LAST-MODIFIED:20240829T121656Z
UID:10023305-1727262000-1727287200@downtowndayton.org
SUMMARY:CURTIS MANN: Precious Blood
DESCRIPTION:CURTIS MANN: Precious Blood\n\n\n\n\nTHE DR. ROBERT L. BRANDT JR. FAMILY GALLERY\nTHE IRA & SUSAN THOMSEN FAMILY GALLERY \n\n\n\n\nSEP 6 – DEC 21\, 2024\n\n\n\n\n\n\n\n\n\nDayton native\, Curtis Mann\, returns home to present an experimental new body of work inspired by reflections on his childhood attending Parochial schools\, his mother’s Catholic funeral services this past May\, and the challenges he faced hiding and then embracing his atheism. Using a mixture of personal family photographs\, found\, and AI-generated images\, Mann has cut and affixed them to shards of glass to create sculptural collages. The work presents us with questions about what a photograph is\, about the precarious space between the image and the object\, and about the larger ideas of absolute faith\, its teachings\, and leaders. The work also serves as a love letter to his mother and his own feelings of mortality. Curated by Jeffrey Cortland Jones. \nMann is a graduate of the University of Dayton\, where he worked under the mentorship of Sean Wilkinson\, whose work is on view in the companion exhibition\, Flora\, also on view. His work has been exhibited widely\, most notably at the Metropolitan Museum of Art\, New York; the Centre Georges Pompidou\, Paris\, France; the Whitney Museum of American Art\, New York; and the Museum of Contemporary Art\, Chicago. \n\n\n\n\n\n\n\n\n\nOPENING NIGHT / SEP 6\n\n\n\n\nMembers Preview with the Artist 5-6 pm / Public Reception 6-8 pm \n\n\n\n\nARTIST TALK / NOV 22 / 6:30 pm\n\n\n\n\nCurtis Mann and Sean Wilkinson in Conversation with artist and writer\, Carmen Winant \nDoors open 6 pm / Reception immediately following ‘til 8 pm / FREE & open to all / The Tank at The Dayton Arcade
URL:https://downtowndayton.org/event/curtis-mann-precious-blood/2024-09-25/
LOCATION:The Contemporary Dayton\, 25 W. Fourth St.\, Dayton\, OH\, 45402\, United States
END:VEVENT
BEGIN:VEVENT
DTSTART;TZID=America/Detroit:20240925T110000
DTEND;TZID=America/Detroit:20240925T180000
DTSTAMP:20260422T080447
CREATED:20240829T121807Z
LAST-MODIFIED:20240829T121807Z
UID:10023367-1727262000-1727287200@downtowndayton.org
SUMMARY:SEAN WILKINSON: Flora
DESCRIPTION:SEAN WILKINSON: Flora\n\n\n\n\nTHE MITOSIS GALLERY \n\n\n\n\nSEP 6 – DEC 21\, 2024\n\n\n\n\n\nWilkinson’s ongoing series of photographs\, Flora (2020-2024) are the artist’s response to the exuberant vitality of plants\, their thrusting and thriving\, their boundless energy and raw power\, their elegance and grace\, their constant changing\, and their utter disregard for anything to do with the human world. Photographed over many seasons at Dayton’s Five Rivers MetroParks\, Wilkinson brings attention to change\, the overlooked\, the undisturbed\, and how profoundly meditative life can be. Curated by Jeffrey Cortland Jones. \nWilkinson is a Distinguished Service Professor and Professor Emeritus at the University of Dayton\, where he served as chair of the Department of Visual Arts and as the Graul Endowed Chair in Arts and Languages. He is the recipient of several Ohio Arts Council and Montgomery County Fellowships among many other awards and prizes. His work has been widely exhibited and housed in over twenty-five significant collections. \n\n\n\n\n\nOPENING NIGHT / SEP 6\n\n\n\n\nMembers Preview with the Artist 5-6 pm / Public Reception 6-8 pm \n\n\n\n\nARTIST TALK / NOV 22 / 6:30 pm\n\n\n\n\nCurtis Mann and Sean Wilkinson in Conversation with artist and writer\, Carmen Winant \nDoors open 6 pm / Reception immediately following ‘til 8 pm / FREE & open to all / The Tank at The Dayton Arcade
URL:https://downtowndayton.org/event/sean-wilkinson-flora/2024-09-25/
LOCATION:The Contemporary Dayton\, 25 W. Fourth St.\, Dayton\, OH\, 45402\, United States
END:VEVENT
BEGIN:VEVENT
DTSTART;TZID=America/Detroit:20240925T160000
DTEND;TZID=America/Detroit:20240925T180000
DTSTAMP:20260422T080447
CREATED:20240506T192527Z
LAST-MODIFIED:20240926T150935Z
UID:10029183-1727280000-1727287200@downtowndayton.org
SUMMARY:CURIO Midweek Mix
DESCRIPTION:Throughout the summer months\, fun\, out-of-the-box entertainment can be found on Courthouse Square\, with CURIO serving as the hub of community\, connection\, and collaboration! \nCURIO at Courthouse Square is the next evolution of programming formerly known as “The Square Is Where.” \nBig ideas can come in small packages\, and CURIO is the first step in a larger\, longer-term plan to revitalize Courthouse Square. This shipping container transformed into an event hub has been combined with new outdoor seating and other touches to create downtown’s newest summer hotspot! \nCURIO Midweek Mix provides weekly social hours featuring adult beverages and a mix of events at the end of the workday\, including markets\, CURIOKE\, arts\, cash bingo and pets\, spotlight performances\, and more. \nUnwind after work – Meet up at the Midweek Mix!\nThe CURIO Midweek Mix brings fun\, themed social hours on Wednesdays from 4 to 6 p.m. each week. \nGrab a DORA beverage\, socialize\, and take part in this week’s themed activities while gathering with old friends and meeting new ones. \n  \nFind a full schedule of upcoming entertainment at https://downtowndayton.org/things-to-do/curio/ \n 
URL:https://downtowndayton.org/event/curio-midweek-mix/2024-09-25/
LOCATION:Courthouse Square\, Third & Main Streets\, Dayton\, OH\, 45422\, USA
ATTACH;FMTTYPE=image/jpeg:https://downtowndayton.org/wp-content/uploads/2024/05/midweekmix.jpg
END:VEVENT
BEGIN:VEVENT
DTSTART;TZID=America/Detroit:20240925T180000
DTEND;TZID=America/Detroit:20240925T190000
DTSTAMP:20260422T080447
CREATED:20240919T180022Z
LAST-MODIFIED:20240919T180022Z
UID:10023483-1727287200-1727290800@downtowndayton.org
SUMMARY:SWERK with MVP Dance Fit
DESCRIPTION:Part of RiverScape Community Fitness series \nSWERK with MVP Dance Fit\n6:00pm – 7:00pm \nAGE: All ages | FREE\nSWERK (Sweat\, Work\, Twerk) combines current HipHop style dance moves with lower body toning exercises to bring you one Booty-licious bod. A true “lift your booty\, love your body” experience. Beyonce’s welcome. No previous dance experience necessary\, just come MOVE and have FUN. We can’t wait to SWERK with you! Weather Dependent.
URL:https://downtowndayton.org/event/swerk-with-mvp-dance-fit-23/
LOCATION:RiverScape MetroPark\, 237 E Monument Ave\, Dayton\, OH\, 45402\, United States
ATTACH;FMTTYPE=image/jpeg:https://downtowndayton.org/wp-content/uploads/2023/11/riverscape.jpg
END:VEVENT
BEGIN:VEVENT
DTSTART;TZID=America/Detroit:20240925T180000
DTEND;TZID=America/Detroit:20240925T200000
DTSTAMP:20260422T080447
CREATED:20240919T180906Z
LAST-MODIFIED:20240919T180906Z
UID:10029662-1727287200-1727294400@downtowndayton.org
SUMMARY:College Prep Night
DESCRIPTION:The Dayton Dragons and Day Air Credit Union will hold College Prep Night\, a FREE educational event for prospective college students\, at Day Air Ballpark on *_Wednesday\, September 25 from 6 p.m. – 8 p.m. *_Day Air Credit Union’s mission is to serve the financial well-being of their members and the community. Decisions about higher education are as difficult as they are important. We are excited to provide this opportunity to our area students. \nCollege Prep Night is a one-stop college resource event to guide prospective college students and their parents through the process of planning an educational path. High school students can talk to representatives from colleges and universities from all over the nation\, those who RSVP before the event will be entered to win one of two\, $1\,000 scholarships. Students must pre-register for the event online and attend to be considered. \nMore than 1\,000 students and their guests attend\, and more than 70 colleges and universities participate in this FREE event. Representatives will be on hand to answer whatever questions students might have about college life at each particular school.
URL:https://downtowndayton.org/event/college-prep-night/
LOCATION:Day Air Ballpark\, 220 North Patterson Blvd.\, Dayton\, OH\, 45402
END:VEVENT
END:VCALENDAR