BEGIN:VCALENDAR
VERSION:2.0
PRODID:-//Downtown Dayton Partnership - ECPv6.8.1//NONSGML v1.0//EN
CALSCALE:GREGORIAN
METHOD:PUBLISH
X-ORIGINAL-URL:https://downtowndayton.org
X-WR-CALDESC:Events for Downtown Dayton Partnership
REFRESH-INTERVAL;VALUE=DURATION:PT1H
X-Robots-Tag:noindex
X-PUBLISHED-TTL:PT1H
BEGIN:VTIMEZONE
TZID:America/Detroit
BEGIN:DAYLIGHT
TZOFFSETFROM:-0500
TZOFFSETTO:-0400
TZNAME:EDT
DTSTART:20240310T070000
END:DAYLIGHT
BEGIN:STANDARD
TZOFFSETFROM:-0400
TZOFFSETTO:-0500
TZNAME:EST
DTSTART:20241103T060000
END:STANDARD
END:VTIMEZONE
BEGIN:VEVENT
DTSTART;VALUE=DATE:20241001
DTEND;VALUE=DATE:20241002
DTSTAMP:20260423T122051
CREATED:20240919T171427Z
LAST-MODIFIED:20240919T171427Z
UID:10029608-1727740800-1727827199@downtowndayton.org
SUMMARY:Kintsugi Breast Cancer Photo Exhibit
DESCRIPTION:Dayton Metro Library will host the Kintsugi Breast Cancer Photo Exhibit in the Main Library’s Opportunity Space at St. Clair from Monday\, September 30 through Friday\, October 11\, with a special reception on Thursday\, October 3\, from 5:30-7 pm in the Opportunity Space as well. \n  \nThe exhibit features breast cancer survivors from the Dayton area\, and patrons will be able to hear behind the scenes details about the exhibit at this reception\, as well as survivors sharing their stories and experiences. Resources for those who may be experiencing breast cancer will also be available. Organizations on hand will include Breast Wishes; Pink Ribbon Good; Noble Circle; The Well; Center for Women’s Wellness; and Christina Siegel R.N.\, B.S.N.\, Tattoo Nipple Fairy. \n  \nThe Kintsugi Breast Cancer Photo Exhibit was created by Carolyn Reveal\, a two-time breast cancer survivor. Kintsugi is an ancient Japanese art that takes something broken and puts it back together using a precious metal\, such as gold – thus an object’s breakage becomes part of its history\, not something to disguise. Inspired by this art\, Reveal and other survivors have used it as a healing tool. \n  \nPatrons who visit this exhibit will see how breast cancer has been used to create something stronger and more beautiful and are reminded that this exhibit may include personal and sensitive images and text. \n  \nFor more information\, visit DaytonMetroLibrary.org or call the Library’s Ask Me Line at 937.463.2665.
URL:https://downtowndayton.org/event/kintsugi-breast-cancer-photo-exhibit/2024-10-01/
LOCATION:Dayton Metro Library – Main Library\, 215 E. Third Street\, Dayton\, OH\, 45402
ATTACH;FMTTYPE=image/jpeg:https://downtowndayton.org/wp-content/uploads/2023/08/dml.jpg
END:VEVENT
BEGIN:VEVENT
DTSTART;TZID=America/Detroit:20241001T110000
DTEND;TZID=America/Detroit:20241001T120000
DTSTAMP:20260423T122051
CREATED:20240925T184402Z
LAST-MODIFIED:20240925T184402Z
UID:10029666-1727780400-1727784000@downtowndayton.org
SUMMARY:RTA How to Ride Class
DESCRIPTION:Join the Greater Dayton RTA for a hands-on “How-to-Ride” class at Wright Stop Plaza\, where new\, current\, and returning riders will gain skills and confidence to navigate Montgomery County’s public transit system. \n  \nTo create equitable access to RTA’s “How-to-Ride” class multiple dates will be provided for riders to choose from. Participants are asked to register. The class will cover what riders need to know\, from what to do before boarding the bus to how to let the driver know you’re ready to exit at your stop. Topics of discussion will include Tapp Pay\, fare and fare capping\, trip planning via the Transit app\, Google\, and/or RTA’s website\, as well as a brief overview of RTA services. \n  \nClass dates are as follows: \n\nTuesday\, Oct. 1\, from 11 a.m. to noon\nTuesday\, Nov. 5\, from 11 a.m. to noon\nTuesday\, Dec. 3\, from 11 a.m. to noon\nTuesday\, Jan. 7\, from 11 a.m. to noon\n\n  \nAll classes will take place in the multipurpose room at Wright Stop Plaza\, 4 S. Main St. Registered participants can enter through the side door of the concourse next to RTA’s parking lot located along Third Street. Signage will be posted indicating where to enter\, and a transit ambassador will also be available to assist with directions. \n  \nParticipants must register in advance due to the limited amount of seating. Attendees must register by contacting Communications Specialist Michael Everman no later than the Thursday at 4 p.m. before their desired class. He can be reached at 937-425-8374 or meverman@greaterdaytonrta.org.
URL:https://downtowndayton.org/event/rta-how-to-ride-class/2024-10-01/
LOCATION:Wright Stop Plaza\, 4 S. Main St.\, Dayton\, OH\, 45402
ATTACH;FMTTYPE=image/jpeg:https://downtowndayton.org/wp-content/uploads/2018/02/rta_logo.jpg
END:VEVENT
BEGIN:VEVENT
DTSTART;TZID=America/Detroit:20241001T140000
DTEND;TZID=America/Detroit:20241001T180000
DTSTAMP:20260423T122051
CREATED:20240925T194121Z
LAST-MODIFIED:20240925T194121Z
UID:10023492-1727791200-1727805600@downtowndayton.org
SUMMARY:Kayak Rentals at RiverScape with Taiter’s Kayak Solutions
DESCRIPTION:Part of RiverScape Kayak Rentals series \nKayak Rentals at RiverScape with Taiter’s Kayak Solutions\n2:00pm – 6:00pm \nAGE: 14 and up | $12.00\nPaddle under the fountains with Taiter’s Kayak Solutions all summer long at RiverScape MetroPark! Regular walk-up rental hours will take place Tuesdays from 2-6pm and Thursdays from 4-8pm\, June-October. Launch from under the Riverside Bridge along the Great Miami Recreational Trail. The cost to participate is $12 per person per hour. Taiter’s Kayak Solutions staff will provide visitors with brief instructions prior to entering the water\, which will include a safety tutorial\, and help visitors get into their vessels. All visitors will be required to wear a properly fitted life jacket. Swimming is prohibited in the Great Miami River\, but visitors should come prepared to get wet. Those renting will not be permitted to go through the RiverScape River Run whitewater feature. No lifeguards are on duty\, and paddling is at all visitors’ own risk. All visitors must sign a waiver to participate. Visit Facebook.com/TaitersKayakSolutions for more information. Weather Dependent.
URL:https://downtowndayton.org/event/kayak-rentals-at-riverscape-with-taiters-kayak-solutions-40/
LOCATION:RiverScape MetroPark\, 237 E Monument Ave\, Dayton\, OH\, 45402\, United States
ATTACH;FMTTYPE=image/jpeg:https://downtowndayton.org/wp-content/uploads/2023/11/riverscape.jpg
END:VEVENT
BEGIN:VEVENT
DTSTART;TZID=America/Detroit:20241001T180000
DTEND;TZID=America/Detroit:20241001T190000
DTSTAMP:20260423T122051
CREATED:20240919T171544Z
LAST-MODIFIED:20240919T171544Z
UID:10029619-1727805600-1727809200@downtowndayton.org
SUMMARY:A Night in Conversation with Julia Quinn
DESCRIPTION:For fans of the Julia Quinn Bridgerton novel series\, Dayton Metro Library is the place to be. A Night in Conversation with Julia Quinn will be held on Tuesday\, October 1\, from 6-7 pm in the Main Library’s Eichelberger Forum\, or from the comfort of a location patrons may choose. \n  \nDuring her virtual visit to DML\, Quinn will discuss the significance of public libraries\, the right to read\, banned books\, and the concept of a book sanctuary\, which DML is proud to be. \n  \nQuinn is the 2024 National Ambassador for EveryLibrary\, whose mission is to “help public\, school\, and college libraries win funding at the ballot box\, ensuring stable funding and access to libraries for generations to come.” They “support grassroots groups across the country who defend and support their local library against book banning\, illicit political interference\, and threats of closure.” \n  \nQuinn will visit DML virtually\, so patrons can either register to participate in a “watch party\,” at the Main Library\, with the possibility to engage in a brief Q&A session\, or they can register to participate in a “view only” experience from home or another location outside of the Library. \n  \nQuinn is the author of the many titles within her Bridgerton novel series\, which has become a wildly popular TV show on Netflix. \n  \nRegistration is required for adults to participate in either the “watch party” or the “view only” options. For more information and to register\, visit DaytonMetroLibrary.org or call the Library’s Ask Me Line at 937.463.2665.
URL:https://downtowndayton.org/event/a-night-in-conversation-with-julia-quinn/
LOCATION:Dayton Metro Library – Main Library\, 215 E. Third Street\, Dayton\, OH\, 45402
ATTACH;FMTTYPE=image/jpeg:https://downtowndayton.org/wp-content/uploads/2023/08/dml.jpg
END:VEVENT
BEGIN:VEVENT
DTSTART;TZID=America/Detroit:20241001T180000
DTEND;TZID=America/Detroit:20241001T190000
DTSTAMP:20260423T122051
CREATED:20240925T194156Z
LAST-MODIFIED:20240925T194156Z
UID:10023493-1727805600-1727809200@downtowndayton.org
SUMMARY:Tai Chi & Qigong at the River
DESCRIPTION:Part of RiverScape Community Fitness series \nTai Chi & Qigong at the River\n6:00pm – 7:00pm \nAGE: All ages | FREE\nOffered by Immortal Tree Qigong. Each hour-long Tai Chi & Qigong session will start with breathing exercises\, warm up\, and gentle stretching. You will then be guided through flowing movements mixed with short standing meditations. We will end with a slightly longer guided standing (or sitting) meditation. This should leave a few minutes to answer questions or discuss any insights. Qigong doesn’t require any special skills (other than breathing) or equipment (other than your body). Find “Immortal Tree Qigong” on Facebook or Instagram for more information! Weather Dependent.
URL:https://downtowndayton.org/event/tai-chi-qigong-at-the-river-25/
LOCATION:RiverScape MetroPark\, 237 E Monument Ave\, Dayton\, OH\, 45402\, United States
ATTACH;FMTTYPE=image/jpeg:https://downtowndayton.org/wp-content/uploads/2023/11/riverscape.jpg
END:VEVENT
BEGIN:VEVENT
DTSTART;TZID=America/Detroit:20241001T183000
DTEND;TZID=America/Detroit:20241001T210000
DTSTAMP:20260423T122051
CREATED:20240925T194238Z
LAST-MODIFIED:20240925T194238Z
UID:10023494-1727807400-1727816400@downtowndayton.org
SUMMARY:Cornhole Tournament
DESCRIPTION:Part of Tuesday Nights in the Park series \nCornhole Tournament\n6:30pm – 9:00pm \nAGE: All ages | FREE\nIf you have a competitive spirit\, enjoy being outdoors and winning prizes\, you won’t want to miss our monthly cornhole tournament! Grab your friends or co-workers and join us under the RiverScape pavilion on the first Tuesday of the month from June through October for some friendly cornhole competition! While our tournament is family-friendly\, we recommend participants be 14 and older. Registration will begin on-site at 6:30 PM\, with the tournament beginning at 7 PM. Spots are first come\, first serve. Additional giant lawn games will also be available to play. Admission is free! The RiverScape Cafe will be open and now offers an expanded food and dessert menu. For those 21 and over\, cocktails\, wine and other beverages will also be available for purchase as part of the Downtown Dayton DORA. Weather Dependent.
URL:https://downtowndayton.org/event/cornhole-tournament-4/
LOCATION:RiverScape MetroPark\, 237 E Monument Ave\, Dayton\, OH\, 45402\, United States
ATTACH;FMTTYPE=image/jpeg:https://downtowndayton.org/wp-content/uploads/2023/11/riverscape.jpg
END:VEVENT
BEGIN:VEVENT
DTSTART;TZID=America/Detroit:20241001T193000
DTEND;TZID=America/Detroit:20241001T193000
DTSTAMP:20260423T122051
CREATED:20240925T190005Z
LAST-MODIFIED:20240925T190005Z
UID:10029673-1727811000-1727811000@downtowndayton.org
SUMMARY:Hamilton
DESCRIPTION:A revolutionary story of passion\, unstoppable ambition\, and the dawn of a new nation. \nBest ticket availability Tuesday\, October 8-Sunday\, October 13! \nHAMILTON is the epic saga that follows the rise of Founding Father Alexander Hamilton as he fights for honor\, love\, and a legacy that would shape the course of a nation. Based on Ron Chernow’s acclaimed biography and set to a score that blends hip-hop\, jazz\, R&B\, and Broadway\, HAMILTON has had a profound impact on culture\, politics\, and education. HAMILTON features book\, music\, and lyrics by Lin-Manuel Miranda\, direction by Thomas Kail\, choreography by Andy Blankenbuehler\, and musical supervision and orchestrations by Alex Lacamoire. In addition to its 11 Tony Awards®\, it has won a Grammy®\, Olivier Awards\, the Pulitzer Prize for Drama\, and an unprecedented special citation from the Kennedy Center Honors.
URL:https://downtowndayton.org/event/hamilton/2024-10-01/
LOCATION:The Benjamin & Marian Schuster Performing Arts Center\, 1 West Second Street\, Dayton\, OH\, 45402
END:VEVENT
END:VCALENDAR