BEGIN:VCALENDAR
VERSION:2.0
PRODID:-//Downtown Dayton Partnership - ECPv6.8.1//NONSGML v1.0//EN
CALSCALE:GREGORIAN
METHOD:PUBLISH
X-WR-CALNAME:Downtown Dayton Partnership
X-ORIGINAL-URL:https://downtowndayton.org
X-WR-CALDESC:Events for Downtown Dayton Partnership
REFRESH-INTERVAL;VALUE=DURATION:PT1H
X-Robots-Tag:noindex
X-PUBLISHED-TTL:PT1H
BEGIN:VTIMEZONE
TZID:America/Detroit
BEGIN:DAYLIGHT
TZOFFSETFROM:-0500
TZOFFSETTO:-0400
TZNAME:EDT
DTSTART:20240310T070000
END:DAYLIGHT
BEGIN:STANDARD
TZOFFSETFROM:-0400
TZOFFSETTO:-0500
TZNAME:EST
DTSTART:20241103T060000
END:STANDARD
END:VTIMEZONE
BEGIN:VEVENT
DTSTART;VALUE=DATE:20241013
DTEND;VALUE=DATE:20241014
DTSTAMP:20260422T205105
CREATED:20241007T123927Z
LAST-MODIFIED:20241007T123927Z
UID:10023548-1728777600-1728863999@downtowndayton.org
SUMMARY:Exhibit: America the Borderland
DESCRIPTION:Dayton Metro Library is hosting an exhibit titled America the Borderland in the Main Library’s Atrium. It is a multiplatform storytelling project that shines light on changemakers positively impacting their communities along the border between Mexico and the United States. At a time when immigration is at the forefront of a volatile and polarized national debate\, the stories of these changemakers\, shared in their own words\, provide a nuanced and authentic perspective that is often missing from mainstream coverage. \n  \nAmerica the Borderland was created after a team of University of Dayton undergraduate students traveled to El Paso\, Texas and Ciudad Juárez\, Mexico\, along with faculty members and practitioners in May 2018\, as part of the Moral Courage Project. The student team was trained in interviewing techniques\, fieldwork and documentary ethics\, and border politics and history. They collaborated with grassroots organizations\, immersed themselves in immigrant communities\, collected testimony from everyday changemakers and documented the experience through photography – the result being America the Borderland. \n  \nThe Moral Courage Project also created the exhibit Ferguson Voices: Disrupting the Frame\, their first\, which was also on display in the Main Library in August. With Borderland\, The Project iterated the same model of first-person storytelling and distribution by shifting the lens south to capture visual stories that was used in Ferguson. \n  \nAmerica the Borderland will be on display through Tuesday\, October 15\, at the Main Library\, located at 215 E. Third St.\, Dayton\, 45402. Information in this release was provided by Joel Pruce\, Human Rights Center\, University of Dayton. For more information about this exhibit\, call the Library’s Ask Me Line at 937.463.2665. \n 
URL:https://downtowndayton.org/event/exhibit-america-the-borderland/2024-10-13/
LOCATION:OH
ATTACH;FMTTYPE=image/jpeg:https://downtowndayton.org/wp-content/uploads/2023/08/dml.jpg
END:VEVENT
BEGIN:VEVENT
DTSTART;VALUE=DATE:20241013
DTEND;VALUE=DATE:20241014
DTSTAMP:20260422T205105
CREATED:20241007T124820Z
LAST-MODIFIED:20241007T124820Z
UID:10029729-1728777600-1728863999@downtowndayton.org
SUMMARY:Out Here Dayton Film Fest
DESCRIPTION:It’s our 19th year of celebrating the best of LGBTQIA+ films from around the world with the Miami Valley\, and we found it so hard to make decisions that we decided to expand the festival by an extra day. \nJoin us at THE NEON during the long weekend of Oct. 10-13 for 9 different screenings – featuring 25 short and feature-length films. And don’t forget our Friday Night Party – this year at Lily’s Bistro. \nSome special details are still in the works\, but you can read about all of our films and find ticketing & scholarship details on this site. For the latest developments\, be sure to check out and follow us on Facebook and Instagram. \nWe can’t wait to gather together and share these incredible films with the community!
URL:https://downtowndayton.org/event/out-here-dayton-film-fest-2/2024-10-13/
LOCATION:THE NEON\, United States
END:VEVENT
BEGIN:VEVENT
DTSTART;TZID=America/Detroit:20241013T110000
DTEND;TZID=America/Detroit:20241013T140000
DTSTAMP:20260422T205105
CREATED:20240502T140515Z
LAST-MODIFIED:20240502T140515Z
UID:10029090-1728817200-1728828000@downtowndayton.org
SUMMARY:Church of Funk
DESCRIPTION:Cooley the Curator\, *Aka Pastor Cooley\,* will be presiding over the wheels of steel between 11 a.m. and 2 p.m. on Sundays. Entry is free! He’ll be offering up the finest Funk\, Soul\, & Reggae during our Sunday lunch service! Join us for the Funk but stick around for special themed drinks and food specials.
URL:https://downtowndayton.org/event/church-of-funk/2024-10-13/
LOCATION:Oregon Express\, 336 E. 5th Street\, Dayton\, OH\, 45402\, USA
ATTACH;FMTTYPE=image/jpeg:https://downtowndayton.org/wp-content/uploads/2024/05/church.jpg
END:VEVENT
BEGIN:VEVENT
DTSTART;TZID=America/Detroit:20241013T113000
DTEND;TZID=America/Detroit:20241013T123000
DTSTAMP:20260422T205105
CREATED:20240911T175107Z
LAST-MODIFIED:20240911T175107Z
UID:10029604-1728819000-1728822600@downtowndayton.org
SUMMARY:Microgreens Workshop
DESCRIPTION:Join Mark Tarziers\, owner of Dayton Microgreens\, a 2nd Street Market vendor\, as he talks about the benefits of using microgreens in your everyday meal planning. They may be small in size but they are big on nutrition and flavor.  Samples will be provided.
URL:https://downtowndayton.org/event/microgreens-workshop/
LOCATION:2nd Street Market\, 600 E. Second St.\, Dayton\, OH\, 45402\, USA
ATTACH;FMTTYPE=image/jpeg:https://downtowndayton.org/wp-content/uploads/2023/08/2ndstmkt.jpg
END:VEVENT
BEGIN:VEVENT
DTSTART;TZID=America/Detroit:20241013T130000
DTEND;TZID=America/Detroit:20241013T130000
DTSTAMP:20260422T205105
CREATED:20240925T190005Z
LAST-MODIFIED:20240925T190005Z
UID:10029687-1728824400-1728824400@downtowndayton.org
SUMMARY:Hamilton
DESCRIPTION:A revolutionary story of passion\, unstoppable ambition\, and the dawn of a new nation. \nBest ticket availability Tuesday\, October 8-Sunday\, October 13! \nHAMILTON is the epic saga that follows the rise of Founding Father Alexander Hamilton as he fights for honor\, love\, and a legacy that would shape the course of a nation. Based on Ron Chernow’s acclaimed biography and set to a score that blends hip-hop\, jazz\, R&B\, and Broadway\, HAMILTON has had a profound impact on culture\, politics\, and education. HAMILTON features book\, music\, and lyrics by Lin-Manuel Miranda\, direction by Thomas Kail\, choreography by Andy Blankenbuehler\, and musical supervision and orchestrations by Alex Lacamoire. In addition to its 11 Tony Awards®\, it has won a Grammy®\, Olivier Awards\, the Pulitzer Prize for Drama\, and an unprecedented special citation from the Kennedy Center Honors.
URL:https://downtowndayton.org/event/hamilton/2024-10-13/1/
LOCATION:The Benjamin & Marian Schuster Performing Arts Center\, 1 West Second Street\, Dayton\, OH\, 45402
END:VEVENT
BEGIN:VEVENT
DTSTART;TZID=America/Detroit:20241013T130000
DTEND;TZID=America/Detroit:20241013T130000
DTSTAMP:20260422T205105
CREATED:20241007T125531Z
LAST-MODIFIED:20241007T125531Z
UID:10029739-1728824400-1728824400@downtowndayton.org
SUMMARY:DLCA Performance: Heathers The Musical (Teen Edition)
DESCRIPTION:HEATHERS THE MUSICAL (TEEN EDITION) is a dark and hilarious musical adaptation of the ’80s cult classic movie Heathers. This fun and dangerous romp through Westerberg High School follows Veronica Sawyer as her Senior year turns into a dangerous nightmare – with a body count. Watch as she navigates cliques\, sudden popularity\, and a new boyfriend with a dark side. This show is quickly becoming a favorite among teenage and young adult theatre goers. Come join us – it’ll be BIG FUN! \nThere are four performances for this show on Friday\, Saturday\, and Sunday.
URL:https://downtowndayton.org/event/dlca-performance-heathers-the-musical-teen-edition/2024-10-13/
LOCATION:PNC Arts Annex\, 46 N. Ludlow St.\, Dayton\, OH\, 45402
END:VEVENT
BEGIN:VEVENT
DTSTART;TZID=America/Detroit:20241013T140000
DTEND;TZID=America/Detroit:20241013T140000
DTSTAMP:20260422T205105
CREATED:20240829T115410Z
LAST-MODIFIED:20240829T115410Z
UID:10023203-1728828000-1728828000@downtowndayton.org
SUMMARY:Ms. Holmes & Ms. Watson – Apt. 2B
DESCRIPTION:This fast-paced romp re-examines the world’s most famous detective story with a bold new feminist lens. In this highly theatrical escapade\, oddball female roommates Sherlock (yes\, it’s also a girl’s name—wait\, is it a girl’s name? Is it even a name?) Holmes & Joan Watson join forces. They emerge from the pandemic fog as a deeply codependent\, quasi-dysfunctional Odd Couple adventure duo—solving mysteries and kicking butts\, until they come face-to-face with a villain who seems to have all of the answers. \nPrepare for an evening of laughter\, suspense\, and empowerment as ‘Ms. Holmes & Ms. Watson\, Apt. 2B’ takes you on an unforgettable adventure that redefines heroism\, friendship\, and the art of deduction.
URL:https://downtowndayton.org/event/ms-holmes-ms-watson-apt-2b/2024-10-13/
LOCATION:The Human Race Theatre Company\, 126 N. Main St.\, Dayton\, OH\, 45402
ATTACH;FMTTYPE=image/jpeg:https://downtowndayton.org/wp-content/uploads/2024/08/hw.jpg
END:VEVENT
BEGIN:VEVENT
DTSTART;TZID=America/Detroit:20241013T140000
DTEND;TZID=America/Detroit:20241013T140000
DTSTAMP:20260422T205105
CREATED:20240930T124031Z
LAST-MODIFIED:20240930T124100Z
UID:10023504-1728828000-1728828000@downtowndayton.org
SUMMARY:Sinclair College presents Broadway-bound musical\, Alice by Heart
DESCRIPTION:Sinclair Theatre is thrilled to announce the regional debut of Alice by Heart\, a captivating new musical from the Tony and Grammy award-winning creators Steven Sater and Duncan Sheik\, and Jessie Nelson. This groundbreaking production will run in Blair Hall from October 11-19\, 2024\, with performances at 7 p.m. (Oct. 11\, 12\, 15\, 17\, 18\,19) and one Sunday matinee\, Oct. 13\, at 2 p.m.  ASL-interpreted performances are October 13 and 17. Set against the backdrop of the London Blitz during World War II\, Alice by Heart tells the poignant story of Alice Spencer\, whose teenage life is turned upside down when she and her dear friend Alfred are forced to take shelter in an underground tube station. As they navigate the chaos of war\, Alice encourages Alfred\, who is ailing and quarantined\, to escape into their cherished book and embark on an imaginative journey down the rabbit hole to Wonderland. Inspired by Lewis Carroll’s novel\, Alice’s Adventures in Wonderland\, this show is directed by Kimberly Borst. The score is overseen by musical co-directors Lorri Topping and Bryon Dobbs. Jennifer Sydor provides dance choreography; Gary Minyard provides fight choreography; and Dr. Ariadne Calvana serves as the Intimacy Director. This production contains adult themes and mature subject matter; it is not intended for children 13 and under. “Taking on a project this complex and this new is always a risk as there isn’t a history of past productions to inspire a cast of student actors\,” says director\, Kimberly Borst. “But this cast has embraced all the unknowns and created a wonderful\, imaginative\, intriguing\, and beautiful cast of characters that will inspire\, frighten\, and\, at times\, repulse the audience.  Every day I am inspired by their courage and energy as I watch them tackle very difficult music and choreography and make the famous Alice in Wonderland characters their own.  ‘By Heart’ is appropriately in the title because these actors really have given their whole heart to this production\, and THEY are the heart of this production. I can’t imagine a more dedicated cast to tell this story and one that I am honored to work with.” The cast consists of Amelie de la Nuez\, Dominick Griffin\, Fae Bass\, Edward Folkerth\, Courtney Collinsworth\, Valentine Rangel\, Joy Wood\, Emma Smith\, Henry Ballard\, Jorge Melo\, Feather Norman\, and Kailie Gould. The production staff includes Sinclair Theatre alums Sarah Caplan as stage manager and Jessy Henning as lighting designer. Sound design by Dan Brunk and costume design by Maria Fernanda Ortiz Lopez. Where: Sinclair Community College\, Blair Hall Theatre (Building 2)\, 444 W. Third St.\, Dayton Ticket Information:  Adults: $20 Students/Seniors $15 plus $2 service fee. No at-the-door ticket sales. All tickets must be purchased online at: www.sinclair.edu/tickets  This production contains adult themes and mature subject matter; it is not intended for children 13 and under.
URL:https://downtowndayton.org/event/sinclair-college-presents-broadway-bound-musical-alice-by-heart/2024-10-13/
LOCATION:Blair Hall Theatre – Sinclair\, 444 W. Third St.\, Dayton\, OH\, 45402
END:VEVENT
BEGIN:VEVENT
DTSTART;TZID=America/Detroit:20241013T150000
DTEND;TZID=America/Detroit:20241013T150000
DTSTAMP:20260422T205105
CREATED:20241007T125245Z
LAST-MODIFIED:20241007T125245Z
UID:10029732-1728831600-1728831600@downtowndayton.org
SUMMARY:Campaigns\, Inc.
DESCRIPTION:Fake news and dirty tricks are tools of the trade for political consulting firm\, Campaigns\, Inc. Daytonian Will Allan’s new comedy is a jaw-dropping look at the underbelly of politics as the firm constructs the country’s first star-studded smear campaign.
URL:https://downtowndayton.org/event/campaigns-inc/2024-10-13/
LOCATION:Dayton Theatre Guild\, 430 Wayne Avenue\, Dayton\, OH\, 45410\, USA
END:VEVENT
BEGIN:VEVENT
DTSTART;TZID=America/Detroit:20241013T160000
DTEND;TZID=America/Detroit:20241013T170000
DTSTAMP:20260422T205105
CREATED:20240821T190235Z
LAST-MODIFIED:20240821T190235Z
UID:10029541-1728835200-1728838800@downtowndayton.org
SUMMARY:Organ Recital by Joshua Stafford
DESCRIPTION:Organ Recital by Joshua Stafford\, Sunday\, October 13\, 4:00 p.m. – Westminster Presbyterian Church\, 125 N. Wilkinson St.\, downtown Dayton. Open to the public at no charge.
URL:https://downtowndayton.org/event/organ-recital-by-joshua-stafford/
LOCATION:Westminster Presbyterian Church\, 125 N. Wilkinson St.\, Dayton\, OH\, 45402
END:VEVENT
BEGIN:VEVENT
DTSTART;TZID=America/Detroit:20241013T190000
DTEND;TZID=America/Detroit:20241013T190000
DTSTAMP:20260422T205105
CREATED:20240925T190005Z
LAST-MODIFIED:20240925T190005Z
UID:10029688-1728846000-1728846000@downtowndayton.org
SUMMARY:Hamilton
DESCRIPTION:A revolutionary story of passion\, unstoppable ambition\, and the dawn of a new nation. \nBest ticket availability Tuesday\, October 8-Sunday\, October 13! \nHAMILTON is the epic saga that follows the rise of Founding Father Alexander Hamilton as he fights for honor\, love\, and a legacy that would shape the course of a nation. Based on Ron Chernow’s acclaimed biography and set to a score that blends hip-hop\, jazz\, R&B\, and Broadway\, HAMILTON has had a profound impact on culture\, politics\, and education. HAMILTON features book\, music\, and lyrics by Lin-Manuel Miranda\, direction by Thomas Kail\, choreography by Andy Blankenbuehler\, and musical supervision and orchestrations by Alex Lacamoire. In addition to its 11 Tony Awards®\, it has won a Grammy®\, Olivier Awards\, the Pulitzer Prize for Drama\, and an unprecedented special citation from the Kennedy Center Honors.
URL:https://downtowndayton.org/event/hamilton/2024-10-13/2/
LOCATION:The Benjamin & Marian Schuster Performing Arts Center\, 1 West Second Street\, Dayton\, OH\, 45402
END:VEVENT
END:VCALENDAR