BEGIN:VCALENDAR
VERSION:2.0
PRODID:-//Downtown Dayton Partnership - ECPv6.8.1//NONSGML v1.0//EN
CALSCALE:GREGORIAN
METHOD:PUBLISH
X-WR-CALNAME:Downtown Dayton Partnership
X-ORIGINAL-URL:https://downtowndayton.org
X-WR-CALDESC:Events for Downtown Dayton Partnership
REFRESH-INTERVAL;VALUE=DURATION:PT1H
X-Robots-Tag:noindex
X-PUBLISHED-TTL:PT1H
BEGIN:VTIMEZONE
TZID:America/Detroit
BEGIN:DAYLIGHT
TZOFFSETFROM:-0500
TZOFFSETTO:-0400
TZNAME:EDT
DTSTART:20250309T070000
END:DAYLIGHT
BEGIN:STANDARD
TZOFFSETFROM:-0400
TZOFFSETTO:-0500
TZNAME:EST
DTSTART:20251102T060000
END:STANDARD
TZID:America/New_York
BEGIN:DAYLIGHT
TZOFFSETFROM:-0500
TZOFFSETTO:-0400
TZNAME:EDT
DTSTART:20250309T070000
END:DAYLIGHT
BEGIN:STANDARD
TZOFFSETFROM:-0400
TZOFFSETTO:-0500
TZNAME:EST
DTSTART:20251102T060000
END:STANDARD
END:VTIMEZONE
BEGIN:VEVENT
DTSTART;VALUE=DATE:20250222
DTEND;VALUE=DATE:20250223
DTSTAMP:20260424T021824
CREATED:20241107T204120Z
LAST-MODIFIED:20241107T204120Z
UID:10023797-1740182400-1740268799@downtowndayton.org
SUMMARY:Polar Bear Express
DESCRIPTION:Thru Feb. 28 • Polar Bear Express\nRoutes throughout downtown; call for dates\, times\, and cost.\nBook a ride aboard the abominably decorated Pedal Wagon for a 2-hour pedaling adventure through the festive streets of Dayton and to the best bars and restaurants. Reservations required.  pedalwagon.com/dayton. 388-3006.
URL:https://downtowndayton.org/event/polar-bear-express/2025-02-22/
LOCATION:Downtown Dayton
ATTACH;FMTTYPE=image/jpeg:https://downtowndayton.org/wp-content/uploads/2024/11/polar.jpg
END:VEVENT
BEGIN:VEVENT
DTSTART;VALUE=DATE:20250222
DTEND;VALUE=DATE:20250223
DTSTAMP:20260424T021825
CREATED:20241127T142828Z
LAST-MODIFIED:20241127T142828Z
UID:10024042-1740182400-1740268799@downtowndayton.org
SUMMARY:Ice Skating
DESCRIPTION:Sheltered under the covered pavilion\, the MetroParks Ice Rink sets the scene as a perfect winter wonderland in downtown Dayton. While the rink is open\, you can enjoy delicious treats from the concession area\, including a cup of hot chocolate. Take advantage of fun skating activities\, such as lessons\, themed skating nights and more. Visit metroparks.org/ice-rink to learn more\, find daily open hours\, and see a schedule of events. Admission: $7 daily\, ice skate rental: $3 daily. Season passes available. Ages 3 and under are free with a paying adult. 278-2607.
URL:https://downtowndayton.org/event/ice-skating/2025-02-22/
LOCATION:RiverScape MetroPark\, 237 E Monument Ave\, Dayton\, OH\, 45402\, United States
ATTACH;FMTTYPE=image/jpeg:https://downtowndayton.org/wp-content/uploads/2024/11/iceskate.jpg
END:VEVENT
BEGIN:VEVENT
DTSTART;VALUE=DATE:20250222
DTEND;VALUE=DATE:20250223
DTSTAMP:20260424T021825
CREATED:20250107T131516Z
LAST-MODIFIED:20250107T131843Z
UID:10030162-1740182400-1740268799@downtowndayton.org
SUMMARY:Susan B. Byrnes: Lightness and Weight
DESCRIPTION:A groundbreaking exploration of the paradoxes inherent in the human experience drawing from themes in Milan Kundera’s novel\, “The Unbearable Lightness of Being\,” Lightness & Weight will feature three new sound and sculptural installations that explore the complexities and dualities of the human condition. The exhibition will include a variety of non-traditional materials including cast iron\, tulle\, artificial hair\, glass\, smoke\, video\, and sound. Byrnes\, a sculptor and audio producer who most often uses her work to challenge and reflect on the burdens of sexism and the resilience of the female body\, will launch a companion podcast series featuring interviews with women artists across various media and backgrounds. Created through a new partnership between The Co and WYSO 91.3 FM\, the flagship National Public Radio (NPR) member station for the region\, the podcast will provide an important platform for female voices in the arts\, fostering dialogue and community engagement. Byrnes is a Cincinnati-based visual artist whose diverse body of work spans sculpture\, multimedia installation\, radio broadcasts\, writing\, and curatorial projects. Her work has been exhibited in galleries and museums across the Midwest\, including the Korean Cultural Center of Chicago\, the Dayton Art Institute\, and the Weston Gallery\, Cincinnati. OPENING NIGHT / JAN 17\, 2025 Members Preview with the Artist 5-6 pm / Public Reception 6-8 pm
URL:https://downtowndayton.org/event/susan-b-byrnes-lightness-and-weight/2025-02-22/
LOCATION:The Contemporary Dayton\, 25 W. Fourth St.\, Dayton\, OH\, 45402\, United States
ATTACH;FMTTYPE=image/jpeg:https://downtowndayton.org/wp-content/uploads/2025/01/byrnes.jpg
END:VEVENT
BEGIN:VEVENT
DTSTART;VALUE=DATE:20250222
DTEND;VALUE=DATE:20250223
DTSTAMP:20260424T021825
CREATED:20250107T131806Z
LAST-MODIFIED:20250107T131806Z
UID:10030212-1740182400-1740268799@downtowndayton.org
SUMMARY:A Zachary Armstrong Curatorial Project
DESCRIPTION:Intricate. Intimate. From the heart. The Co presents the reveal of a new project by Zachary Armstrong—an enigmatic force whose work features the ritualistic repetition of symbols and motifs rooted in recollections of his childhood and family\, of people and places\, of rural Midwest Americana. While the details remain under wraps\, we promise a love letter to technical innovation\, imagination and memory as a means of connecting. Armstrong lives and works in Dayton\, Ohio. Recent solo exhibitions include GNYP Gallery\, Antwerp\, Belgium (2023); Tilton Gallery\, New York\, NY (2022\, 2018\, 2016); Faurschou Foundation\, New York\, NY/Beijing\, China (2022\, 2021); and The Contemporary\, Dayton\, OH (2021); among others. FRIENDS & FAMILY RECEPTION / Jan 3\, 2025 / 6-8 pm OPENING NIGHT / Jan 17\, 2025 / 6-8 pm
URL:https://downtowndayton.org/event/a-zachary-armstrong-curatorial-project/2025-02-22/
LOCATION:The Contemporary Dayton\, 25 W. Fourth St.\, Dayton\, OH\, 45402\, United States
ATTACH;FMTTYPE=image/jpeg:https://downtowndayton.org/wp-content/uploads/2025/01/az.jpg
END:VEVENT
BEGIN:VEVENT
DTSTART;TZID=America/New_York:20250222T110000
DTEND;TZID=America/New_York:20250222T160000
DTSTAMP:20260424T021825
CREATED:20250219T181518Z
LAST-MODIFIED:20250219T181518Z
UID:10030409-1740222000-1740240000@downtowndayton.org
SUMMARY:Community Open Skate
DESCRIPTION:Community Open Skate\n11:00am – 4:00pm \nAGE: All ages | FREE\nYour Five Rivers MetroParks loves its community – we quite literally couldn’t do all we do without you! So\, we’ve planned a special free Community Open Skate at the MetroParks Ice Rink on Saturday\, Feb. 22\, from 11 a.m. to 4 p.m. as a way to show some love to all our wonderful park goers and supporters before we say farewell to the 2024-25 skating season. Before you head to RiverScape MetroPark to hit the ice\, make sure you know before you go: Skates may be borrowed\, but are available in limited quantity and sizes and given out on a first-come\, first-served basis. Some guests may have to wait before skates become available. Upon arrival\, please review the MetroParks Ice Rink’s rules – this is how we keep people safe on the ice! The RiverScape Cafe will be open and cozy drinks and snacks will be available for purchase. This event is weather dependent and may be cancelled due to unseasonably warm or inclement weather. Weather Dependent.
URL:https://downtowndayton.org/event/community-open-skate/
LOCATION:RiverScape MetroPark\, 237 E Monument Ave\, Dayton\, OH\, 45402\, United States
ATTACH;FMTTYPE=image/jpeg:https://downtowndayton.org/wp-content/uploads/2023/11/riverscape.jpg
END:VEVENT
BEGIN:VEVENT
DTSTART;TZID=America/New_York:20250222T130000
DTEND;TZID=America/New_York:20250222T130000
DTSTAMP:20260424T021825
CREATED:20250219T181847Z
LAST-MODIFIED:20250219T181847Z
UID:10030413-1740229200-1740229200@downtowndayton.org
SUMMARY:The Gruffalo’s Child
DESCRIPTION:Follow the Gruffalo’s Child on her adventurous mission in London’s Tall Stories Theatre company’s enchanting adaptation of the much-loved picture book by Julia Donaldson and Axel Scheffler. One wild and windy night\, the Gruffalo’s Child ignores her father’s warnings about the Big Bad Mouse and tiptoes out into the night. She follows snowy tracks and encounters all sorts of woodland creatures\, including a debonair snake\, an eccentric owl\, and a cunning fox. But the Big Bad Mouse doesn’t really exist\, does he? Join the Gruffalo’s Child on her brave adventure and let your imagination run wild with songs\, laughs and scary fun for everyone!
URL:https://downtowndayton.org/event/the-gruffalos-child/2025-02-22/1/
LOCATION:Victoria Theatre\, 138 N. Main St.\, Dayton\, OH\, 45402\, United States
ATTACH;FMTTYPE=image/jpeg:https://downtowndayton.org/wp-content/uploads/2025/02/gruf.jpg
END:VEVENT
BEGIN:VEVENT
DTSTART;TZID=America/New_York:20250222T130000
DTEND;TZID=America/New_York:20250222T160000
DTSTAMP:20260424T021825
CREATED:20250213T135109Z
LAST-MODIFIED:20250213T135109Z
UID:10030293-1740229200-1740240000@downtowndayton.org
SUMMARY:Brown Hands\, Black Schools HBCUs Film
DESCRIPTION:Brown Hands\, Black Schools HBCUs Film\, Saturday\, February 22\, 1-4 pm\, Main Library\, Bassani Theater Off Third\, 3rd Floor: Celebrate Black History Month and literacy with a special screening of the film Brown Hands\, Black Schools HBCUs\, based on the book\, Brown Hands\, Black Schools by Latoya Turner. This animated 16-minute short has live-action scenes highlighting the history of historically Black colleges and universities (HBCUs) and the importance of literacy. Patrons will also participate in literacy activities\, have a red-carpet experience\, meet the cast\, take part in a Q&A session\, and enjoy a storytime with Latoya Turner. (All Ages)
URL:https://downtowndayton.org/event/brown-hands-black-schools-hbcus-film/
LOCATION:Dayton Metro Library – Main Library\, 215 E. Third Street\, Dayton\, OH\, 45402
ATTACH;FMTTYPE=image/jpeg:https://downtowndayton.org/wp-content/uploads/2023/08/dml.jpg
END:VEVENT
BEGIN:VEVENT
DTSTART;TZID=America/New_York:20250222T130000
DTEND;TZID=America/New_York:20250222T170000
DTSTAMP:20260424T021825
CREATED:20250213T145419Z
LAST-MODIFIED:20250213T145419Z
UID:10030372-1740229200-1740243600@downtowndayton.org
SUMMARY:Girl Scout Cookie Pop-Up
DESCRIPTION:Join us as we host one of favorite little hustlers\, Margot\, as she sets up shop and slings everyone’s favorite once-a-year treat\, Girl Scout Cookies. She’ll be posted up 1-5pm on Saturday\, February 22nd.\nCome stock up!
URL:https://downtowndayton.org/event/girl-scout-cookie-pop-up-2/
LOCATION:The Barrel House\, 417 E. Third St.\, Dayton\, OH\, 45402\, United States
ATTACH;FMTTYPE=image/jpeg:https://downtowndayton.org/wp-content/uploads/2025/02/475641287_1018774090280421_2184614173686288341_n.jpg
END:VEVENT
BEGIN:VEVENT
DTSTART;TZID=America/New_York:20250222T160000
DTEND;TZID=America/New_York:20250222T160000
DTSTAMP:20260424T021825
CREATED:20250219T181847Z
LAST-MODIFIED:20250219T181847Z
UID:10030414-1740240000-1740240000@downtowndayton.org
SUMMARY:The Gruffalo’s Child
DESCRIPTION:Follow the Gruffalo’s Child on her adventurous mission in London’s Tall Stories Theatre company’s enchanting adaptation of the much-loved picture book by Julia Donaldson and Axel Scheffler. One wild and windy night\, the Gruffalo’s Child ignores her father’s warnings about the Big Bad Mouse and tiptoes out into the night. She follows snowy tracks and encounters all sorts of woodland creatures\, including a debonair snake\, an eccentric owl\, and a cunning fox. But the Big Bad Mouse doesn’t really exist\, does he? Join the Gruffalo’s Child on her brave adventure and let your imagination run wild with songs\, laughs and scary fun for everyone!
URL:https://downtowndayton.org/event/the-gruffalos-child/2025-02-22/2/
LOCATION:Victoria Theatre\, 138 N. Main St.\, Dayton\, OH\, 45402\, United States
ATTACH;FMTTYPE=image/jpeg:https://downtowndayton.org/wp-content/uploads/2025/02/gruf.jpg
END:VEVENT
BEGIN:VEVENT
DTSTART;TZID=America/New_York:20250222T193000
DTEND;TZID=America/New_York:20250222T193000
DTSTAMP:20260424T021825
CREATED:20250219T182016Z
LAST-MODIFIED:20250219T182016Z
UID:10030416-1740252600-1740252600@downtowndayton.org
SUMMARY:Hollywood Hits
DESCRIPTION:Grab some popcorn and enjoy the sounds of the Philharmonic as they present selections of the most majestic and beautiful music written for some of the world’s greatest films! Experience the thrill of blockbuster movie themes from Gone With The Wind\, The Magnificent Seven\, Dr. Zhivago\, Lawrence Of Arabia\, James Bond\, The Pink Panther\, Breakfast At Tiffany’s\, Dances With Wolves\, Ben-Hur\, and many more! The DPO is the star of this memorable evening of iconic and beloved film music classics!
URL:https://downtowndayton.org/event/hollywood-hits/
LOCATION:The Benjamin & Marian Schuster Performing Arts Center\, 1 West Second Street\, Dayton\, OH\, 45402
ATTACH;FMTTYPE=image/jpeg:https://downtowndayton.org/wp-content/uploads/2025/02/hol.jpg
END:VEVENT
END:VCALENDAR