BEGIN:VCALENDAR
VERSION:2.0
PRODID:-//Downtown Dayton Partnership - ECPv6.8.1//NONSGML v1.0//EN
CALSCALE:GREGORIAN
METHOD:PUBLISH
X-ORIGINAL-URL:https://downtowndayton.org
X-WR-CALDESC:Events for Downtown Dayton Partnership
REFRESH-INTERVAL;VALUE=DURATION:PT1H
X-Robots-Tag:noindex
X-PUBLISHED-TTL:PT1H
BEGIN:VTIMEZONE
TZID:America/New_York
BEGIN:DAYLIGHT
TZOFFSETFROM:-0500
TZOFFSETTO:-0400
TZNAME:EDT
DTSTART:20250309T070000
END:DAYLIGHT
BEGIN:STANDARD
TZOFFSETFROM:-0400
TZOFFSETTO:-0500
TZNAME:EST
DTSTART:20251102T060000
END:STANDARD
END:VTIMEZONE
BEGIN:VEVENT
DTSTART;VALUE=DATE:20250323
DTEND;VALUE=DATE:20250324
DTSTAMP:20260424T005406
CREATED:20250311T120901Z
LAST-MODIFIED:20250311T120901Z
UID:10030886-1742688000-1742774399@downtowndayton.org
SUMMARY:Exhibit: Jamie Wyeth: Unsettled
DESCRIPTION:March 15–June 8\, 2025 \nA distinguished figure in contemporary art\, Jamie Wyeth is recognized for his fiercely independent\, realistic approach to art. This exhibition follows Wyeth’s entire career and looks at a specifically darker thread within his oeuvre of troubling and unnerving imagery. Unsettled is divided into three distinct sections: “Strangers and Specters;” “Natural and Supernatural Worlds;” and “Haunted Places and Disturbing Spaces.” Drawn from museums and private collections from across the country\, the DAI is the exclusive Ohio venue and the final stop for this major traveling exhibition. Organized by the Brandywine Museum of Art.
URL:https://downtowndayton.org/event/exhibit-jamie-wyeth-unsettled/2025-03-23/
LOCATION:The Dayton Art Institute\, 456 Belmonte Park N\, Dayton\, OH\, 45405\, United States
ATTACH;FMTTYPE=image/jpeg:https://downtowndayton.org/wp-content/uploads/2025/03/wyeth.jpg
END:VEVENT
BEGIN:VEVENT
DTSTART;TZID=America/New_York:20250323T140000
DTEND;TZID=America/New_York:20250323T140000
DTSTAMP:20260424T005406
CREATED:20250311T121542Z
LAST-MODIFIED:20250311T121542Z
UID:10030943-1742738400-1742738400@downtowndayton.org
SUMMARY:Skinner Pipe Organ Concert
DESCRIPTION:Hear the museum’s restored Skinner pipe organ and see the beautifully renovated Mimi and Stuart Rose Auditorium. Matt Dierking from the Dayton Chapter of the American Guild of Organists will perform at 2 p.m. Free to members; included in museum general admission for non-members.
URL:https://downtowndayton.org/event/skinner-pipe-organ-concert/2025-03-23/
LOCATION:The Dayton Art Institute\, 456 Belmonte Park N\, Dayton\, OH\, 45405\, United States
ATTACH;FMTTYPE=image/jpeg:https://downtowndayton.org/wp-content/uploads/2025/03/skinner.jpg
END:VEVENT
END:VCALENDAR