BEGIN:VCALENDAR
VERSION:2.0
PRODID:-//Downtown Dayton Partnership - ECPv6.8.1//NONSGML v1.0//EN
CALSCALE:GREGORIAN
METHOD:PUBLISH
X-WR-CALNAME:Downtown Dayton Partnership
X-ORIGINAL-URL:https://downtowndayton.org
X-WR-CALDESC:Events for Downtown Dayton Partnership
REFRESH-INTERVAL;VALUE=DURATION:PT1H
X-Robots-Tag:noindex
X-PUBLISHED-TTL:PT1H
BEGIN:VTIMEZONE
TZID:America/New_York
BEGIN:DAYLIGHT
TZOFFSETFROM:-0500
TZOFFSETTO:-0400
TZNAME:EDT
DTSTART:20250309T070000
END:DAYLIGHT
BEGIN:STANDARD
TZOFFSETFROM:-0400
TZOFFSETTO:-0500
TZNAME:EST
DTSTART:20251102T060000
END:STANDARD
END:VTIMEZONE
BEGIN:VEVENT
DTSTART;TZID=America/New_York:20250516T110000
DTEND;TZID=America/New_York:20250823T180000
DTSTAMP:20260424T021825
CREATED:20250417T192501Z
LAST-MODIFIED:20250417T192501Z
UID:10033134-1747393200-1755972000@downtowndayton.org
SUMMARY:Exhibit: Laura Sanders: Force of Nature
DESCRIPTION:The Contemporary Dayton is proud to present a mid-career survey of work by Laura Sanders\, an artist whose lush\, photorealistic oil paintings of women and girls immersed in natural environments merge the genres of landscape and figurative work. Her subject matter considers the complex realities of women venturing beyond perceived safe places\, as well as environmental concerns and the effects of consumerism. Another theme evident in this exhibition is the passage of time\, as depicted in the portraits of her model\, her daughter Elena\, from a young child to an adult woman. \nLaura Sanders is a Columbus-based artist who also maintains a studio in New York. She is a graduate of the Columbus College of Art and Design. Her work has been exhibited at Marianne Boesky Gallery\, New York\, NY and Nino Meier Gallery\, Los Angeles\, CA and is in the permanent collection of the Columbus Museum of Art and the Beth Rudin DeWoody Collection\, West Palm Beach\, FL\, as well as many other public and private collections. \nIn conjunction with the exhibition\, The Co will produce a catalogue with an essay by Heather Jones. Both the catalogue and a selection of prints by the artist will be available for purchase in The CoSHOP Pop-up Print Shop.
URL:https://downtowndayton.org/event/exhibit-laura-sanders-force-of-nature/2025-05-16/2/
LOCATION:The Contemporary Dayton\, 25 W. Fourth St.\, Dayton\, OH\, 45402\, United States
CATEGORIES:Arts & Theater,Free Events,Visual Art
ATTACH;FMTTYPE=image/jpeg:https://downtowndayton.org/wp-content/uploads/2025/04/Hero-Image_Sanders_Cloud-Formation-2024-scaled-e1744917802339.jpg
END:VEVENT
BEGIN:VEVENT
DTSTART;TZID=America/New_York:20250516T110000
DTEND;TZID=America/New_York:20250823T180000
DTSTAMP:20260424T021825
CREATED:20250417T192729Z
LAST-MODIFIED:20250417T192729Z
UID:10033135-1747393200-1755972000@downtowndayton.org
SUMMARY:Exhibit: Erin Holscher Almazan: What These Arms Hold
DESCRIPTION:The Contemporary Dayton is proud to present a new body of work by Erin Holscher Almazan. In these gestural oil paintings\, Holscher Almazan examines the physical and emotional changes that naturally occur between a mother and her children\, while reckoning with the fact that as her sons grow older\, they also become more independent. In this series\, she navigates this emotional space of attachment and detachment\, of holding and letting go\, through the use of color with an emphasis on hands and touch. \nErin Holscher Almazan is a Professor of Drawing and Printmaking at the University of Dayton. A native of North Dakota\, she received a BFA in Fine Arts from Minnesota State University Moorhead and an MFA from Rochester Institute of Technology. She resides in Dayton with her husband and two sons. In conjunction with the exhibition\, a selection of prints by the artist will be available for purchase in The CoSHOP Pop-up Print Shop.
URL:https://downtowndayton.org/event/exhibit-erin-holscher-almazan-what-these-arms-hold/
LOCATION:The Contemporary Dayton\, 25 W. Fourth St.\, Dayton\, OH\, 45402\, United States
CATEGORIES:Arts & Theater,Community,Free Events,Visual Art
ATTACH;FMTTYPE=image/jpeg:https://downtowndayton.org/wp-content/uploads/2025/04/Hero-Image_Erin-Holscher-Almazan_AdamSleeping_40x26_oli-stick-and-oli-paint-on-paper_2025-scaled-e1744918043525.jpg
END:VEVENT
BEGIN:VEVENT
DTSTART;TZID=America/New_York:20250516T110000
DTEND;TZID=America/New_York:20250823T180000
DTSTAMP:20260424T021825
CREATED:20250417T192948Z
LAST-MODIFIED:20250417T192948Z
UID:10033136-1747393200-1755972000@downtowndayton.org
SUMMARY:Exhibit: Christine Gaffney: Well-Balanced
DESCRIPTION:The Contemporary Dayton is proud to present a solo exhibition of the work of interdisciplinary artist Christine Gaffney. Her sculpture and videos act as intimate self-portraits and reflections on her psyche and the dualities of female identities. Gaffney portrays the dichotomy of what we present to the public versus what we keep to ourselves\, often employing her own body as a sculptural object to express agency and to collapse the relationship between object and maker. \nGaffney is an interdisciplinary artist from Dayton\, Ohio. She holds an MFA from California Institute of the Arts where she studied Art and Technology and Integrated Media. Gaffney also studied Fine Art at Pratt Institute and the Columbus College of Art and Design. She earned a Master’s Degree in Library and Information Science from the University of Pittsburgh. Her practice embraces ideas around body image\, body politics\, feminism\, and disability justice.
URL:https://downtowndayton.org/event/exhibit-christine-gaffney-well-balanced/
LOCATION:The Contemporary Dayton\, 25 W. Fourth St.\, Dayton\, OH\, 45402\, United States
CATEGORIES:Arts & Theater,Community,Free Events,Visual Art
ATTACH;FMTTYPE=image/jpeg:https://downtowndayton.org/wp-content/uploads/2025/04/Hero-Image_Gaffney_Christine_Layers-and-Layers-of-Cake_Performance-Art.jpg
END:VEVENT
BEGIN:VEVENT
DTSTART;TZID=America/New_York:20250711T180000
DTEND;TZID=America/New_York:20250911T200000
DTSTAMP:20260424T021825
CREATED:20250626T134251Z
LAST-MODIFIED:20250626T134251Z
UID:10038878-1752256800-1757620800@downtowndayton.org
SUMMARY:Living Color – Closing Celebration
DESCRIPTION:Come enjoy the artwork and the vibe during the Closing Celebration for the group art exhibition “Living Color”. Lite refreshments served and music by Isicle. Artist participating in this group exhibition include: Julio Antonio Pino Varens Michael Surber Ron Rollins Hadley Rodebeck Tobi Ewing April Sunami Evelyn ‘Hadeev’ Hargrove Zuri Ali Cedric Michael Cox Shon Curtis Alisa H. Workman
URL:https://downtowndayton.org/event/living-color-closing-celebration/
LOCATION:Edward A. Dixon Gallery\, 222 N. St. Clair St.\, Dayton\, OH\, 45402
CATEGORIES:Arts & Theater,Free Events,Visual Art
ATTACH;FMTTYPE=image/jpeg:https://downtowndayton.org/wp-content/uploads/2025/06/Untitled-design-15.jpg
END:VEVENT
BEGIN:VEVENT
DTSTART;VALUE=DATE:20250811
DTEND;VALUE=DATE:20250812
DTSTAMP:20260424T021825
CREATED:20250617T123507Z
LAST-MODIFIED:20250813T175359Z
UID:10038193-1754870400-1754956799@downtowndayton.org
SUMMARY:Heidi Brueckner and Jennifer Scheuer Exhibits
DESCRIPTION:The Sinclair Community College Art Department is pleased to present work by Heidi Brueckner and Jennifer Scheuer in the Burnell R. Roberts Triangle Gallery and Works on Paper Gallery. Inspired by observing others as a way to understand ourselves\, Brueckner creates intricate portraits filled with color\, pattern\, texture\, and a variety of recycled materials. These works produce narratives which explore personage through self-presentation\, facial expressions\, and gesture. They inspect the under-revered and appreciate the subject’s presence and dignity\, not only honoring the individual\, but the earth and humanity as a whole. Scheuer addresses ideas of healing\, the body\, plants\, and the history of medicine through printmaking. Much of her work responds to the historical idea of the Doctrine of Signatures\, which suggests visual or sensory properties of plants correlate to healing properties. Additionally\, she explores sequential imagery\, narrative complexity\, and play through artist books with their interactive\, sculptural\, and time-based qualities. There will be a virtual artist talk via Zoom on Thursday\, August 7\, 2025\, at 12pm. Visit www.sinclair.edu/artgalleries for details. The exhibitions will be on display from July 1–August 9\, 2025. Galleries are located on the fourth floor of building 13 (located at West Fifth and Perry Streets). The galleries are free and open to the public from 8am–6pm Monday–Friday and 9am–12pm Saturdays.
URL:https://downtowndayton.org/event/heidi-brueckner-and-jennifer-scheuer-exhibits/2025-08-11/
LOCATION:Galleries at Sinclair College\, 444 W. Third St.\, Bldg. 13\, Dayton\, OH\, 45402
ATTACH;FMTTYPE=image/jpeg:https://downtowndayton.org/wp-content/uploads/2025/06/sinc.jpg
END:VEVENT
BEGIN:VEVENT
DTSTART;VALUE=DATE:20250811
DTEND;VALUE=DATE:20250812
DTSTAMP:20260424T021825
CREATED:20250729T151826Z
LAST-MODIFIED:20250729T151826Z
UID:10039040-1754870400-1754956799@downtowndayton.org
SUMMARY:Art in the City Juried Art Show
DESCRIPTION:Starting on August 1\, you can vote for your favorite piece of artwork submitted by local artists. These pieces will be displayed in the newly renovated Dayton Convention Center\, as part of the AES Ohio Summer in the City – Art in the City event. Voting will be open until noon on Friday\, Aug. 15 via Dayton.com. \nArt in the City is a program of the Downtown Dayton Partnership\, and the Juried Art Show is organized by the Dayton Society of Artists.
URL:https://downtowndayton.org/event/art-in-the-city-juried-art-show-3/2025-08-11/
LOCATION:Dayton Convention Center\, 22 East 5th Street\, Dayton\, OH\, 45402\, United States
ATTACH;FMTTYPE=image/jpeg:https://downtowndayton.org/wp-content/uploads/2025/07/aitcjuried.jpg
END:VEVENT
BEGIN:VEVENT
DTSTART;VALUE=DATE:20250811
DTEND;VALUE=DATE:20250812
DTSTAMP:20260424T021825
CREATED:20250807T123955Z
LAST-MODIFIED:20250828T115801Z
UID:10039122-1754870400-1754956799@downtowndayton.org
SUMMARY:Harmonies Music Boxes
DESCRIPTION:The Downtown Dayton Partnership and Le Monde Studios are excited to present Harmonies\, a multi-location public art installation on view for the entire month of August 2025. These larger-than-life\, interactive art installations will celebrate Dayton’s creative spirit and stop people in their tracks. Four musical instruments\, powered by green technology\, come alive with local music and lights at the turn of a hand crank. See a banjo on Courthouse Square\, a guitar at Levitt Pavilion\, a harp at the Convention Center\, and a treble clef in the Oregon District at the Seed of Life Plaza. This is more than a photo-op; it’s a moment of magic in the middle of an ordinary day. Presenting sponsor: PNC. Supporting sponsors: Bob Ross Auto Group and Grunder Landscaping Co.
URL:https://downtowndayton.org/event/harmonies-music-boxes/2025-08-11/
LOCATION:Downtown Dayton
ATTACH;FMTTYPE=image/png:https://downtowndayton.org/wp-content/uploads/2025/08/unnamed.png
END:VEVENT
BEGIN:VEVENT
DTSTART;TZID=America/New_York:20250811T173000
DTEND;TZID=America/New_York:20250811T183000
DTSTAMP:20260424T021825
CREATED:20250806T185156Z
LAST-MODIFIED:20250806T185156Z
UID:10039116-1754933400-1754937000@downtowndayton.org
SUMMARY:LGBTQIA+ Book Club
DESCRIPTION:A book discussion group open to adults who are interested in reading and discussing a diverse range of fiction and nonfiction books featuring LGBTQIA+ characters and/or themes. Our August book is Better Living Through Birding by Christian Cooper.
URL:https://downtowndayton.org/event/lgbtqia-book-club-5/
LOCATION:Dayton Metro Library – Main Library\, 215 E. Third Street\, Dayton\, OH\, 45402
ATTACH;FMTTYPE=image/jpeg:https://downtowndayton.org/wp-content/uploads/2023/08/dml.jpg
END:VEVENT
BEGIN:VEVENT
DTSTART;TZID=America/New_York:20250811T180000
DTEND;TZID=America/New_York:20250811T190000
DTSTAMP:20260424T021825
CREATED:20250806T183452Z
LAST-MODIFIED:20250806T183452Z
UID:10039106-1754935200-1754938800@downtowndayton.org
SUMMARY:Yoga with Aleasha
DESCRIPTION:Part of RiverScape Community Fitness series \nYoga with Aleasha\n6:00pm – 7:00pm \nAGE: All ages | FREE\n\nYoga with Aleasha will lead you in an all-levels yoga flow. If you’re a beginner\, she will guide you through modifications to ensure you are comfortable to help you to become more familiar with poses. If you’re experienced\, she will help grow your current practice. This class is truly for everyone! Weather Dependent. \nFocus on wellness while spending time in nature. Enjoy a variety of free and effective workouts at RiverScape MetroPark.
URL:https://downtowndayton.org/event/yoga-with-aleasha-2/
LOCATION:RiverScape MetroPark\, 237 E Monument Ave\, Dayton\, OH\, 45402\, United States
ATTACH;FMTTYPE=image/jpeg:https://downtowndayton.org/wp-content/uploads/2025/08/526701757_1154443740048601_7495297009258380807_n.jpg
END:VEVENT
BEGIN:VEVENT
DTSTART;TZID=America/New_York:20250811T180000
DTEND;TZID=America/New_York:20250811T193000
DTSTAMP:20260424T021825
CREATED:20250806T183613Z
LAST-MODIFIED:20250806T183613Z
UID:10039107-1754935200-1754940600@downtowndayton.org
SUMMARY:Bootcamp
DESCRIPTION:Part of RiverScape Community Fitness series \nBootcamp\n6:00pm – 7:30pm \nAGE: All ages | FREE\n\nJoin The Unit for an exciting bootcamp workout that will take you through RiverScape in a whole new way. Whether you’re running the stairs\, doing push ups near the reflecting pools\, or stretching along the levee\, this effective workout will keep you moving. Combined with the uplifting support of the community members that make up The Unit\, this is a workout you will want to make part of your weekly routine. All fitness levels welcome and encouraged! Weather Dependent. \nFocus on wellness while spending time in nature. Enjoy a variety of free and effective workouts at RiverScape MetroPark.
URL:https://downtowndayton.org/event/bootcamp-4/2025-08-11/
LOCATION:RiverScape MetroPark\, 237 E Monument Ave\, Dayton\, OH\, 45402\, United States
ATTACH;FMTTYPE=image/jpeg:https://downtowndayton.org/wp-content/uploads/2025/08/526768811_1154435006716141_5644326018264558875_n.jpg
END:VEVENT
END:VCALENDAR