BEGIN:VCALENDAR
VERSION:2.0
PRODID:-//Downtown Dayton Partnership - ECPv6.8.1//NONSGML v1.0//EN
CALSCALE:GREGORIAN
METHOD:PUBLISH
X-ORIGINAL-URL:https://downtowndayton.org
X-WR-CALDESC:Events for Downtown Dayton Partnership
REFRESH-INTERVAL;VALUE=DURATION:PT1H
X-Robots-Tag:noindex
X-PUBLISHED-TTL:PT1H
BEGIN:VTIMEZONE
TZID:America/New_York
BEGIN:DAYLIGHT
TZOFFSETFROM:-0500
TZOFFSETTO:-0400
TZNAME:EDT
DTSTART:20250309T070000
END:DAYLIGHT
BEGIN:STANDARD
TZOFFSETFROM:-0400
TZOFFSETTO:-0500
TZNAME:EST
DTSTART:20251102T060000
END:STANDARD
END:VTIMEZONE
BEGIN:VEVENT
DTSTART;VALUE=DATE:20250921
DTEND;VALUE=DATE:20250922
DTSTAMP:20260419T160651
CREATED:20250528T121344Z
LAST-MODIFIED:20250528T121344Z
UID:10037104-1758412800-1758499199@downtowndayton.org
SUMMARY:Vinyl Vinyl Sundays
DESCRIPTION:Sunday – Vinyl Vinyl Sunday – bring your records\, we’ll play ’em
URL:https://downtowndayton.org/event/vinyl-vinyl-sundays/2025-09-21/
LOCATION:The Barrel House\, 417 E. Third St.\, Dayton\, OH\, 45402\, United States
ATTACH;FMTTYPE=image/jpeg:https://downtowndayton.org/wp-content/uploads/2025/05/bhvvs.jpg
END:VEVENT
BEGIN:VEVENT
DTSTART;VALUE=DATE:20250921
DTEND;VALUE=DATE:20250922
DTSTAMP:20260419T160651
CREATED:20250729T130830Z
LAST-MODIFIED:20250729T130830Z
UID:10039012-1758412800-1758499199@downtowndayton.org
SUMMARY:We’re Doing It ALL Wrong® – 5th Annual Art Exhibition
DESCRIPTION:This year’s exhibition features over 40 artworks from around the United States. See more at weredoingitallwrong.com. The exhibition was juried by Artist/Activist Devan Horton (Kentucky) and Gallery Owner Ed Dixon.
URL:https://downtowndayton.org/event/were-doing-it-all-wrong-5th-annual-art-exhibition/2025-09-21/
LOCATION:Edward A. Dixon Gallery\, 222 N. St. Clair St.\, Dayton\, OH\, 45402
ATTACH;FMTTYPE=image/jpeg:https://downtowndayton.org/wp-content/uploads/2025/07/wdiaw.jpg
END:VEVENT
BEGIN:VEVENT
DTSTART;TZID=America/New_York:20250921T093000
DTEND;TZID=America/New_York:20250921T130000
DTSTAMP:20260419T160651
CREATED:20250505T131642Z
LAST-MODIFIED:20250505T131642Z
UID:10035375-1758447000-1758459600@downtowndayton.org
SUMMARY:Walk ALS – Dayton
DESCRIPTION:Walk ALS Walk ALS is the number one way to unite and fundraise for those living with ALS. Each year\, fundraising through the Walk drives bold and urgent innovation as we march together toward a cure for ALS. Your participation\, commitment\, and fundraising efforts are key to helping ensure that the ALS community continues to receive the highest quality of care. You help fund cutting-edge research\, provide continuity of patient care\, and support advocacy efforts on behalf of the ALS community.  https://alsohio.org/walkals/
URL:https://downtowndayton.org/event/walk-als-dayton/
LOCATION:Day Air Ballpark\, 220 North Patterson Blvd.\, Dayton\, OH\, 45402
ATTACH;FMTTYPE=image/jpeg:https://downtowndayton.org/wp-content/uploads/2025/05/walkals.jpg
END:VEVENT
BEGIN:VEVENT
DTSTART;TZID=America/New_York:20250921T110000
DTEND;TZID=America/New_York:20250921T180000
DTSTAMP:20260419T160651
CREATED:20250909T130155Z
LAST-MODIFIED:20250909T130155Z
UID:10039763-1758452400-1758477600@downtowndayton.org
SUMMARY:Pickle Fest 2025
DESCRIPTION:We’re celebrating the 12 years of The Dayton Food Truck Rallies with specialty food fests all year long!\nJoin us for a ton of incredible pickles and more all from some amazing food trucks at The Brightside on Sunday\, Sept 21st from 11am to 6pm!\nEntry is always FREE to our family friendly food festivals!\nWith tons of vendors serving Pickles and thematic items in addition to their standard menu favorites\, this will be a foodie event that you will not want to miss!\nVendors:Steaks and CakesNew Orleans Grill Bourbon chickenThe Food PittRennys HennysBarking BurgerDunkers And BeansBatter Up ConcessionsPop’s World Famous Dawg HouseFreakin’ RicanTortillaWannabe TacosTuesdays TacosYummy GyroSchmidtsNaughty LobstahChilders’ Chimney CakesCloudy Days Cotton CandyBilly Gold Bubble TeaThe Beanhive Coffee Co\n*Please note: Food truck lineup is subject to changeOur beer garden patio indoor seating at The Brightside will be open for everyone to hang out in during the festival!
URL:https://downtowndayton.org/event/pickle-fest-2025/
LOCATION:The Brightside\, 905 E. Third St.\, Dayton\, OH\, 45402
ATTACH;FMTTYPE=image/jpeg:https://downtowndayton.org/wp-content/uploads/2025/09/pickle.jpg
END:VEVENT
BEGIN:VEVENT
DTSTART;TZID=America/New_York:20250921T140000
DTEND;TZID=America/New_York:20250921T140000
DTSTAMP:20260419T160651
CREATED:20250311T121542Z
LAST-MODIFIED:20250311T121542Z
UID:10030954-1758463200-1758463200@downtowndayton.org
SUMMARY:Skinner Pipe Organ Concert
DESCRIPTION:Hear the museum’s restored Skinner pipe organ and see the beautifully renovated Mimi and Stuart Rose Auditorium. Matt Dierking from the Dayton Chapter of the American Guild of Organists will perform at 2 p.m. Free to members; included in museum general admission for non-members.
URL:https://downtowndayton.org/event/skinner-pipe-organ-concert/2025-09-21/
LOCATION:The Dayton Art Institute\, 456 Belmonte Park N\, Dayton\, OH\, 45405\, United States
ATTACH;FMTTYPE=image/jpeg:https://downtowndayton.org/wp-content/uploads/2025/03/skinner.jpg
END:VEVENT
BEGIN:VEVENT
DTSTART;TZID=America/New_York:20250921T140000
DTEND;TZID=America/New_York:20250921T150000
DTSTAMP:20260419T160651
CREATED:20250730T200412Z
LAST-MODIFIED:20250730T200412Z
UID:10039072-1758463200-1758466800@downtowndayton.org
SUMMARY:Skinner Pipe Organ Concert
DESCRIPTION:Hear the museum’s restored Skinner pipe organ and see the beautifully renovated Mimi and Stuart Rose Auditorium. Matt Dierking from the Dayton Chapter of the American Guild of Organists performs on the 1st & 3rd Sunday of each month at 2 p.m. (unless otherwise noted.) *All performances are an hour unless otherwise noted*
URL:https://downtowndayton.org/event/skinner-pipe-organ-concert-5/2025-09-21/
LOCATION:The Dayton Art Institute\, 456 Belmonte Park N\, Dayton\, OH\, 45405\, United States
ATTACH;FMTTYPE=image/jpeg:https://downtowndayton.org/wp-content/uploads/2025/07/skinnerspook.jpg
END:VEVENT
BEGIN:VEVENT
DTSTART;TZID=America/New_York:20250921T190000
DTEND;TZID=America/New_York:20250921T190000
DTSTAMP:20260419T160651
CREATED:20250915T165306Z
LAST-MODIFIED:20250915T165306Z
UID:10039795-1758481200-1758481200@downtowndayton.org
SUMMARY:Girls Gone Bible Live Tour
DESCRIPTION:What started as an intimate Bible study between two best friends has transformed into “Girls Gone Bible\,” a Christian podcast redefining faith-based conversations for a new generation. The “Girls Gone Bible podcast” (with over 20 million listens)\, is ranked #1 for religion and spirituality on Spotify and is also featured in the top charts on Apple Podcasts. Co-hosted by Angela Halili and Arielle Reitsma\, the show offers unfiltered\, heartfelt discussions on faith\, relationships\, personal struggles\, and spiritual growth. The idea for “Girls Gone Bible” wasn’t born in a strategy meeting – it happened organically. “We were sitting in my living room\, reading the Bible\,” Halili recalls. “And suddenly\, it just clicked – we need to record this.” That unassuming moment sparked a movement\, resonating with listeners who craved authenticity in a world that often demands perfection. Raw\, real\, and deeply personal\, “Girls Gone Bible” is more than just a podcast – it’s a community. The “GGB gang\,” as they call their listeners\, has grown into a family\, connected by shared stories and a collective pursuit of faith. The duo’s live events\, national tour\, and upcoming devotional are just the beginning of their expanding platform\, proving that faith-based content can be both powerful and wildly engaging. With “Girls Gone Bible\,” Halili and Reitsma are leading a new wave of faith-driven conversations – one honest\, unfiltered episode at a time.
URL:https://downtowndayton.org/event/girls-gone-bible-live-tour/
LOCATION:Victoria Theatre\, 138 N. Main St.\, Dayton\, OH\, 45402\, United States
ATTACH;FMTTYPE=image/jpeg:https://downtowndayton.org/wp-content/uploads/2025/09/ggb.jpg
END:VEVENT
END:VCALENDAR