BEGIN:VCALENDAR
VERSION:2.0
PRODID:-//Downtown Dayton Partnership - ECPv6.8.1//NONSGML v1.0//EN
CALSCALE:GREGORIAN
METHOD:PUBLISH
X-WR-CALNAME:Downtown Dayton Partnership
X-ORIGINAL-URL:https://downtowndayton.org
X-WR-CALDESC:Events for Downtown Dayton Partnership
REFRESH-INTERVAL;VALUE=DURATION:PT1H
X-Robots-Tag:noindex
X-PUBLISHED-TTL:PT1H
BEGIN:VTIMEZONE
TZID:America/New_York
BEGIN:DAYLIGHT
TZOFFSETFROM:-0500
TZOFFSETTO:-0400
TZNAME:EDT
DTSTART:20250309T070000
END:DAYLIGHT
BEGIN:STANDARD
TZOFFSETFROM:-0400
TZOFFSETTO:-0500
TZNAME:EST
DTSTART:20251102T060000
END:STANDARD
END:VTIMEZONE
BEGIN:VEVENT
DTSTART;TZID=America/New_York:20250922T180000
DTEND;TZID=America/New_York:20250922T190000
DTSTAMP:20260419T145108
CREATED:20250903T120717Z
LAST-MODIFIED:20250903T120717Z
UID:10039658-1758564000-1758567600@downtowndayton.org
SUMMARY:Yoga with Aleasha
DESCRIPTION:Part of RiverScape Community Fitness series \nYoga with Aleasha\n6:00pm – 7:00pm \nAGE: All ages | FREE\n\nYoga with Aleasha will lead you in an all-levels yoga flow. If you’re a beginner\, she will guide you through modifications to ensure you are comfortable to help you to become more familiar with poses. If you’re experienced\, she will help grow your current practice. This class is truly for everyone! Weather Dependent. \nFocus on wellness while spending time in nature. Enjoy a variety of free and effective workouts at RiverScape MetroPark.
URL:https://downtowndayton.org/event/yoga-with-aleasha-5/2025-09-22/
LOCATION:RiverScape MetroPark\, 237 E Monument Ave\, Dayton\, OH\, 45402\, United States
ATTACH;FMTTYPE=image/jpeg:https://downtowndayton.org/wp-content/uploads/2025/09/526701757_1154443740048601_7495297009258380807_n.jpg
END:VEVENT
BEGIN:VEVENT
DTSTART;TZID=America/New_York:20250922T180000
DTEND;TZID=America/New_York:20250922T193000
DTSTAMP:20260419T145108
CREATED:20250813T172112Z
LAST-MODIFIED:20250813T172112Z
UID:10039527-1758564000-1758569400@downtowndayton.org
SUMMARY:Bootcamp
DESCRIPTION:Part of RiverScape Community Fitness series \nBootcamp\n6:00pm – 7:30pm \nAGE: All ages | FREE\n\nJoin The Unit for an exciting bootcamp workout that will take you through RiverScape in a whole new way. Whether you’re running the stairs\, doing push ups near the reflecting pools\, or stretching along the levee\, this effective workout will keep you moving. Combined with the uplifting support of the community members that make up The Unit\, this is a workout you will want to make part of your weekly routine. All fitness levels welcome and encouraged! Weather Dependent.
URL:https://downtowndayton.org/event/bootcamp-5/2025-09-22/
LOCATION:RiverScape MetroPark\, 237 E Monument Ave\, Dayton\, OH\, 45402\, United States
ATTACH;FMTTYPE=image/jpeg:https://downtowndayton.org/wp-content/uploads/2025/08/526768811_1154435006716141_5644326018264558875_n-1.jpg
END:VEVENT
END:VCALENDAR