BEGIN:VCALENDAR
VERSION:2.0
PRODID:-//Downtown Dayton Partnership - ECPv6.8.1//NONSGML v1.0//EN
CALSCALE:GREGORIAN
METHOD:PUBLISH
X-WR-CALNAME:Downtown Dayton Partnership
X-ORIGINAL-URL:https://downtowndayton.org
X-WR-CALDESC:Events for Downtown Dayton Partnership
REFRESH-INTERVAL;VALUE=DURATION:PT1H
X-Robots-Tag:noindex
X-PUBLISHED-TTL:PT1H
BEGIN:VTIMEZONE
TZID:America/New_York
BEGIN:DAYLIGHT
TZOFFSETFROM:-0500
TZOFFSETTO:-0400
TZNAME:EDT
DTSTART:20250309T070000
END:DAYLIGHT
BEGIN:STANDARD
TZOFFSETFROM:-0400
TZOFFSETTO:-0500
TZNAME:EST
DTSTART:20251102T060000
END:STANDARD
END:VTIMEZONE
BEGIN:VEVENT
DTSTART;VALUE=DATE:20250928
DTEND;VALUE=DATE:20250929
DTSTAMP:20260419T120217
CREATED:20250528T121344Z
LAST-MODIFIED:20250528T121344Z
UID:10037105-1759017600-1759103999@downtowndayton.org
SUMMARY:Vinyl Vinyl Sundays
DESCRIPTION:Sunday – Vinyl Vinyl Sunday – bring your records\, we’ll play ’em
URL:https://downtowndayton.org/event/vinyl-vinyl-sundays/2025-09-28/
LOCATION:The Barrel House\, 417 E. Third St.\, Dayton\, OH\, 45402\, United States
ATTACH;FMTTYPE=image/jpeg:https://downtowndayton.org/wp-content/uploads/2025/05/bhvvs.jpg
END:VEVENT
BEGIN:VEVENT
DTSTART;VALUE=DATE:20250928
DTEND;VALUE=DATE:20250929
DTSTAMP:20260419T120217
CREATED:20250729T130830Z
LAST-MODIFIED:20250729T130830Z
UID:10039016-1759017600-1759103999@downtowndayton.org
SUMMARY:We’re Doing It ALL Wrong® – 5th Annual Art Exhibition
DESCRIPTION:This year’s exhibition features over 40 artworks from around the United States. See more at weredoingitallwrong.com. The exhibition was juried by Artist/Activist Devan Horton (Kentucky) and Gallery Owner Ed Dixon.
URL:https://downtowndayton.org/event/were-doing-it-all-wrong-5th-annual-art-exhibition/2025-09-28/
LOCATION:Edward A. Dixon Gallery\, 222 N. St. Clair St.\, Dayton\, OH\, 45402
ATTACH;FMTTYPE=image/jpeg:https://downtowndayton.org/wp-content/uploads/2025/07/wdiaw.jpg
END:VEVENT
BEGIN:VEVENT
DTSTART;TZID=America/New_York:20250928T120000
DTEND;TZID=America/New_York:20250928T190000
DTSTAMP:20260419T120217
CREATED:20250730T195441Z
LAST-MODIFIED:20250730T195441Z
UID:10039063-1759060800-1759086000@downtowndayton.org
SUMMARY:Oktoberfest
DESCRIPTION:Raise your glass for the return of Oktoberfest\, presented by Miller Lite\, taking place September 26-28\, 2025 on the Dayton Art Institute museum grounds. A Dayton tradition established in 1971\, DAI’s Oktoberfest is southwest Ohio’s longest-running Oktoberfest celebration and the museum’s largest annual fundraiser. Money raised by Oktoberfest helps support everything we do at the Dayton Art Institute. Oktoberfest kicks off on September 26 with a Lederhosen Lunch (11 a.m. to 1:30 p.m.) and the Preview Party (7 to 11 p.m.) Then it’s two full days of Oktoberfest fun\, from noon to 11 p.m. on Saturday\, September 27 and noon to 7 p.m. on Sunday\, September 28! Tickets go on sale August 6. Remember to bring your ID with you to check-in at the gate. Ohio liquor laws require us to wristband all patrons over the age of 21\, regardless of their intended beverage consumption. Check back often on the DAI Octoberfest website for updates!
URL:https://downtowndayton.org/event/oktoberfest-2/2025-09-28/
LOCATION:The Dayton Art Institute\, 456 Belmonte Park N\, Dayton\, OH\, 45405\, United States
ATTACH;FMTTYPE=image/jpeg:https://downtowndayton.org/wp-content/uploads/2025/07/oktoberfest25.jpg
END:VEVENT
BEGIN:VEVENT
DTSTART;TZID=America/New_York:20250928T140000
DTEND;TZID=America/New_York:20250928T150000
DTSTAMP:20260419T120217
CREATED:20250903T165020Z
LAST-MODIFIED:20250903T165020Z
UID:10039680-1759068000-1759071600@downtowndayton.org
SUMMARY:Oktoberfest Steinholding Competition
DESCRIPTION:Test Your Strength in the Oktoberfest Steinholding Competition\, presented by Pella Windows & Doors of Dayton! Masskrugstemmen\, or beer Steinholding\, is a relatively new sport in America\, but its popularity has been growing quickly. We are excited to bring this longstanding sport to the Dayton Art Institute’s Oktoberfest as an official U.S. Steinholding Association qualifying event! Our Steinholding competition will be held on Sunday\, Sept. 28\, 2025\, at 2 p.m. in front of the main museum entrance. Meet us at the food court stage at 1:45 p.m. to check in for the competition. The women’s category will compete first\, followed by the men’s category. $10 per registrant and a valid admission to Oktoberfest to compete.  Register in advance to compete: https://dai.ticketapp.org/portal/product/85/events
URL:https://downtowndayton.org/event/oktoberfest-steinholding-competition/
LOCATION:The Dayton Art Institute\, 456 Belmonte Park N\, Dayton\, OH\, 45405\, United States
ATTACH;FMTTYPE=image/jpeg:https://downtowndayton.org/wp-content/uploads/2025/09/stein.jpg
END:VEVENT
BEGIN:VEVENT
DTSTART;TZID=America/New_York:20250928T140000
DTEND;TZID=America/New_York:20250928T160000
DTSTAMP:20260419T120217
CREATED:20250924T175514Z
LAST-MODIFIED:20250924T175514Z
UID:10040856-1759068000-1759075200@downtowndayton.org
SUMMARY:Closing Reception for We’re Doing It ALL Wrong® – 5th Annual Art Exhibition
DESCRIPTION:The juried We’re Doing It ALL Wrong® – 5th Annual Art Exhibition will end with a Closing Reception on Sunday\, September 28th from 2pm-4pm. It’s been a busy two months with hundreds of visitors\, a Botanical Dye Workshop with Devan Horton\, Nonprofit Night at the Gallery benefiting Hope Road Organization and more. Join us in celebrating the art and the artists one more time for being a part of this important\, national exhibition. Music provided by Isicle. Light Refreshments. Free on-street parking.
URL:https://downtowndayton.org/event/closing-reception-for-were-doing-it-all-wrong-5th-annual-art-exhibition/
LOCATION:Edward A. Dixon Gallery\, 222 N. St. Clair St.\, Dayton\, OH\, 45402
ATTACH;FMTTYPE=image/jpeg:https://downtowndayton.org/wp-content/uploads/2025/09/wditw.jpg
END:VEVENT
END:VCALENDAR