BEGIN:VCALENDAR
VERSION:2.0
PRODID:-//Downtown Dayton Partnership - ECPv6.8.1//NONSGML v1.0//EN
CALSCALE:GREGORIAN
METHOD:PUBLISH
X-WR-CALNAME:Downtown Dayton Partnership
X-ORIGINAL-URL:https://downtowndayton.org
X-WR-CALDESC:Events for Downtown Dayton Partnership
REFRESH-INTERVAL;VALUE=DURATION:PT1H
X-Robots-Tag:noindex
X-PUBLISHED-TTL:PT1H
BEGIN:VTIMEZONE
TZID:America/New_York
BEGIN:DAYLIGHT
TZOFFSETFROM:-0500
TZOFFSETTO:-0400
TZNAME:EDT
DTSTART:20250309T070000
END:DAYLIGHT
BEGIN:STANDARD
TZOFFSETFROM:-0400
TZOFFSETTO:-0500
TZNAME:EST
DTSTART:20251102T060000
END:STANDARD
END:VTIMEZONE
BEGIN:VEVENT
DTSTART;VALUE=DATE:20251012
DTEND;VALUE=DATE:20251013
DTSTAMP:20260425T135216
CREATED:20250528T121344Z
LAST-MODIFIED:20250528T121344Z
UID:10037107-1760227200-1760313599@downtowndayton.org
SUMMARY:Vinyl Vinyl Sundays
DESCRIPTION:Sunday – Vinyl Vinyl Sunday – bring your records\, we’ll play ’em
URL:https://downtowndayton.org/event/vinyl-vinyl-sundays/2025-10-12/
LOCATION:The Barrel House\, 417 E. Third St.\, Dayton\, OH\, 45402\, United States
ATTACH;FMTTYPE=image/jpeg:https://downtowndayton.org/wp-content/uploads/2025/05/bhvvs.jpg
END:VEVENT
BEGIN:VEVENT
DTSTART;VALUE=DATE:20251012
DTEND;VALUE=DATE:20251013
DTSTAMP:20260425T135216
CREATED:20251002T125306Z
LAST-MODIFIED:20251002T125306Z
UID:10040925-1760227200-1760313599@downtowndayton.org
SUMMARY:Water Street District Pint Path
DESCRIPTION:Sip your way through local brews\, grab a bite at buzzworthy spots and discover why Water Street District is where Dayton comes to play. Pick up a free Water Street District Pint Path passport from any participating business. Once a passport has been picked up\, purchase a menu item of choice at each stop to receive a stamp on the passport. Once you’ve sipped and stamped at all 14 locations\, turn in your passport to Water Street District’s leasing office (115 Madison Street) to claim your prize. Pint Path Passport stops can be completed at the leisure of each participant. Cheers! Please remember to drink responsibly. Find a list of participating businesses and more details here: https://www.waterstreetdayton.com/wsdpintpath
URL:https://downtowndayton.org/event/water-street-district-pint-path/2025-10-12/
LOCATION:Water Street District
ATTACH;FMTTYPE=image/jpeg:https://downtowndayton.org/wp-content/uploads/2025/10/wsdpintpath.jpg
END:VEVENT
BEGIN:VEVENT
DTSTART;VALUE=DATE:20251012
DTEND;VALUE=DATE:20251013
DTSTAMP:20260425T135216
CREATED:20251002T132228Z
LAST-MODIFIED:20251002T132228Z
UID:10041009-1760227200-1760313599@downtowndayton.org
SUMMARY:Out Here Dayton Film Fest
DESCRIPTION:Welcome to the\n2025 Out Here Dayton Film Fest\nThis is our 20th year of bringing the best in LGBTQIA+ cinema from around the world to the Miami Valley! It’s quite a milestone\, and we’re proud of what we have been able to accomplish. During our first 19 years\, we screened 337 films and hosted 57 guest artists\, and we’re excited for you to see what we have in store for you this year. \nJoin us at THE NEON in downtown Dayton during the long weekend of Oct. 9-12\, 2025 for 9 different screenings featuring 24 short and feature-length films. \nOur Friday night party at Joui Wine has some treats in store\, and other special details for the weekend are still in the works. Be sure to keep your eye on our Facebook and Instagram pages – the best place to keep track of last-minute additions and announcements. \nIn these challenging times\, building strong community is more important than ever. We can’t wait to share these great films in a space where we can celebrate our stories together.
URL:https://downtowndayton.org/event/out-here-dayton-film-fest-3/2025-10-12/
LOCATION:THE NEON\, United States
ATTACH;FMTTYPE=image/jpeg:https://downtowndayton.org/wp-content/uploads/2023/10/outhere.jpg
END:VEVENT
BEGIN:VEVENT
DTSTART;TZID=America/New_York:20251012T140000
DTEND;TZID=America/New_York:20251012T140000
DTSTAMP:20260425T135216
CREATED:20250311T121542Z
LAST-MODIFIED:20250311T121542Z
UID:10030955-1760277600-1760277600@downtowndayton.org
SUMMARY:Skinner Pipe Organ Concert
DESCRIPTION:Hear the museum’s restored Skinner pipe organ and see the beautifully renovated Mimi and Stuart Rose Auditorium. Matt Dierking from the Dayton Chapter of the American Guild of Organists will perform at 2 p.m. Free to members; included in museum general admission for non-members.
URL:https://downtowndayton.org/event/skinner-pipe-organ-concert/2025-10-12/
LOCATION:The Dayton Art Institute\, 456 Belmonte Park N\, Dayton\, OH\, 45405\, United States
ATTACH;FMTTYPE=image/jpeg:https://downtowndayton.org/wp-content/uploads/2025/03/skinner.jpg
END:VEVENT
BEGIN:VEVENT
DTSTART;TZID=America/New_York:20251012T140000
DTEND;TZID=America/New_York:20251012T140000
DTSTAMP:20260425T135216
CREATED:20250828T120134Z
LAST-MODIFIED:20250828T120134Z
UID:10039594-1760277600-1760277600@downtowndayton.org
SUMMARY:Sinclair Theatre presents anthropology
DESCRIPTION:Sinclair Theatre is proud to present anthropology\, Lauren Gunderson’s contemporary thriller\, live on stage from October 10-18 in Sinclair’s Black Box Theatre\, Building 2\, on Sinclair’s downtown Dayton campus. Tickets are $15 and can be purchased online at www.sinclair.edu/tickets. Groups of 20 or more ordering online save all ticketing fees. When Merril creates an AI version of her sister\, she finds herself questioning the difference between reality and fiction. As her creation begins to develop motives of its own\, Merril’s life is thrown into chaos as her family gets pulled into the power of a well-programmed machine. A story that intertwines the love of family with AI technology\, anthropology will take you on a journey that will have you questioning what is real and what is not. “While anthropology is a roller coaster of the contrasting tensions between technology and its creators\,” says Gunderson\, “this play is truly a very human story of family\, grief\, resilience\, love and sisterhood… all new technology – like all art – is first and foremost a method of expressing and coming to understand ourselves.” The cast consists of Tiffany Higgins\, Adalia Gaynier\, Rosi Green\, Kimberly Borst\, and Ryan Ford. Where: Sinclair Community College\, Black Box Theatre (Building 2)\, 444 W. Third St.\, Dayton Ticket Information: $15 plus $2 service fee. No at-the-door ticket sales. All tickets must be purchased online at: www.sinclair.edu/tickets
URL:https://downtowndayton.org/event/sinclair-theatre-presents-anthropology/2025-10-12/
LOCATION:Sinclair Black Box Theatre\, 401 W. Fourth St.\, Dayton\, OH\, 45402
ATTACH;FMTTYPE=image/jpeg:https://downtowndayton.org/wp-content/uploads/2025/08/anthro.jpg
END:VEVENT
BEGIN:VEVENT
DTSTART;TZID=America/New_York:20251012T140000
DTEND;TZID=America/New_York:20251012T150000
DTSTAMP:20260425T135216
CREATED:20250730T195650Z
LAST-MODIFIED:20250730T195650Z
UID:10039064-1760277600-1760281200@downtowndayton.org
SUMMARY:Skinner Pipe Organ Concert: Spooktacular
DESCRIPTION:​Matt Dierking from the Dayton Chapter of the American Guild of Organists will perform a special Halloween concert\, complete with spooky silent films and scary music played on the DAI’s Skinner Pipe Organ! Hear the museum’s restored Skinner pipe organ and see the beautifully renovated Mimi and Stuart Rose Auditorium. Performance begins at 2 p.m. and lasts until 3 p.m.
URL:https://downtowndayton.org/event/skinner-pipe-organ-concert-spooktacular/2025-10-12/
LOCATION:The Dayton Art Institute\, 456 Belmonte Park N\, Dayton\, OH\, 45405\, United States
ATTACH;FMTTYPE=image/jpeg:https://downtowndayton.org/wp-content/uploads/2025/07/skinnerspook.jpg
END:VEVENT
BEGIN:VEVENT
DTSTART;TZID=America/New_York:20251012T143000
DTEND;TZID=America/New_York:20251012T143000
DTSTAMP:20260425T135216
CREATED:20251009T125724Z
LAST-MODIFIED:20251009T125724Z
UID:10041028-1760279400-1760279400@downtowndayton.org
SUMMARY:Giselle
DESCRIPTION:Inspiring modern works such as Black Swan and Corpse Bride\, GISELLE begins as a sweet\, romantic story but transforms into something ghostly and supernatural by the end. It’s a ballet about love\, betrayal\, madness\, and forgiveness – where a young woman dies of a broken heart\, yet her spirit returns to save the man who deceived her.
URL:https://downtowndayton.org/event/giselle/2025-10-12/
LOCATION:Victoria Theatre\, 138 N. Main St.\, Dayton\, OH\, 45402\, United States
ATTACH;FMTTYPE=image/jpeg:https://downtowndayton.org/wp-content/uploads/2025/10/giselle.jpg
END:VEVENT
BEGIN:VEVENT
DTSTART;TZID=America/New_York:20251012T150000
DTEND;TZID=America/New_York:20251012T150000
DTSTAMP:20260425T135216
CREATED:20251009T131040Z
LAST-MODIFIED:20251009T131040Z
UID:10041044-1760281200-1760281200@downtowndayton.org
SUMMARY:Dial ‘M’ for Murder
DESCRIPTION:A cunning husband. A flawless plan. One fatal call. In this razor-sharp\, midcentury mind game of deadly charm\, calculated lies\, and impetuous greed\, the plot to commit the perfect murder begins to unravel. What follows is a taut and twisted Hitchcockian thriller—where life and death hang on the line.
URL:https://downtowndayton.org/event/dial-m-for-murder/2025-10-12/
LOCATION:Dayton Theatre Guild\, 430 Wayne Avenue\, Dayton\, OH\, 45410\, USA
ATTACH;FMTTYPE=image/jpeg:https://downtowndayton.org/wp-content/uploads/2025/10/dialm.jpg
END:VEVENT
END:VCALENDAR