BEGIN:VCALENDAR
VERSION:2.0
PRODID:-//Downtown Dayton Partnership - ECPv6.8.1//NONSGML v1.0//EN
CALSCALE:GREGORIAN
METHOD:PUBLISH
X-ORIGINAL-URL:https://downtowndayton.org
X-WR-CALDESC:Events for Downtown Dayton Partnership
REFRESH-INTERVAL;VALUE=DURATION:PT1H
X-Robots-Tag:noindex
X-PUBLISHED-TTL:PT1H
BEGIN:VTIMEZONE
TZID:America/New_York
BEGIN:DAYLIGHT
TZOFFSETFROM:-0500
TZOFFSETTO:-0400
TZNAME:EDT
DTSTART:20260308T070000
END:DAYLIGHT
BEGIN:STANDARD
TZOFFSETFROM:-0400
TZOFFSETTO:-0500
TZNAME:EST
DTSTART:20261101T060000
END:STANDARD
END:VTIMEZONE
BEGIN:VEVENT
DTSTART;VALUE=DATE:20260111
DTEND;VALUE=DATE:20260112
DTSTAMP:20260425T214406
CREATED:20250528T121344Z
LAST-MODIFIED:20250528T121344Z
UID:10037120-1768089600-1768175999@downtowndayton.org
SUMMARY:Vinyl Vinyl Sundays
DESCRIPTION:Sunday – Vinyl Vinyl Sunday – bring your records\, we’ll play ’em
URL:https://downtowndayton.org/event/vinyl-vinyl-sundays/2026-01-11/
LOCATION:The Barrel House\, 417 E. Third St.\, Dayton\, OH\, 45402\, United States
ATTACH;FMTTYPE=image/jpeg:https://downtowndayton.org/wp-content/uploads/2025/05/bhvvs.jpg
END:VEVENT
BEGIN:VEVENT
DTSTART;VALUE=DATE:20260111
DTEND;VALUE=DATE:20260112
DTSTAMP:20260425T214406
CREATED:20251009T131403Z
LAST-MODIFIED:20251009T131403Z
UID:10041112-1768089600-1768175999@downtowndayton.org
SUMMARY:Exhibit: The Triumph of Nature: Art Nouveau from the Chrysler Museum of Art
DESCRIPTION:October 18\, 2025–January 11\, 2026 \nThe Triumph of Nature presents the refined\, ever-popular and elegant curvilinear designs and nature-based motifs of Art Nouveau. From the rich holdings of the Chrysler Museum of Art\, more than 120 turn-of-the-20th century treasures are included\, with works by Tiffany\, Mucha\, Gallé\, Beardsley and many others. Furniture\, paintings\, sculpture\, mosaics\, books\, posters\, prints\, lamps\, glass art and more highlight the innovative ways artists made harmonious visual arrangements. The DAI is the exclusive Ohio venue for this major traveling exhibition.
URL:https://downtowndayton.org/event/exhibit-the-triumph-of-nature-art-nouveau-from-the-chrysler-museum-of-art/2026-01-11/
LOCATION:The Dayton Art Institute\, 456 Belmonte Park N\, Dayton\, OH\, 45405\, United States
ATTACH;FMTTYPE=image/jpeg:https://downtowndayton.org/wp-content/uploads/2025/10/nouveau.jpg
END:VEVENT
BEGIN:VEVENT
DTSTART;VALUE=DATE:20260111
DTEND;VALUE=DATE:20260112
DTSTAMP:20260425T214406
CREATED:20251106T133239Z
LAST-MODIFIED:20251106T133239Z
UID:10046793-1768089600-1768175999@downtowndayton.org
SUMMARY:Polar Bear Express
DESCRIPTION:Book a ride on the abominably decorated Pedal Wagon for a 2-hour pedaling adventure through the fest streets of Dayton and to the best bars and restaurants. Reservations required. pedalwagon.com/dayton
URL:https://downtowndayton.org/event/polar-bear-express-2/2026-01-11/
LOCATION:Downtown Dayton
ATTACH;FMTTYPE=image/jpeg:https://downtowndayton.org/wp-content/uploads/2025/11/polarbear.jpg
END:VEVENT
BEGIN:VEVENT
DTSTART;VALUE=DATE:20260111
DTEND;VALUE=DATE:20260112
DTSTAMP:20260425T214406
CREATED:20251106T134019Z
LAST-MODIFIED:20251106T134019Z
UID:10046921-1768089600-1768175999@downtowndayton.org
SUMMARY:Holly Jolly Social: A Christmas Bar Pop-Up
DESCRIPTION:A festive Christmas pop-up where holiday cocktails\, sparkling decor\, and cozy seasonal vibes transform the space into a winter wonderland. 2socialdayton.com \nNov. 7-Jan. 15
URL:https://downtowndayton.org/event/holly-jolly-social-a-christmas-bar-pop-up/2026-01-11/
LOCATION:Two Social\, 123 E. Third St.\, Dayton\, OH\, 45402
ATTACH;FMTTYPE=image/jpeg:https://downtowndayton.org/wp-content/uploads/2024/11/twosocial.jpg
END:VEVENT
BEGIN:VEVENT
DTSTART;VALUE=DATE:20260111
DTEND;VALUE=DATE:20260112
DTSTAMP:20260425T214406
CREATED:20251126T141431Z
LAST-MODIFIED:20251202T212154Z
UID:10053661-1768089600-1768175999@downtowndayton.org
SUMMARY:Ice Skating
DESCRIPTION:Sheltered under the covered pavilion\, the MetroParks Ice Rink sets the scene as a perfect winter wonderland in downtown Dayton. While the rink is open\, you can enjoy delicious treats from the concession area\, including a cup of hot chocolate. Take advantage of fun skating activities\, such as lessons\, themed skating nights and more. Visit metroparks.org/ice-rink to learn more\, find daily open hours\, and see a schedule of events. Admission: $7 daily\, ice skate rental: $3 daily. Season passes available. Ages 3 and under are free with a paying adult. 278-2607.
URL:https://downtowndayton.org/event/ice-skating-2/2026-01-11/
LOCATION:RiverScape MetroPark\, 237 E Monument Ave\, Dayton\, OH\, 45402\, United States
ATTACH;FMTTYPE=image/jpeg:https://downtowndayton.org/wp-content/uploads/2024/11/iceskate.jpg
END:VEVENT
BEGIN:VEVENT
DTSTART;VALUE=DATE:20260111
DTEND;VALUE=DATE:20260112
DTSTAMP:20260425T214406
CREATED:20251209T134203Z
LAST-MODIFIED:20251209T134203Z
UID:10053899-1768089600-1768175999@downtowndayton.org
SUMMARY:Exhibit: Being Seen
DESCRIPTION:Dayton Metro Library will host Brian Mathus and his exhibit Being Seen in The 2nd Floor Gallery of the Main Library from Friday\, January 2\, through Saturday\, January 31. \n  \nMathus paints with “emotional clarity” on canvas\, wood\, and paper. He uses graphite and Conte crayon to “draw interwoven relationships between meaning with composition and color\,” according to his artist statement. \n  \n“Using acrylic and oil paint\, I create an atmosphere that shapes meaning through composition and color\,” said Mathus. He builds metaphors layer by layer until a piece reaches the ecstatic and the sublime\, integrating Fauvism\, Cubism\, Abstract Expressionism\, and African art into his unique language. \n  \nFor more information\, visit DaytonMetroLibrary.org/Exhibits or call the Library’s Ask Me Line at 937.463.2665.
URL:https://downtowndayton.org/event/exhibit-being-seen/2026-01-11/
LOCATION:Dayton Metro Library – Main Library\, 215 E. Third Street\, Dayton\, OH\, 45402
ATTACH;FMTTYPE=image/jpeg:https://downtowndayton.org/wp-content/uploads/2023/08/dml.jpg
END:VEVENT
BEGIN:VEVENT
DTSTART;TZID=America/New_York:20260111T110000
DTEND;TZID=America/New_York:20260111T113000
DTSTAMP:20260425T214406
CREATED:20251217T141648Z
LAST-MODIFIED:20251217T141648Z
UID:10054001-1768129200-1768131000@downtowndayton.org
SUMMARY:Learn to Ice Skate! Children’s Course
DESCRIPTION:Learn to Ice Skate! Children’s Course\n11:00am – 11:30am \nAGE: 5-8 | $50.00 | Financial Assistance\nWant to learn the basics of ice skating? We’ve got you covered with these lessons! Our instructor will teach you key skills including skating forward and backward edges on a circle\, three-turns\, backward stops\, bunny hops\, lunges\, and front and back crossovers. The registration fee includes use of skates and lessons on 1/4\, 1/11\, and 1/18\, which we ask that you arrive 15 minutes early for each day. Makeup lessons will be held 1/25. Weather Dependent.
URL:https://downtowndayton.org/event/learn-to-ice-skate-childrens-course-4/2026-01-11/
LOCATION:RiverScape MetroPark\, 237 E Monument Ave\, Dayton\, OH\, 45402\, United States
ATTACH;FMTTYPE=image/jpeg:https://downtowndayton.org/wp-content/uploads/2023/11/riverscape.jpg
END:VEVENT
BEGIN:VEVENT
DTSTART;TZID=America/New_York:20260111T114000
DTEND;TZID=America/New_York:20260111T121000
DTSTAMP:20260425T214406
CREATED:20251217T141747Z
LAST-MODIFIED:20251217T141747Z
UID:10054004-1768131600-1768133400@downtowndayton.org
SUMMARY:Learn to Ice Skate! Youth Course
DESCRIPTION:Learn to Ice Skate! Youth Course\n11:40am – 12:10pm \nAGE: 9-13 | $50.00 | Financial Assistance\nWant to learn the basics of ice skating? We’ve got you covered with these lessons! Our instructor will teach you key skills including skating forward and backward edges on a circle\, three-turns\, backward stops\, bunny hops\, lunges\, and front and back crossovers. The registration fee includes use of skates and lessons on 1/4\, 1/11\, and 1/18\, which we ask that you arrive 15 minutes early for each day. Makeup lessons will be held 1/25. Weather Dependent.
URL:https://downtowndayton.org/event/learn-to-ice-skate-youth-course-3/2026-01-11/
LOCATION:RiverScape MetroPark\, 237 E Monument Ave\, Dayton\, OH\, 45402\, United States
ATTACH;FMTTYPE=image/jpeg:https://downtowndayton.org/wp-content/uploads/2023/11/riverscape.jpg
END:VEVENT
BEGIN:VEVENT
DTSTART;TZID=America/New_York:20260111T122000
DTEND;TZID=America/New_York:20260111T125000
DTSTAMP:20260425T214406
CREATED:20251217T141844Z
LAST-MODIFIED:20251217T141844Z
UID:10054007-1768134000-1768135800@downtowndayton.org
SUMMARY:Learn to Ice Skate! Teen/Adult Course
DESCRIPTION:Learn to Ice Skate! Teen/Adult Course\n12:20pm – 12:50pm \nAGE: 14 and up | $50.00 | Financial Assistance\nWant to learn the basics of ice skating? We’ve got you covered with these lessons! Our instructor will teach you key skills including skating forward and backward edges on a circle\, three-turns\, backward stops\, bunny hops\, lunges\, and front and back crossovers. The registration fee includes use of skates and lessons on 1/4\, 1/11\, and 1/18\, which we ask that you arrive 15 minutes early for each day. Makeup lessons will be held 1/25. Weather Dependent.
URL:https://downtowndayton.org/event/learn-to-ice-skate-teen-adult-course-3/2026-01-11/
LOCATION:RiverScape MetroPark\, 237 E Monument Ave\, Dayton\, OH\, 45402\, United States
ATTACH;FMTTYPE=image/jpeg:https://downtowndayton.org/wp-content/uploads/2023/11/riverscape.jpg
END:VEVENT
BEGIN:VEVENT
DTSTART;TZID=America/New_York:20260111T130000
DTEND;TZID=America/New_York:20260111T170000
DTSTAMP:20260425T214406
CREATED:20260107T143750Z
LAST-MODIFIED:20260107T143750Z
UID:10054048-1768136400-1768150800@downtowndayton.org
SUMMARY:Timeless Tales
DESCRIPTION:Part of MetroParks Ice Rink Family Skate Days series \nTimeless Tales\n1:00pm – 5:00pm \nAGE: All ages | $10.00 | Financial Assistance\n\nReady to set out on a tale as old as time? Join us at the MetroParks Ice Rink for a day of fairytale fun! Skate to your favorite family-friendly hits\, grab some hot chocolate\, and kids also receive a FREE book courtesy of Dayton Metro Library. Weather Dependent. \nGuests are encouraged to participate in family activities including a featured theme table\, coloring pages\, scavenger hunt\, and Penguin Toss. The Penguin Toss is free to all skaters and takes place at approximately 3pm. Participants will receive a penguin to toss onto the ice\, and whoever lands their penguin closest to the target will receive one of three prizes. \nSkaters are welcome to relax in one of several warming areas\, including a heated comfort tent containing games and seating. The RiverScape Cafe will also be open\, offering a variety of food and drinks (including our delicious hot cocoa!) for purchase. Admission is $7\, Skate Rental is $3\, and there are a limited number of skate helpers available for free. Visitors receive a 75% discount – $1.75 admission and $0.75 skate rental – on admission and skate rental by presenting either a SNAP/EBT or Access to Nature card at the Rental Office. This discount is made possible by Five Rivers MetroParks’ Access to Nature financial assistance program\, supported by the Five Rivers MetroParks Foundation.
URL:https://downtowndayton.org/event/timeless-tales/
LOCATION:RiverScape MetroPark\, 237 E Monument Ave\, Dayton\, OH\, 45402\, United States
ATTACH;FMTTYPE=image/jpeg:https://downtowndayton.org/wp-content/uploads/2023/11/riverscape.jpg
END:VEVENT
BEGIN:VEVENT
DTSTART;TZID=America/New_York:20260111T150000
DTEND;TZID=America/New_York:20260111T163000
DTSTAMP:20260425T214406
CREATED:20260107T143437Z
LAST-MODIFIED:20260107T143437Z
UID:10054045-1768143600-1768149000@downtowndayton.org
SUMMARY:Artist Talk: Brian Mathus
DESCRIPTION:Artist Talk: Brian Mathus \n\nDate: Sunday\, January 11\, 2026\nTime: 3:00 PM – 4:30 PM\nLocation: Dayton Metro Library\, 215 E. Third St. Dayton\, OH 45402\nDetails: Join us for an artist talk with Brian Mathus in connection with his exhibition Being Seen.\nINFO HERE-Facebook Event
URL:https://downtowndayton.org/event/artist-talk-brian-mathus/
LOCATION:Dayton Metro Library – Main Library\, 215 E. Third Street\, Dayton\, OH\, 45402
ATTACH;FMTTYPE=image/jpeg:https://downtowndayton.org/wp-content/uploads/2023/08/dml.jpg
END:VEVENT
END:VCALENDAR