BEGIN:VCALENDAR
VERSION:2.0
PRODID:-//Downtown Dayton Partnership - ECPv6.8.1//NONSGML v1.0//EN
CALSCALE:GREGORIAN
METHOD:PUBLISH
X-WR-CALNAME:Downtown Dayton Partnership
X-ORIGINAL-URL:https://downtowndayton.org
X-WR-CALDESC:Events for Downtown Dayton Partnership
REFRESH-INTERVAL;VALUE=DURATION:PT1H
X-Robots-Tag:noindex
X-PUBLISHED-TTL:PT1H
BEGIN:VTIMEZONE
TZID:America/New_York
BEGIN:DAYLIGHT
TZOFFSETFROM:-0500
TZOFFSETTO:-0400
TZNAME:EDT
DTSTART:20260308T070000
END:DAYLIGHT
BEGIN:STANDARD
TZOFFSETFROM:-0400
TZOFFSETTO:-0500
TZNAME:EST
DTSTART:20261101T060000
END:STANDARD
END:VTIMEZONE
BEGIN:VEVENT
DTSTART;VALUE=DATE:20260127
DTEND;VALUE=DATE:20260128
DTSTAMP:20260421T105720
CREATED:20251106T133239Z
LAST-MODIFIED:20251106T133239Z
UID:10046809-1769472000-1769558399@downtowndayton.org
SUMMARY:Polar Bear Express
DESCRIPTION:Book a ride on the abominably decorated Pedal Wagon for a 2-hour pedaling adventure through the fest streets of Dayton and to the best bars and restaurants. Reservations required. pedalwagon.com/dayton
URL:https://downtowndayton.org/event/polar-bear-express-2/2026-01-27/
LOCATION:Downtown Dayton
ATTACH;FMTTYPE=image/jpeg:https://downtowndayton.org/wp-content/uploads/2025/11/polarbear.jpg
END:VEVENT
BEGIN:VEVENT
DTSTART;VALUE=DATE:20260127
DTEND;VALUE=DATE:20260128
DTSTAMP:20260421T105720
CREATED:20251126T141431Z
LAST-MODIFIED:20251202T212154Z
UID:10053677-1769472000-1769558399@downtowndayton.org
SUMMARY:Ice Skating
DESCRIPTION:Sheltered under the covered pavilion\, the MetroParks Ice Rink sets the scene as a perfect winter wonderland in downtown Dayton. While the rink is open\, you can enjoy delicious treats from the concession area\, including a cup of hot chocolate. Take advantage of fun skating activities\, such as lessons\, themed skating nights and more. Visit metroparks.org/ice-rink to learn more\, find daily open hours\, and see a schedule of events. Admission: $7 daily\, ice skate rental: $3 daily. Season passes available. Ages 3 and under are free with a paying adult. 278-2607.
URL:https://downtowndayton.org/event/ice-skating-2/2026-01-27/
LOCATION:RiverScape MetroPark\, 237 E Monument Ave\, Dayton\, OH\, 45402\, United States
ATTACH;FMTTYPE=image/jpeg:https://downtowndayton.org/wp-content/uploads/2024/11/iceskate.jpg
END:VEVENT
BEGIN:VEVENT
DTSTART;VALUE=DATE:20260127
DTEND;VALUE=DATE:20260128
DTSTAMP:20260421T105720
CREATED:20251209T134203Z
LAST-MODIFIED:20251209T134203Z
UID:10053915-1769472000-1769558399@downtowndayton.org
SUMMARY:Exhibit: Being Seen
DESCRIPTION:Dayton Metro Library will host Brian Mathus and his exhibit Being Seen in The 2nd Floor Gallery of the Main Library from Friday\, January 2\, through Saturday\, January 31. \n  \nMathus paints with “emotional clarity” on canvas\, wood\, and paper. He uses graphite and Conte crayon to “draw interwoven relationships between meaning with composition and color\,” according to his artist statement. \n  \n“Using acrylic and oil paint\, I create an atmosphere that shapes meaning through composition and color\,” said Mathus. He builds metaphors layer by layer until a piece reaches the ecstatic and the sublime\, integrating Fauvism\, Cubism\, Abstract Expressionism\, and African art into his unique language. \n  \nFor more information\, visit DaytonMetroLibrary.org/Exhibits or call the Library’s Ask Me Line at 937.463.2665.
URL:https://downtowndayton.org/event/exhibit-being-seen/2026-01-27/
LOCATION:Dayton Metro Library – Main Library\, 215 E. Third Street\, Dayton\, OH\, 45402
ATTACH;FMTTYPE=image/jpeg:https://downtowndayton.org/wp-content/uploads/2023/08/dml.jpg
END:VEVENT
BEGIN:VEVENT
DTSTART;VALUE=DATE:20260127
DTEND;VALUE=DATE:20260128
DTSTAMP:20260421T105720
CREATED:20251215T140115Z
LAST-MODIFIED:20251215T140115Z
UID:10053984-1769472000-1769558399@downtowndayton.org
SUMMARY:Jason Cytacki\, Haley Prestifilippo\, and Yoshiko Shimano Exhibit
DESCRIPTION:The Sinclair Community College Art Department is pleased to present “Knickknacks” by Jason Cytacki and Haley Prestifilippo in the Burnell R. Roberts Triangle Gallery along with “Lasting Memories” by Yoshiko Shimano in the Works on Paper Gallery. Cytacki’s work critically examines the American mythological landscape\, particularly suburban life\, through his paintings. He utilizes tenuous\, anxious humor\, and unexpected juxtapositions to question the underlying narratives that shape our shared identity\, asking the question: “Is this all there is?” Prestifilippo explores the way histories adhere to physical forms\, layering and ossifying into material residue of experience. Her detailed drawings of personally precious objects are woven with her hair collected post-partum. Viewers are invited to consider the stories embedded within both her works and outside objects such as a tree’s rings\, holding the history of its growth. Shimano utilizes the traditions of her Japanese heritage through printmaking to express the depth of beauty that can come through the complexities of the human experience. “Lasting Memories” aims to keep record of her friends’ life stories as they live to the fullest despite old age\, memory loss\, and eventually death. There will be a virtual artist talk via Zoom on January 30\, 2026\, at 12pm. Visit www.sinclair.edu/artgalleries for details. The exhibitions will be on display from January 5 – February 2\, 2026. Galleries are located on the fourth floor of building 13 (located at West Fifth and Perry Streets). The galleries are free and open to the public from 8am–6pm Monday–Friday and 9am–12pm Saturdays. Free and accessible parking is located in Parking Lot K.
URL:https://downtowndayton.org/event/jason-cytacki-haley-prestifilippo-and-yoshiko-shimano-exhibit/2026-01-27/
LOCATION:Galleries at Sinclair College\, 444 W. Third St.\, Bldg. 13\, Dayton\, OH\, 45402
ATTACH;FMTTYPE=image/jpeg:https://downtowndayton.org/wp-content/uploads/2025/12/sincexh.jpg
END:VEVENT
BEGIN:VEVENT
DTSTART;TZID=America/New_York:20260127T130000
DTEND;TZID=America/New_York:20260127T150000
DTSTAMP:20260421T105720
CREATED:20250924T114502Z
LAST-MODIFIED:20250924T114502Z
UID:10039839-1769518800-1769526000@downtowndayton.org
SUMMARY:Adult Weekday Classes
DESCRIPTION:Tuesday and Wednesday weekday classes: Tuesdays (September-May) Stained Glass Classes: 1:00pm-3:00pm Ceramics/Clay Classes: 3:00pm-5:00pm Glassblowing Classes: 3:30pm-5:30pm Wednesdays (September-May) Still Life Oil Painting Classes: 1:00pm-3:00pm Glassblowing Classes: 2:00pm-4:00pm or 6:00pm-8:00pm. Call for Costs.
URL:https://downtowndayton.org/event/adult-weekday-classes/2026-01-27/
LOCATION:K12 Gallery & TEJAS\, 341 S. Jefferson St.\, Dayton\, OH\, 45402
ATTACH;FMTTYPE=image/jpeg:https://downtowndayton.org/wp-content/uploads/2023/12/k12tejas-scaled.jpg
END:VEVENT
BEGIN:VEVENT
DTSTART;TZID=America/New_York:20260127T150000
DTEND;TZID=America/New_York:20260127T170000
DTSTAMP:20260421T105720
CREATED:20250924T114552Z
LAST-MODIFIED:20250924T114552Z
UID:10039874-1769526000-1769533200@downtowndayton.org
SUMMARY:Adult Weekday Classes
DESCRIPTION:Tuesday and Wednesday weekday classes: Tuesdays (September-May) Stained Glass Classes: 1:00pm-3:00pm Ceramics/Clay Classes: 3:00pm-5:00pm Glassblowing Classes: 3:30pm-5:30pm Wednesdays (September-May) Still Life Oil Painting Classes: 1:00pm-3:00pm Glassblowing Classes: 2:00pm-4:00pm or 6:00pm-8:00pm. Call for Costs.
URL:https://downtowndayton.org/event/adult-weekday-classes-2/2026-01-27/
LOCATION:K12 Gallery & TEJAS\, 341 S. Jefferson St.\, Dayton\, OH\, 45402
ATTACH;FMTTYPE=image/jpeg:https://downtowndayton.org/wp-content/uploads/2023/12/k12tejas-scaled.jpg
END:VEVENT
BEGIN:VEVENT
DTSTART;TZID=America/New_York:20260127T150000
DTEND;TZID=America/New_York:20260127T180000
DTSTAMP:20260421T105720
CREATED:20250924T115502Z
LAST-MODIFIED:20250924T115502Z
UID:10040125-1769526000-1769536800@downtowndayton.org
SUMMARY:Artist in Training (AIT) Program
DESCRIPTION:After school Artist in Training program geared for grades 3rd-12th grades. Classes are Monday-Wednesdays from 3:00pm-6:00pm. Open Studio time to explore different types of mediums such as Drawing\, Painting\, Clay\, Digital Art.  20.00 per session for Members/40.00 per session for Non-Members.
URL:https://downtowndayton.org/event/artist-in-training-ait-program/2026-01-27/
LOCATION:K12 Gallery & TEJAS\, 341 S. Jefferson St.\, Dayton\, OH\, 45402
ATTACH;FMTTYPE=image/jpeg:https://downtowndayton.org/wp-content/uploads/2023/12/k12tejas-scaled.jpg
END:VEVENT
BEGIN:VEVENT
DTSTART;TZID=America/New_York:20260127T153000
DTEND;TZID=America/New_York:20260127T173000
DTSTAMP:20260421T105720
CREATED:20250924T114821Z
LAST-MODIFIED:20250924T114821Z
UID:10039910-1769527800-1769535000@downtowndayton.org
SUMMARY:Adult Weekday Classes
DESCRIPTION:Tuesday and Wednesday weekday classes: Tuesdays (September-May) Stained Glass Classes: 1:00pm-3:00pm Ceramics/Clay Classes: 3:00pm-5:00pm Glassblowing Classes: 3:30pm-5:30pm Wednesdays (September-May) Still Life Oil Painting Classes: 1:00pm-3:00pm Glassblowing Classes: 2:00pm-4:00pm or 6:00pm-8:00pm. Call for Costs.
URL:https://downtowndayton.org/event/adult-weekday-classes-3/2026-01-27/
LOCATION:K12 Gallery & TEJAS\, 341 S. Jefferson St.\, Dayton\, OH\, 45402
ATTACH;FMTTYPE=image/jpeg:https://downtowndayton.org/wp-content/uploads/2023/12/k12tejas-scaled.jpg
END:VEVENT
BEGIN:VEVENT
DTSTART;TZID=America/New_York:20260127T190000
DTEND;TZID=America/New_York:20260127T230000
DTSTAMP:20260421T105720
CREATED:20250528T120726Z
LAST-MODIFIED:20250528T120726Z
UID:10036340-1769540400-1769554800@downtowndayton.org
SUMMARY:Karaoke
DESCRIPTION:Tuesdays – Karaoke with @raineyday.entertainment – $5 off full draft flights until 9 p.m.
URL:https://downtowndayton.org/event/karaoke-2/2026-01-27/
LOCATION:The Barrel House\, 417 E. Third St.\, Dayton\, OH\, 45402\, United States
ATTACH;FMTTYPE=image/jpeg:https://downtowndayton.org/wp-content/uploads/2025/05/bhk.jpg
END:VEVENT
BEGIN:VEVENT
DTSTART;TZID=America/New_York:20260127T200000
DTEND;TZID=America/New_York:20260127T230000
DTSTAMP:20260421T105720
CREATED:20250318T140916Z
LAST-MODIFIED:20250318T140916Z
UID:10031331-1769544000-1769554800@downtowndayton.org
SUMMARY:Karaoke with Zane
DESCRIPTION:Yellow Cab Tavern Karaoke is BACK every Tuesday at 8pm with MC Zane Gerlach!\nEntry is always free!\nWith a catalog of over 60\,000 songs\, we have your favorites to sing…and if we don’t\, we’ll do everything we can to get it for you!\nGet your friends and family together and we’ll see you on Tuesday nights at The Yellow Cab Tavern!
URL:https://downtowndayton.org/event/karaoke-with-zane/2026-01-27/
LOCATION:Yellow Cab Tavern\, 700 E 4th St\, Dayton\, OH\, 45402\, United States
ATTACH;FMTTYPE=image/jpeg:https://downtowndayton.org/wp-content/uploads/2025/03/yck.jpg
END:VEVENT
END:VCALENDAR