BEGIN:VCALENDAR
VERSION:2.0
PRODID:-//Downtown Dayton Partnership - ECPv6.8.1//NONSGML v1.0//EN
CALSCALE:GREGORIAN
METHOD:PUBLISH
X-ORIGINAL-URL:https://downtowndayton.org
X-WR-CALDESC:Events for Downtown Dayton Partnership
REFRESH-INTERVAL;VALUE=DURATION:PT1H
X-Robots-Tag:noindex
X-PUBLISHED-TTL:PT1H
BEGIN:VTIMEZONE
TZID:America/New_York
BEGIN:DAYLIGHT
TZOFFSETFROM:-0500
TZOFFSETTO:-0400
TZNAME:EDT
DTSTART:20260308T070000
END:DAYLIGHT
BEGIN:STANDARD
TZOFFSETFROM:-0400
TZOFFSETTO:-0500
TZNAME:EST
DTSTART:20261101T060000
END:STANDARD
END:VTIMEZONE
BEGIN:VEVENT
DTSTART;VALUE=DATE:20260302
DTEND;VALUE=DATE:20260303
DTSTAMP:20260420T220353
CREATED:20260122T143306Z
LAST-MODIFIED:20260122T143306Z
UID:10054183-1772409600-1772495999@downtowndayton.org
SUMMARY:Sandra Aska\, Andy Holliday\, & Paul Rienzo Exhibits
DESCRIPTION:The Sinclair Community College Art Department is pleased to present works by Sandra Aska\, Andy Holliday\, and Paul Rienzo in the Burnell R. Roberts Triangle Gallery and Works on Paper Gallery. Capturing moments of perplexity\, quirkiness\, thoughtfulness\, and beauty\, Aska gives clay life through her figurative sculptures. Toolmarks and fingerprints left in the works imbue an expressionistic looseness to the forms. She works intuitively by allowing each form to emerge from the clay and invites the viewer to offer their own interpretation. Holliday’s non-representational prints stem from images that are observed\, recorded\, and repeatedly reprocessed through systems to alter them. Exploring the idea of attention as a measure of value\, he gathers an archive of media to process\, builds complexity\, and subsequently creates the final work through traditional printmaking techniques. Rienzo’s photorealistic still life paintings explore archetypal themes found across cultures and historical periods. The depicted objects are laden with symbolic power and when combined with others from differing cultures and eras\, explore the idea of untold myths and interconnectivity. There will be a virtual artist talk via Zoom on February 20\, 2026\, at 12pm. Visit www.sinclair.edu/artgalleries for details. The exhibitions will be on display from February 10 – March 13\, 2026. Galleries are located on the fourth floor of building 13 (located at West Fifth and Perry Streets). The galleries are free and open to the public from 8am–6pm Monday–Friday and 9am–12pm Saturdays. Free and accessible parking is located in Parking Lot K.
URL:https://downtowndayton.org/event/sandra-aska-andy-holliday-paul-rienzo-exhibits/2026-03-02/
LOCATION:Galleries at Sinclair College\, 444 W. Third St.\, Bldg. 13\, Dayton\, OH\, 45402
ATTACH;FMTTYPE=image/jpeg:https://downtowndayton.org/wp-content/uploads/2026/01/sinclexh.jpg
END:VEVENT
BEGIN:VEVENT
DTSTART;VALUE=DATE:20260302
DTEND;VALUE=DATE:20260303
DTSTAMP:20260420T220353
CREATED:20260302T125520Z
LAST-MODIFIED:20260302T125520Z
UID:10054908-1772409600-1772495999@downtowndayton.org
SUMMARY:Becoming: 70 Years of Growth\, Expression\, and Possibility
DESCRIPTION:Dayton Metro Library’s newest art exhibit\, Becoming: 70 Years of Growth\, Expression\, and Possibility\, will be on display Sunday\, March 1 – Tuesday\, March 31\, in the Main Library’s The 2nd Floor Gallery. \nBecoming celebrates the artists of United Rehabilitation Services (URS) and the ways creativity serves as a powerful form of communication\, identity\, and connection. \nFor 70 years\, URS has supported children and adults with developmental and acquired disabilities as they grow\, explore independence\, and express who they are. Their artwork reflects a journey of becoming\, not as a fixed destination but an ongoing process shaped by experience\, curiosity\, collaboration\, and self-expression. \nThe exhibit features a wide range of abilities\, styles\, and mediums. Some pieces were created individually\, while others were created collaboratively\, emphasizing the importance of community\, shared effort\, and collective voice. The scale of the work is intentionally varied\, ranging from small\, intimate pieces to large-format installations\, mirroring the diversity of expression within the disability community. \nPresented during Disabilities Awareness Month\, Becoming invites viewers to look beyond labels and assumptions to see creativity\, agency\, and possibility. Each piece tells a story\, not of limitation\, but of growth\, imagination\, and presence. \nFor more information\, visit DaytonMetroLibrary.org/Exhibits or call the Library’s Ask Me Line at 937.463.2665.
URL:https://downtowndayton.org/event/becoming-70-years-of-growth-expression-and-possibility/2026-03-02/
LOCATION:Dayton Metro Library – Main Library\, 215 E. Third Street\, Dayton\, OH\, 45402
ATTACH;FMTTYPE=image/jpeg:https://downtowndayton.org/wp-content/uploads/2023/08/dml.jpg
END:VEVENT
BEGIN:VEVENT
DTSTART;TZID=America/New_York:20260302T100000
DTEND;TZID=America/New_York:20260302T100000
DTSTAMP:20260420T220353
CREATED:20260226T154311Z
LAST-MODIFIED:20260226T154311Z
UID:10054811-1772445600-1772445600@downtowndayton.org
SUMMARY:Dayton Dragons Single-Game Ticket Sales for 2026 Season
DESCRIPTION:Single-game ticket sales for Dayton Dragons 2026 home games will go on sale to the public Monday\, March 2 at 10:00AM. Tickets for Dragons 2026 regular season games can be purchased at the Dragons Box Office\, Online at daytondragons.com/tickets\, By phone at (937) 228-2287. Pricing for single game tickets for stadium seats and lawn tickets: Stadium: o April: $16 o May: $18 o June through September: $20 Lawn: o April: $6 o May: $8 o June through September: $10
URL:https://downtowndayton.org/event/dayton-dragons-single-game-ticket-sales-for-2026-season/
LOCATION:Day Air Ballpark\, 220 North Patterson Blvd.\, Dayton\, OH\, 45402
ATTACH;FMTTYPE=image/jpeg:https://downtowndayton.org/wp-content/uploads/2023/01/dragons16x9.jpg
END:VEVENT
BEGIN:VEVENT
DTSTART;TZID=America/New_York:20260302T144000
DTEND;TZID=America/New_York:20260302T144000
DTSTAMP:20260420T220353
CREATED:20260226T181548Z
LAST-MODIFIED:20260226T181548Z
UID:10054824-1772462400-1772462400@downtowndayton.org
SUMMARY:Pillion
DESCRIPTION:Overview\n“Colin\, a timid man\, is swept off his feet when Ray\, an enigmatic\, impossibly handsome biker takes him on as his submissive.”\nThis kinky little gem from the UK\, currently rated “99% Fresh” on rottentomatoes\, is an uninhibited and non-judgmental BDSM romantic comedy-drama that stars Harry Melling & Alexander Skarsgård. IndieWire calls it “a deeply moving love story…chains\, gags\, and all.”\nOn Mondays during the run of its engagement\, this film will be presented with Open Captions (captions presented on the screen).\nNo one under 18 will be admitted.\nDirector\nHarry Lighton\nProducer\nEd Guiney\, Emma Norton\, Andrew Lowe\, Lee Groombridge\nCast\nHarry Melling\, Alexander Skarsgård\, Lesley Sharp
URL:https://downtowndayton.org/event/pillion/2026-03-02/1/
LOCATION:THE NEON\, United States
ATTACH;FMTTYPE=image/jpeg:https://downtowndayton.org/wp-content/uploads/2026/02/pillion.jpg
END:VEVENT
BEGIN:VEVENT
DTSTART;TZID=America/New_York:20260302T150000
DTEND;TZID=America/New_York:20260302T180000
DTSTAMP:20260420T220353
CREATED:20250924T115502Z
LAST-MODIFIED:20250924T115502Z
UID:10040139-1772463600-1772474400@downtowndayton.org
SUMMARY:Artist in Training (AIT) Program
DESCRIPTION:After school Artist in Training program geared for grades 3rd-12th grades. Classes are Monday-Wednesdays from 3:00pm-6:00pm. Open Studio time to explore different types of mediums such as Drawing\, Painting\, Clay\, Digital Art.  20.00 per session for Members/40.00 per session for Non-Members.
URL:https://downtowndayton.org/event/artist-in-training-ait-program/2026-03-02/
LOCATION:K12 Gallery & TEJAS\, 341 S. Jefferson St.\, Dayton\, OH\, 45402
ATTACH;FMTTYPE=image/jpeg:https://downtowndayton.org/wp-content/uploads/2023/12/k12tejas-scaled.jpg
END:VEVENT
BEGIN:VEVENT
DTSTART;TZID=America/New_York:20260302T170000
DTEND;TZID=America/New_York:20260302T170000
DTSTAMP:20260420T220353
CREATED:20260226T181548Z
LAST-MODIFIED:20260226T181548Z
UID:10054825-1772470800-1772470800@downtowndayton.org
SUMMARY:Pillion
DESCRIPTION:Overview\n“Colin\, a timid man\, is swept off his feet when Ray\, an enigmatic\, impossibly handsome biker takes him on as his submissive.”\nThis kinky little gem from the UK\, currently rated “99% Fresh” on rottentomatoes\, is an uninhibited and non-judgmental BDSM romantic comedy-drama that stars Harry Melling & Alexander Skarsgård. IndieWire calls it “a deeply moving love story…chains\, gags\, and all.”\nOn Mondays during the run of its engagement\, this film will be presented with Open Captions (captions presented on the screen).\nNo one under 18 will be admitted.\nDirector\nHarry Lighton\nProducer\nEd Guiney\, Emma Norton\, Andrew Lowe\, Lee Groombridge\nCast\nHarry Melling\, Alexander Skarsgård\, Lesley Sharp
URL:https://downtowndayton.org/event/pillion/2026-03-02/2/
LOCATION:THE NEON\, United States
ATTACH;FMTTYPE=image/jpeg:https://downtowndayton.org/wp-content/uploads/2026/02/pillion.jpg
END:VEVENT
BEGIN:VEVENT
DTSTART;TZID=America/New_York:20260302T173000
DTEND;TZID=America/New_York:20260302T190000
DTSTAMP:20260420T220353
CREATED:20260224T190401Z
LAST-MODIFIED:20260224T190401Z
UID:10054787-1772472600-1772478000@downtowndayton.org
SUMMARY:Uncle Tom’s Cabin: An American Classic?
DESCRIPTION:As part of our Celebrate250! Series marking the 250th anniversary of the United States\, we invite you to explore one of the most influential—and controversial—novels in American history.\nPublished in 1852\, Uncle Tom’s Cabin by Harriet Beecher Stowe became a literary phenomenon\, selling more copies in the nineteenth century than any book except the Bible. The novel helped shape public opinion in the years leading up to the Civil War. Yet from the moment it appeared\, it sparked debate—and it continues to do so today. \nWhy has this book endured? Why has it divided readers for more than 170 years? \nIn this engaging program\, a guest speaker from the Harriet Beecher Stowe House will guide us through: \n\n\nHow and why Stowe wrote the novel \n\n\nThe iconic characters and unforgettable scenes that captured a nation’s attention \n\n\nThe rise of “Tom shows” and early film adaptations \n\n\nThe evolution of the term “Uncle Tom” \n\n\nThe book’s revival and reinterpretation by feminist critics \n\n\nTogether\, we will consider how Harriet Beecher Stowe’s voice speaks to us now—and what this American classic reveals about the issues we continue to face. \nREGISTRATION REQUIRED\nGeneral Admission: $15 per person \nWe are open to the general public. Our venue is fully accessible with a ramp entrance.
URL:https://downtowndayton.org/event/uncle-toms-cabin-an-american-classic/
LOCATION:The Dayton Woman’s Club\, 225 N Ludlow St\, Dayton\, OH\, 45402\, United States
CATEGORIES:Book Discussions,Education,Museum / History
ATTACH;FMTTYPE=image/jpeg:https://downtowndayton.org/wp-content/uploads/2026/02/DWC-Uncle-Toms-Cabin.jpg
END:VEVENT
BEGIN:VEVENT
DTSTART;TZID=America/New_York:20260302T192000
DTEND;TZID=America/New_York:20260302T192000
DTSTAMP:20260420T220353
CREATED:20260226T181548Z
LAST-MODIFIED:20260226T181548Z
UID:10054826-1772479200-1772479200@downtowndayton.org
SUMMARY:Pillion
DESCRIPTION:Overview\n“Colin\, a timid man\, is swept off his feet when Ray\, an enigmatic\, impossibly handsome biker takes him on as his submissive.”\nThis kinky little gem from the UK\, currently rated “99% Fresh” on rottentomatoes\, is an uninhibited and non-judgmental BDSM romantic comedy-drama that stars Harry Melling & Alexander Skarsgård. IndieWire calls it “a deeply moving love story…chains\, gags\, and all.”\nOn Mondays during the run of its engagement\, this film will be presented with Open Captions (captions presented on the screen).\nNo one under 18 will be admitted.\nDirector\nHarry Lighton\nProducer\nEd Guiney\, Emma Norton\, Andrew Lowe\, Lee Groombridge\nCast\nHarry Melling\, Alexander Skarsgård\, Lesley Sharp
URL:https://downtowndayton.org/event/pillion/2026-03-02/3/
LOCATION:THE NEON\, United States
ATTACH;FMTTYPE=image/jpeg:https://downtowndayton.org/wp-content/uploads/2026/02/pillion.jpg
END:VEVENT
BEGIN:VEVENT
DTSTART;TZID=America/New_York:20260302T193000
DTEND;TZID=America/New_York:20260302T193000
DTSTAMP:20260420T220353
CREATED:20260204T143549Z
LAST-MODIFIED:20260204T143549Z
UID:10054334-1772479800-1772479800@downtowndayton.org
SUMMARY:The Voice of Hind Rajab
DESCRIPTION:Overview\nWe are bringing the powerful\, Oscar-nominated film THE VOICE OF HIND RAJAB for two special screenings on Feb. 28 at Noon and March 2 at 7:30. Tickets are $10 each.\n“January 29\, 2024. Red Crescent volunteers receive an emergency call. A five-year old girl is trapped in a car under fire in Gaza\, pleading for rescue. While trying to keep her on the line\, they do everything they can to get an ambulance to her. Her name was Hind Rajab.”\nDirector\nKaouther Ben Hania\nProducer\nOdessa Rae\, James Wilson\, Nadim Cheikhrouha\nCast\nMotaz Malhees\, Saja Kilani\, Amer Hlehel
URL:https://downtowndayton.org/event/the-voice-of-hind-rajab/2026-03-02/
LOCATION:THE NEON\, United States
ATTACH;FMTTYPE=image/jpeg:https://downtowndayton.org/wp-content/uploads/2026/02/hind.jpg
END:VEVENT
END:VCALENDAR