BEGIN:VCALENDAR
VERSION:2.0
PRODID:-//Downtown Dayton Partnership - ECPv6.8.1//NONSGML v1.0//EN
CALSCALE:GREGORIAN
METHOD:PUBLISH
X-ORIGINAL-URL:https://downtowndayton.org
X-WR-CALDESC:Events for Downtown Dayton Partnership
REFRESH-INTERVAL;VALUE=DURATION:PT1H
X-Robots-Tag:noindex
X-PUBLISHED-TTL:PT1H
BEGIN:VTIMEZONE
TZID:America/New_York
BEGIN:DAYLIGHT
TZOFFSETFROM:-0500
TZOFFSETTO:-0400
TZNAME:EDT
DTSTART:20260308T070000
END:DAYLIGHT
BEGIN:STANDARD
TZOFFSETFROM:-0400
TZOFFSETTO:-0500
TZNAME:EST
DTSTART:20261101T060000
END:STANDARD
END:VTIMEZONE
BEGIN:VEVENT
DTSTART;VALUE=DATE:20260310
DTEND;VALUE=DATE:20260311
DTSTAMP:20260422T051958
CREATED:20260122T143306Z
LAST-MODIFIED:20260122T143306Z
UID:10054190-1773100800-1773187199@downtowndayton.org
SUMMARY:Sandra Aska\, Andy Holliday\, & Paul Rienzo Exhibits
DESCRIPTION:The Sinclair Community College Art Department is pleased to present works by Sandra Aska\, Andy Holliday\, and Paul Rienzo in the Burnell R. Roberts Triangle Gallery and Works on Paper Gallery. Capturing moments of perplexity\, quirkiness\, thoughtfulness\, and beauty\, Aska gives clay life through her figurative sculptures. Toolmarks and fingerprints left in the works imbue an expressionistic looseness to the forms. She works intuitively by allowing each form to emerge from the clay and invites the viewer to offer their own interpretation. Holliday’s non-representational prints stem from images that are observed\, recorded\, and repeatedly reprocessed through systems to alter them. Exploring the idea of attention as a measure of value\, he gathers an archive of media to process\, builds complexity\, and subsequently creates the final work through traditional printmaking techniques. Rienzo’s photorealistic still life paintings explore archetypal themes found across cultures and historical periods. The depicted objects are laden with symbolic power and when combined with others from differing cultures and eras\, explore the idea of untold myths and interconnectivity. There will be a virtual artist talk via Zoom on February 20\, 2026\, at 12pm. Visit www.sinclair.edu/artgalleries for details. The exhibitions will be on display from February 10 – March 13\, 2026. Galleries are located on the fourth floor of building 13 (located at West Fifth and Perry Streets). The galleries are free and open to the public from 8am–6pm Monday–Friday and 9am–12pm Saturdays. Free and accessible parking is located in Parking Lot K.
URL:https://downtowndayton.org/event/sandra-aska-andy-holliday-paul-rienzo-exhibits/2026-03-10/
LOCATION:Galleries at Sinclair College\, 444 W. Third St.\, Bldg. 13\, Dayton\, OH\, 45402
ATTACH;FMTTYPE=image/jpeg:https://downtowndayton.org/wp-content/uploads/2026/01/sinclexh.jpg
END:VEVENT
BEGIN:VEVENT
DTSTART;VALUE=DATE:20260310
DTEND;VALUE=DATE:20260311
DTSTAMP:20260422T051958
CREATED:20260302T125520Z
LAST-MODIFIED:20260302T125520Z
UID:10054916-1773100800-1773187199@downtowndayton.org
SUMMARY:Becoming: 70 Years of Growth\, Expression\, and Possibility
DESCRIPTION:Dayton Metro Library’s newest art exhibit\, Becoming: 70 Years of Growth\, Expression\, and Possibility\, will be on display Sunday\, March 1 – Tuesday\, March 31\, in the Main Library’s The 2nd Floor Gallery. \nBecoming celebrates the artists of United Rehabilitation Services (URS) and the ways creativity serves as a powerful form of communication\, identity\, and connection. \nFor 70 years\, URS has supported children and adults with developmental and acquired disabilities as they grow\, explore independence\, and express who they are. Their artwork reflects a journey of becoming\, not as a fixed destination but an ongoing process shaped by experience\, curiosity\, collaboration\, and self-expression. \nThe exhibit features a wide range of abilities\, styles\, and mediums. Some pieces were created individually\, while others were created collaboratively\, emphasizing the importance of community\, shared effort\, and collective voice. The scale of the work is intentionally varied\, ranging from small\, intimate pieces to large-format installations\, mirroring the diversity of expression within the disability community. \nPresented during Disabilities Awareness Month\, Becoming invites viewers to look beyond labels and assumptions to see creativity\, agency\, and possibility. Each piece tells a story\, not of limitation\, but of growth\, imagination\, and presence. \nFor more information\, visit DaytonMetroLibrary.org/Exhibits or call the Library’s Ask Me Line at 937.463.2665.
URL:https://downtowndayton.org/event/becoming-70-years-of-growth-expression-and-possibility/2026-03-10/
LOCATION:Dayton Metro Library – Main Library\, 215 E. Third Street\, Dayton\, OH\, 45402
ATTACH;FMTTYPE=image/jpeg:https://downtowndayton.org/wp-content/uploads/2023/08/dml.jpg
END:VEVENT
BEGIN:VEVENT
DTSTART;TZID=America/New_York:20260310T130000
DTEND;TZID=America/New_York:20260310T150000
DTSTAMP:20260422T051958
CREATED:20250924T114502Z
LAST-MODIFIED:20250924T114502Z
UID:10039845-1773147600-1773154800@downtowndayton.org
SUMMARY:Adult Weekday Classes
DESCRIPTION:Tuesday and Wednesday weekday classes: Tuesdays (September-May) Stained Glass Classes: 1:00pm-3:00pm Ceramics/Clay Classes: 3:00pm-5:00pm Glassblowing Classes: 3:30pm-5:30pm Wednesdays (September-May) Still Life Oil Painting Classes: 1:00pm-3:00pm Glassblowing Classes: 2:00pm-4:00pm or 6:00pm-8:00pm. Call for Costs.
URL:https://downtowndayton.org/event/adult-weekday-classes/2026-03-10/
LOCATION:K12 Gallery & TEJAS\, 341 S. Jefferson St.\, Dayton\, OH\, 45402
ATTACH;FMTTYPE=image/jpeg:https://downtowndayton.org/wp-content/uploads/2023/12/k12tejas-scaled.jpg
END:VEVENT
BEGIN:VEVENT
DTSTART;TZID=America/New_York:20260310T144500
DTEND;TZID=America/New_York:20260310T144500
DTSTAMP:20260422T051958
CREATED:20260303T182414Z
LAST-MODIFIED:20260303T182414Z
UID:10054970-1773153900-1773153900@downtowndayton.org
SUMMARY:Peaky Blinders: The Immortal Man
DESCRIPTION:Birmingham\, 1940. Amidst the chaos of WWII\, Tommy Shelby is driven back from a self-imposed exile to face his most destructive reckoning yet. With the future of the family and the country at stake\, Tommy must face his own demons\, and choose whether to confront his legacy\, or burn it to the ground. By order of the Peaky Blinders…
URL:https://downtowndayton.org/event/peaky-blinders-the-immortal-man/2026-03-10/1/
LOCATION:THE NEON\, United States
ATTACH;FMTTYPE=image/jpeg:https://downtowndayton.org/wp-content/uploads/2026/03/peaky.jpg
END:VEVENT
BEGIN:VEVENT
DTSTART;TZID=America/New_York:20260310T150000
DTEND;TZID=America/New_York:20260310T170000
DTSTAMP:20260422T051958
CREATED:20250828T120936Z
LAST-MODIFIED:20250828T120936Z
UID:10039608-1773154800-1773162000@downtowndayton.org
SUMMARY:Pantry Partner Food Distribution
DESCRIPTION:Dayton Metro Library is proud to partner with The Foodbank to make the Pantry Partner program possible; please visit https://thefoodbankdayton.org/ for more information. In accordance with federal civil rights laws and U.S. Department of Agriculture (USDA) civil rights regulations and policies\, the USDA\, it’s agencies\, offices\, employees\, and institutions participating on or administering USDA programs are prohibited from discriminating based on race\, color\, national origin\, sex\, including gender identity and sexual orientation\, disability\, age\, or reprisal for prior or retaliation for prior civil rights activity in any program or activity conducted or funded by USDA. https://dayton.bibliocommons.com/events/67d872fba41c773600266cd0
URL:https://downtowndayton.org/event/pantry-partner-food-distribution/2026-03-10/
LOCATION:Dayton Metro Library – Main Library\, 215 E. Third Street\, Dayton\, OH\, 45402
ATTACH;FMTTYPE=image/jpeg:https://downtowndayton.org/wp-content/uploads/2025/08/foodprograms.jpg
END:VEVENT
BEGIN:VEVENT
DTSTART;TZID=America/New_York:20260310T150000
DTEND;TZID=America/New_York:20260310T170000
DTSTAMP:20260422T051958
CREATED:20250924T114552Z
LAST-MODIFIED:20250924T114552Z
UID:10039880-1773154800-1773162000@downtowndayton.org
SUMMARY:Adult Weekday Classes
DESCRIPTION:Tuesday and Wednesday weekday classes: Tuesdays (September-May) Stained Glass Classes: 1:00pm-3:00pm Ceramics/Clay Classes: 3:00pm-5:00pm Glassblowing Classes: 3:30pm-5:30pm Wednesdays (September-May) Still Life Oil Painting Classes: 1:00pm-3:00pm Glassblowing Classes: 2:00pm-4:00pm or 6:00pm-8:00pm. Call for Costs.
URL:https://downtowndayton.org/event/adult-weekday-classes-2/2026-03-10/
LOCATION:K12 Gallery & TEJAS\, 341 S. Jefferson St.\, Dayton\, OH\, 45402
ATTACH;FMTTYPE=image/jpeg:https://downtowndayton.org/wp-content/uploads/2023/12/k12tejas-scaled.jpg
END:VEVENT
BEGIN:VEVENT
DTSTART;TZID=America/New_York:20260310T150000
DTEND;TZID=America/New_York:20260310T180000
DTSTAMP:20260422T051958
CREATED:20250924T115502Z
LAST-MODIFIED:20250924T115502Z
UID:10040143-1773154800-1773165600@downtowndayton.org
SUMMARY:Artist in Training (AIT) Program
DESCRIPTION:After school Artist in Training program geared for grades 3rd-12th grades. Classes are Monday-Wednesdays from 3:00pm-6:00pm. Open Studio time to explore different types of mediums such as Drawing\, Painting\, Clay\, Digital Art.  20.00 per session for Members/40.00 per session for Non-Members.
URL:https://downtowndayton.org/event/artist-in-training-ait-program/2026-03-10/
LOCATION:K12 Gallery & TEJAS\, 341 S. Jefferson St.\, Dayton\, OH\, 45402
ATTACH;FMTTYPE=image/jpeg:https://downtowndayton.org/wp-content/uploads/2023/12/k12tejas-scaled.jpg
END:VEVENT
BEGIN:VEVENT
DTSTART;TZID=America/New_York:20260310T153000
DTEND;TZID=America/New_York:20260310T173000
DTSTAMP:20260422T051958
CREATED:20250924T114821Z
LAST-MODIFIED:20250924T114821Z
UID:10039916-1773156600-1773163800@downtowndayton.org
SUMMARY:Adult Weekday Classes
DESCRIPTION:Tuesday and Wednesday weekday classes: Tuesdays (September-May) Stained Glass Classes: 1:00pm-3:00pm Ceramics/Clay Classes: 3:00pm-5:00pm Glassblowing Classes: 3:30pm-5:30pm Wednesdays (September-May) Still Life Oil Painting Classes: 1:00pm-3:00pm Glassblowing Classes: 2:00pm-4:00pm or 6:00pm-8:00pm. Call for Costs.
URL:https://downtowndayton.org/event/adult-weekday-classes-3/2026-03-10/
LOCATION:K12 Gallery & TEJAS\, 341 S. Jefferson St.\, Dayton\, OH\, 45402
ATTACH;FMTTYPE=image/jpeg:https://downtowndayton.org/wp-content/uploads/2023/12/k12tejas-scaled.jpg
END:VEVENT
BEGIN:VEVENT
DTSTART;TZID=America/New_York:20260310T171000
DTEND;TZID=America/New_York:20260310T171000
DTSTAMP:20260422T051958
CREATED:20260303T182414Z
LAST-MODIFIED:20260303T182414Z
UID:10054971-1773162600-1773162600@downtowndayton.org
SUMMARY:Peaky Blinders: The Immortal Man
DESCRIPTION:Birmingham\, 1940. Amidst the chaos of WWII\, Tommy Shelby is driven back from a self-imposed exile to face his most destructive reckoning yet. With the future of the family and the country at stake\, Tommy must face his own demons\, and choose whether to confront his legacy\, or burn it to the ground. By order of the Peaky Blinders…
URL:https://downtowndayton.org/event/peaky-blinders-the-immortal-man/2026-03-10/2/
LOCATION:THE NEON\, United States
ATTACH;FMTTYPE=image/jpeg:https://downtowndayton.org/wp-content/uploads/2026/03/peaky.jpg
END:VEVENT
BEGIN:VEVENT
DTSTART;TZID=America/New_York:20260310T190000
DTEND;TZID=America/New_York:20260310T230000
DTSTAMP:20260422T051958
CREATED:20250528T120726Z
LAST-MODIFIED:20250528T120726Z
UID:10036346-1773169200-1773183600@downtowndayton.org
SUMMARY:Karaoke
DESCRIPTION:Tuesdays – Karaoke with @raineyday.entertainment – $5 off full draft flights until 9 p.m.
URL:https://downtowndayton.org/event/karaoke-2/2026-03-10/
LOCATION:The Barrel House\, 417 E. Third St.\, Dayton\, OH\, 45402\, United States
ATTACH;FMTTYPE=image/jpeg:https://downtowndayton.org/wp-content/uploads/2025/05/bhk.jpg
END:VEVENT
BEGIN:VEVENT
DTSTART;TZID=America/New_York:20260310T192000
DTEND;TZID=America/New_York:20260310T192000
DTSTAMP:20260422T051958
CREATED:20260303T183144Z
LAST-MODIFIED:20260303T183144Z
UID:10054984-1773170400-1773170400@downtowndayton.org
SUMMARY:Calle Malaga
DESCRIPTION:Maria Angeles\, a 79-year-old Spanish woman\, lives alone in Tangier\, Morocco\, and enjoys her daily routine. However\, her life is turned upside down when her daughter arrives from Madrid to sell the apartment in which she has always lived. Determined to stay\, she does everything she can to get her home and her belongings back and\, unexpectedly\, rediscovers love and sensuality.
URL:https://downtowndayton.org/event/calle-malaga/2026-03-10/
LOCATION:THE NEON\, United States
ATTACH;FMTTYPE=image/jpeg:https://downtowndayton.org/wp-content/uploads/2026/03/calle.jpg
END:VEVENT
BEGIN:VEVENT
DTSTART;TZID=America/New_York:20260310T193000
DTEND;TZID=America/New_York:20260310T193000
DTSTAMP:20260422T051958
CREATED:20260303T182414Z
LAST-MODIFIED:20260303T182414Z
UID:10054972-1773171000-1773171000@downtowndayton.org
SUMMARY:Peaky Blinders: The Immortal Man
DESCRIPTION:Birmingham\, 1940. Amidst the chaos of WWII\, Tommy Shelby is driven back from a self-imposed exile to face his most destructive reckoning yet. With the future of the family and the country at stake\, Tommy must face his own demons\, and choose whether to confront his legacy\, or burn it to the ground. By order of the Peaky Blinders…
URL:https://downtowndayton.org/event/peaky-blinders-the-immortal-man/2026-03-10/3/
LOCATION:THE NEON\, United States
ATTACH;FMTTYPE=image/jpeg:https://downtowndayton.org/wp-content/uploads/2026/03/peaky.jpg
END:VEVENT
BEGIN:VEVENT
DTSTART;TZID=America/New_York:20260310T200000
DTEND;TZID=America/New_York:20260310T230000
DTSTAMP:20260422T051958
CREATED:20250318T140916Z
LAST-MODIFIED:20250318T140916Z
UID:10031337-1773172800-1773183600@downtowndayton.org
SUMMARY:Karaoke with Zane
DESCRIPTION:Yellow Cab Tavern Karaoke is BACK every Tuesday at 8pm with MC Zane Gerlach!\nEntry is always free!\nWith a catalog of over 60\,000 songs\, we have your favorites to sing…and if we don’t\, we’ll do everything we can to get it for you!\nGet your friends and family together and we’ll see you on Tuesday nights at The Yellow Cab Tavern!
URL:https://downtowndayton.org/event/karaoke-with-zane/2026-03-10/
LOCATION:Yellow Cab Tavern\, 700 E 4th St\, Dayton\, OH\, 45402\, United States
ATTACH;FMTTYPE=image/jpeg:https://downtowndayton.org/wp-content/uploads/2025/03/yck.jpg
END:VEVENT
END:VCALENDAR