BEGIN:VCALENDAR
VERSION:2.0
PRODID:-//Downtown Dayton Partnership - ECPv6.8.1//NONSGML v1.0//EN
CALSCALE:GREGORIAN
METHOD:PUBLISH
X-WR-CALNAME:Downtown Dayton Partnership
X-ORIGINAL-URL:https://downtowndayton.org
X-WR-CALDESC:Events for Downtown Dayton Partnership
REFRESH-INTERVAL;VALUE=DURATION:PT1H
X-Robots-Tag:noindex
X-PUBLISHED-TTL:PT1H
BEGIN:VTIMEZONE
TZID:America/New_York
BEGIN:DAYLIGHT
TZOFFSETFROM:-0500
TZOFFSETTO:-0400
TZNAME:EDT
DTSTART:20260308T070000
END:DAYLIGHT
BEGIN:STANDARD
TZOFFSETFROM:-0400
TZOFFSETTO:-0500
TZNAME:EST
DTSTART:20261101T060000
END:STANDARD
END:VTIMEZONE
BEGIN:VEVENT
DTSTART;VALUE=DATE:20260323
DTEND;VALUE=DATE:20260324
DTSTAMP:20260422T205101
CREATED:20260302T125520Z
LAST-MODIFIED:20260302T125520Z
UID:10054929-1774224000-1774310399@downtowndayton.org
SUMMARY:Becoming: 70 Years of Growth\, Expression\, and Possibility
DESCRIPTION:Dayton Metro Library’s newest art exhibit\, Becoming: 70 Years of Growth\, Expression\, and Possibility\, will be on display Sunday\, March 1 – Tuesday\, March 31\, in the Main Library’s The 2nd Floor Gallery. \nBecoming celebrates the artists of United Rehabilitation Services (URS) and the ways creativity serves as a powerful form of communication\, identity\, and connection. \nFor 70 years\, URS has supported children and adults with developmental and acquired disabilities as they grow\, explore independence\, and express who they are. Their artwork reflects a journey of becoming\, not as a fixed destination but an ongoing process shaped by experience\, curiosity\, collaboration\, and self-expression. \nThe exhibit features a wide range of abilities\, styles\, and mediums. Some pieces were created individually\, while others were created collaboratively\, emphasizing the importance of community\, shared effort\, and collective voice. The scale of the work is intentionally varied\, ranging from small\, intimate pieces to large-format installations\, mirroring the diversity of expression within the disability community. \nPresented during Disabilities Awareness Month\, Becoming invites viewers to look beyond labels and assumptions to see creativity\, agency\, and possibility. Each piece tells a story\, not of limitation\, but of growth\, imagination\, and presence. \nFor more information\, visit DaytonMetroLibrary.org/Exhibits or call the Library’s Ask Me Line at 937.463.2665.
URL:https://downtowndayton.org/event/becoming-70-years-of-growth-expression-and-possibility/2026-03-23/
LOCATION:Dayton Metro Library – Main Library\, 215 E. Third Street\, Dayton\, OH\, 45402
ATTACH;FMTTYPE=image/jpeg:https://downtowndayton.org/wp-content/uploads/2023/08/dml.jpg
END:VEVENT
BEGIN:VEVENT
DTSTART;TZID=America/New_York:20260323T144000
DTEND;TZID=America/New_York:20260323T144000
DTSTAMP:20260422T205101
CREATED:20260310T124413Z
LAST-MODIFIED:20260324T195619Z
UID:10055373-1774276800-1774276800@downtowndayton.org
SUMMARY:Tow
DESCRIPTION:“Based on a true story\, TOW follows Amanda Ogle (Rose Byrne)\, a woman living in her aging Toyota Camry on the streets of Seattle. When her car — her only lifeline – is stolen and impounded\, Amanda is thrust into a relentless legal battle against an indifferent system. What begins as a fight to reclaim her car evolves into a deeply human story of resilience\, dignity\, and the power of one woman’s voice in the face of systemic failure.”
URL:https://downtowndayton.org/event/tow/2026-03-23/1/
LOCATION:THE NEON\, United States
ATTACH;FMTTYPE=image/jpeg:https://downtowndayton.org/wp-content/uploads/2026/03/tow.jpg
END:VEVENT
BEGIN:VEVENT
DTSTART;TZID=America/New_York:20260323T145000
DTEND;TZID=America/New_York:20260323T145000
DTSTAMP:20260422T205101
CREATED:20260317T172027Z
LAST-MODIFIED:20260317T172027Z
UID:10055392-1774277400-1774277400@downtowndayton.org
SUMMARY:Mr. Nobody Against Putin
DESCRIPTION:This year’s Oscar winner for “Best Feature Length Documentary” is heading to THE NEON for a limited engagement starting March 20! “As Russia launches its full-scale invasion of Ukraine\, primary schools across Russia’s hinterlands are transformed into recruitment stages for the war. Facing the ethical dilemma of working in a system defined by propaganda and violence\, a brave teacher goes undercover to film what’s really happening in his own school.”
URL:https://downtowndayton.org/event/mr-nobody-against-putin/2026-03-23/1/
LOCATION:THE NEON\, United States
ATTACH;FMTTYPE=image/jpeg:https://downtowndayton.org/wp-content/uploads/2026/03/mrnobody.jpg
END:VEVENT
BEGIN:VEVENT
DTSTART;TZID=America/New_York:20260323T150000
DTEND;TZID=America/New_York:20260323T180000
DTSTAMP:20260422T205101
CREATED:20250924T115502Z
LAST-MODIFIED:20250924T115502Z
UID:10040148-1774278000-1774288800@downtowndayton.org
SUMMARY:Artist in Training (AIT) Program
DESCRIPTION:After school Artist in Training program geared for grades 3rd-12th grades. Classes are Monday-Wednesdays from 3:00pm-6:00pm. Open Studio time to explore different types of mediums such as Drawing\, Painting\, Clay\, Digital Art.  20.00 per session for Members/40.00 per session for Non-Members.
URL:https://downtowndayton.org/event/artist-in-training-ait-program/2026-03-23/
LOCATION:K12 Gallery & TEJAS\, 341 S. Jefferson St.\, Dayton\, OH\, 45402
ATTACH;FMTTYPE=image/jpeg:https://downtowndayton.org/wp-content/uploads/2023/12/k12tejas-scaled.jpg
END:VEVENT
BEGIN:VEVENT
DTSTART;TZID=America/New_York:20260323T171000
DTEND;TZID=America/New_York:20260323T171000
DTSTAMP:20260422T205101
CREATED:20260310T124413Z
LAST-MODIFIED:20260324T195619Z
UID:10055374-1774285800-1774285800@downtowndayton.org
SUMMARY:Tow
DESCRIPTION:“Based on a true story\, TOW follows Amanda Ogle (Rose Byrne)\, a woman living in her aging Toyota Camry on the streets of Seattle. When her car — her only lifeline – is stolen and impounded\, Amanda is thrust into a relentless legal battle against an indifferent system. What begins as a fight to reclaim her car evolves into a deeply human story of resilience\, dignity\, and the power of one woman’s voice in the face of systemic failure.”
URL:https://downtowndayton.org/event/tow/2026-03-23/2/
LOCATION:THE NEON\, United States
ATTACH;FMTTYPE=image/jpeg:https://downtowndayton.org/wp-content/uploads/2026/03/tow.jpg
END:VEVENT
BEGIN:VEVENT
DTSTART;TZID=America/New_York:20260323T192000
DTEND;TZID=America/New_York:20260323T192000
DTSTAMP:20260422T205101
CREATED:20260317T172027Z
LAST-MODIFIED:20260317T172027Z
UID:10055393-1774293600-1774293600@downtowndayton.org
SUMMARY:Mr. Nobody Against Putin
DESCRIPTION:This year’s Oscar winner for “Best Feature Length Documentary” is heading to THE NEON for a limited engagement starting March 20! “As Russia launches its full-scale invasion of Ukraine\, primary schools across Russia’s hinterlands are transformed into recruitment stages for the war. Facing the ethical dilemma of working in a system defined by propaganda and violence\, a brave teacher goes undercover to film what’s really happening in his own school.”
URL:https://downtowndayton.org/event/mr-nobody-against-putin/2026-03-23/2/
LOCATION:THE NEON\, United States
ATTACH;FMTTYPE=image/jpeg:https://downtowndayton.org/wp-content/uploads/2026/03/mrnobody.jpg
END:VEVENT
BEGIN:VEVENT
DTSTART;TZID=America/New_York:20260323T193000
DTEND;TZID=America/New_York:20260323T193000
DTSTAMP:20260422T205101
CREATED:20260310T124413Z
LAST-MODIFIED:20260324T195619Z
UID:10055375-1774294200-1774294200@downtowndayton.org
SUMMARY:Tow
DESCRIPTION:“Based on a true story\, TOW follows Amanda Ogle (Rose Byrne)\, a woman living in her aging Toyota Camry on the streets of Seattle. When her car — her only lifeline – is stolen and impounded\, Amanda is thrust into a relentless legal battle against an indifferent system. What begins as a fight to reclaim her car evolves into a deeply human story of resilience\, dignity\, and the power of one woman’s voice in the face of systemic failure.”
URL:https://downtowndayton.org/event/tow/2026-03-23/3/
LOCATION:THE NEON\, United States
ATTACH;FMTTYPE=image/jpeg:https://downtowndayton.org/wp-content/uploads/2026/03/tow.jpg
END:VEVENT
END:VCALENDAR