BEGIN:VCALENDAR
VERSION:2.0
PRODID:-//Downtown Dayton Partnership - ECPv6.8.1//NONSGML v1.0//EN
CALSCALE:GREGORIAN
METHOD:PUBLISH
X-ORIGINAL-URL:https://downtowndayton.org
X-WR-CALDESC:Events for Downtown Dayton Partnership
REFRESH-INTERVAL;VALUE=DURATION:PT1H
X-Robots-Tag:noindex
X-PUBLISHED-TTL:PT1H
BEGIN:VTIMEZONE
TZID:America/New_York
BEGIN:DAYLIGHT
TZOFFSETFROM:-0500
TZOFFSETTO:-0400
TZNAME:EDT
DTSTART:20260308T070000
END:DAYLIGHT
BEGIN:STANDARD
TZOFFSETFROM:-0400
TZOFFSETTO:-0500
TZNAME:EST
DTSTART:20261101T060000
END:STANDARD
END:VTIMEZONE
BEGIN:VEVENT
DTSTART;VALUE=DATE:20260329
DTEND;VALUE=DATE:20260330
DTSTAMP:20260419T113038
CREATED:20250528T121344Z
LAST-MODIFIED:20250528T121344Z
UID:10037131-1774742400-1774828799@downtowndayton.org
SUMMARY:Vinyl Vinyl Sundays
DESCRIPTION:Sunday – Vinyl Vinyl Sunday – bring your records\, we’ll play ’em
URL:https://downtowndayton.org/event/vinyl-vinyl-sundays/2026-03-29/
LOCATION:The Barrel House\, 417 E. Third St.\, Dayton\, OH\, 45402\, United States
ATTACH;FMTTYPE=image/jpeg:https://downtowndayton.org/wp-content/uploads/2025/05/bhvvs.jpg
END:VEVENT
BEGIN:VEVENT
DTSTART;VALUE=DATE:20260329
DTEND;VALUE=DATE:20260330
DTSTAMP:20260419T113038
CREATED:20260218T151335Z
LAST-MODIFIED:20260218T151335Z
UID:10054501-1774742400-1774828799@downtowndayton.org
SUMMARY:Tony Foster\, Exploring Time: A Painter’s Perspective
DESCRIPTION:Tony Foster\, Exploring Time: A Painter’s Perspective\nFebruary 21–May 17\, 2026\, Gallery 120 \nBetween 2007 and 2025\, Tony Foster embarked on his 19th Journey\, building it around a profound and layered theme: time. Across this body of work\, he investigates how time shapes the land—from the quick shifts of light and weather\, to the slow rhythms of seasons\, to the immense scales of biological and geological transformation. As Foster explains\, his aim is “to draw attention to the unseen forces that create place.” \nExploring Time brings together a remarkable series of watercolor diaries that capture nature in motion. His paintings reveal signs of change on multiple fronts: geological upheavals\, biological cycles and the marks left by human activity. With a discerning eye\, Foster records not only nature’s strength and resilience but also its vulnerability\, even in landscapes once dominated by industry and later reclaimed. \nIn a world where environmental change is often conveyed through striking images of global warming\, Foster offers a different perspective\, one that considers Earth’s continual evolution and the visible traces of time’s passage. Organized into four themes: geological\, biological\, human and the fleeting\, this exhibition invites viewers to engage with time at every scale\, from the span of a moment to the stretch of millennia\, while reflecting on the enduring impact of human presence.
URL:https://downtowndayton.org/event/tony-foster-exploring-time-a-painters-perspective/2026-03-29/
LOCATION:The Dayton Art Institute\, 456 Belmonte Park N\, Dayton\, OH\, 45405\, United States
ATTACH;FMTTYPE=image/jpeg:https://downtowndayton.org/wp-content/uploads/2026/02/foster-1.jpg
END:VEVENT
BEGIN:VEVENT
DTSTART;VALUE=DATE:20260329
DTEND;VALUE=DATE:20260330
DTSTAMP:20260419T113038
CREATED:20260302T125520Z
LAST-MODIFIED:20260302T125520Z
UID:10054935-1774742400-1774828799@downtowndayton.org
SUMMARY:Becoming: 70 Years of Growth\, Expression\, and Possibility
DESCRIPTION:Dayton Metro Library’s newest art exhibit\, Becoming: 70 Years of Growth\, Expression\, and Possibility\, will be on display Sunday\, March 1 – Tuesday\, March 31\, in the Main Library’s The 2nd Floor Gallery. \nBecoming celebrates the artists of United Rehabilitation Services (URS) and the ways creativity serves as a powerful form of communication\, identity\, and connection. \nFor 70 years\, URS has supported children and adults with developmental and acquired disabilities as they grow\, explore independence\, and express who they are. Their artwork reflects a journey of becoming\, not as a fixed destination but an ongoing process shaped by experience\, curiosity\, collaboration\, and self-expression. \nThe exhibit features a wide range of abilities\, styles\, and mediums. Some pieces were created individually\, while others were created collaboratively\, emphasizing the importance of community\, shared effort\, and collective voice. The scale of the work is intentionally varied\, ranging from small\, intimate pieces to large-format installations\, mirroring the diversity of expression within the disability community. \nPresented during Disabilities Awareness Month\, Becoming invites viewers to look beyond labels and assumptions to see creativity\, agency\, and possibility. Each piece tells a story\, not of limitation\, but of growth\, imagination\, and presence. \nFor more information\, visit DaytonMetroLibrary.org/Exhibits or call the Library’s Ask Me Line at 937.463.2665.
URL:https://downtowndayton.org/event/becoming-70-years-of-growth-expression-and-possibility/2026-03-29/
LOCATION:Dayton Metro Library – Main Library\, 215 E. Third Street\, Dayton\, OH\, 45402
ATTACH;FMTTYPE=image/jpeg:https://downtowndayton.org/wp-content/uploads/2023/08/dml.jpg
END:VEVENT
BEGIN:VEVENT
DTSTART;TZID=America/New_York:20260329T103000
DTEND;TZID=America/New_York:20260329T113000
DTSTAMP:20260419T113038
CREATED:20260212T153547Z
LAST-MODIFIED:20260212T153547Z
UID:10054369-1774780200-1774783800@downtowndayton.org
SUMMARY:Foraging for Morels
DESCRIPTION:Join Michael Goldstick from Guided By Mushrooms\, a Market Vendor\, for an introduction on how to forage for Morels. Join Michael for an introduction on how to forage for Morels\, the elusive and fleeting fungi\, along with other Spring mushrooms. Slide presentation along with Q & A. Meet in the Market’s east dining room.
URL:https://downtowndayton.org/event/foraging-for-morels/
LOCATION:2nd Street Market\, 600 E. Second St.\, Dayton\, OH\, 45402\, USA
ATTACH;FMTTYPE=image/jpeg:https://downtowndayton.org/wp-content/uploads/2023/08/2ndstmkt.jpg
END:VEVENT
BEGIN:VEVENT
DTSTART;TZID=America/New_York:20260329T120000
DTEND;TZID=America/New_York:20260329T120000
DTSTAMP:20260419T113038
CREATED:20260324T195749Z
LAST-MODIFIED:20260324T195749Z
UID:10055465-1774785600-1774785600@downtowndayton.org
SUMMARY:Natchez
DESCRIPTION:Join us for a special\, one-time screening of the Tribecca award-winning documentary NATCHEZ – Sunday\, March 29 at Noon! “Filmmaker Suzannah Herbert takes a sharp look at the American South’s unreconciled history through a Mississippi town that mixes antebellum tourism with a community deeply divided over its past. With an unflinching lens\, the film captures the debates\, memories\, and tensions that are building toward a reckoning.”\nA post-screening discussion will be led by Miranda Brooks\, Justice & Inclusion Administrator of Dayton’s Human Relations Council.\nTickets are $12.50 each.
URL:https://downtowndayton.org/event/natchez/
LOCATION:THE NEON\, United States
ATTACH;FMTTYPE=image/jpeg:https://downtowndayton.org/wp-content/uploads/2026/03/natchez.jpg
END:VEVENT
BEGIN:VEVENT
DTSTART;TZID=America/New_York:20260329T140000
DTEND;TZID=America/New_York:20260329T140000
DTSTAMP:20260419T113038
CREATED:20260325T171021Z
LAST-MODIFIED:20260325T171021Z
UID:10055511-1774792800-1774792800@downtowndayton.org
SUMMARY:Bill Blagg: Family Magic
DESCRIPTION:Saturday\, March 28\, 2026 – 1 & 4 p.m. Traditional Performances\nSunday\, March 29\, 2026 – 2 p.m. Sensory Inclusive Performance \nPrepare to be amazed as ordinary objects come to life while others vanish in the blink of an eye… and you could even be chosen to float in mid-air! FAMILY MAGIC is a unique blend of comedy\, audience participation\, and mind-bending magic that guarantees an unforgettable adventure for all ages. \nSENSORY INCLUSIVE PERFORMANCE\nIn the sensory inclusive performance on Sunday\, March 29\, you can expect a reduction of loud or jarring sounds\, the absence of flashing or strobe lighting on stage\, modification of house lights during the performance\, and a judgment-free environment where all patrons are free to vocalize or move around the theatre. There are trained staff members at the performance to help with any questions or needs during your visit. At no time will anyone be asked to leave the performance due to vocal reactions\, movement\, or behaviors related to cognitive or developmental abilities.
URL:https://downtowndayton.org/event/bill-blagg-family-magic/2026-03-29/
LOCATION:Victoria Theatre\, 138 N. Main St.\, Dayton\, OH\, 45402\, United States
ATTACH;FMTTYPE=image/jpeg:https://downtowndayton.org/wp-content/uploads/2026/03/fammag.jpg
END:VEVENT
BEGIN:VEVENT
DTSTART;TZID=America/New_York:20260329T150000
DTEND;TZID=America/New_York:20260329T150000
DTSTAMP:20260419T113038
CREATED:20260317T172240Z
LAST-MODIFIED:20260324T194959Z
UID:10055433-1774796400-1774796400@downtowndayton.org
SUMMARY:You’re Dating a Narcissist!
DESCRIPTION:An outspoken psychologist\, burnt by love\, takes an emergency trip to Los Angeles with her best friend to talk her smitten daughter out of marrying a man she is convinced is a narcissist.
URL:https://downtowndayton.org/event/youre-dating-a-narcissist/2026-03-29/1/
LOCATION:THE NEON\, United States
ATTACH;FMTTYPE=image/jpeg:https://downtowndayton.org/wp-content/uploads/2026/03/narci.jpg
END:VEVENT
BEGIN:VEVENT
DTSTART;TZID=America/New_York:20260329T150000
DTEND;TZID=America/New_York:20260329T150000
DTSTAMP:20260419T113038
CREATED:20260325T170528Z
LAST-MODIFIED:20260325T170528Z
UID:10055497-1774796400-1774796400@downtowndayton.org
SUMMARY:I Love You Because
DESCRIPTION:An uptight writer and a free-spirited photographer stumble through bad dates\, big dreams\, and the messiest love story they never saw coming. Pride and Prejudice meets Friends in this sharp\, fizzy musical\, proving that in life\, love\, and Manhattan\, perfect is overrated. \nMar. 27–Apr. 12\, 2026
URL:https://downtowndayton.org/event/i-love-you-because/2026-03-29/
LOCATION:Dayton Theatre Guild\, 430 Wayne Avenue\, Dayton\, OH\, 45410\, USA
ATTACH;FMTTYPE=image/jpeg:https://downtowndayton.org/wp-content/uploads/2026/03/loveyou.jpg
END:VEVENT
BEGIN:VEVENT
DTSTART;TZID=America/New_York:20260329T171500
DTEND;TZID=America/New_York:20260329T171500
DTSTAMP:20260419T113038
CREATED:20260324T194242Z
LAST-MODIFIED:20260324T195242Z
UID:10055450-1774804500-1774804500@downtowndayton.org
SUMMARY:Epic: Elvis Presley in Concert
DESCRIPTION:Long-lost footage from Elvis Presely’s legendary Las Vegas residency in the 1970s woven together with rare 16mm footage from Elvis on Tour\, and 8mm from the Graceland archive\, plus recordings of Elvis telling “his side of the story” rediscovered during Baz Luhrmann’s research for his 2022 film\, ELVIS.
URL:https://downtowndayton.org/event/epic-elvis-presley-in-concert/2026-03-29/
LOCATION:THE NEON\, United States
ATTACH;FMTTYPE=image/jpeg:https://downtowndayton.org/wp-content/uploads/2026/03/epic.jpg
END:VEVENT
BEGIN:VEVENT
DTSTART;TZID=America/New_York:20260329T190000
DTEND;TZID=America/New_York:20260329T190000
DTSTAMP:20260419T113038
CREATED:20260317T172240Z
LAST-MODIFIED:20260324T194959Z
UID:10055434-1774810800-1774810800@downtowndayton.org
SUMMARY:You’re Dating a Narcissist!
DESCRIPTION:An outspoken psychologist\, burnt by love\, takes an emergency trip to Los Angeles with her best friend to talk her smitten daughter out of marrying a man she is convinced is a narcissist.
URL:https://downtowndayton.org/event/youre-dating-a-narcissist/2026-03-29/2/
LOCATION:THE NEON\, United States
ATTACH;FMTTYPE=image/jpeg:https://downtowndayton.org/wp-content/uploads/2026/03/narci.jpg
END:VEVENT
BEGIN:VEVENT
DTSTART;TZID=America/New_York:20260329T193000
DTEND;TZID=America/New_York:20260329T193000
DTSTAMP:20260419T113038
CREATED:20260310T124413Z
LAST-MODIFIED:20260324T195619Z
UID:10055460-1774812600-1774812600@downtowndayton.org
SUMMARY:Tow
DESCRIPTION:“Based on a true story\, TOW follows Amanda Ogle (Rose Byrne)\, a woman living in her aging Toyota Camry on the streets of Seattle. When her car — her only lifeline – is stolen and impounded\, Amanda is thrust into a relentless legal battle against an indifferent system. What begins as a fight to reclaim her car evolves into a deeply human story of resilience\, dignity\, and the power of one woman’s voice in the face of systemic failure.”
URL:https://downtowndayton.org/event/tow/2026-03-29/
LOCATION:THE NEON\, United States
ATTACH;FMTTYPE=image/jpeg:https://downtowndayton.org/wp-content/uploads/2026/03/tow.jpg
END:VEVENT
END:VCALENDAR