BEGIN:VCALENDAR
VERSION:2.0
PRODID:-//Downtown Dayton Partnership - ECPv6.8.1//NONSGML v1.0//EN
CALSCALE:GREGORIAN
METHOD:PUBLISH
X-WR-CALNAME:Downtown Dayton Partnership
X-ORIGINAL-URL:https://downtowndayton.org
X-WR-CALDESC:Events for Downtown Dayton Partnership
REFRESH-INTERVAL;VALUE=DURATION:PT1H
X-Robots-Tag:noindex
X-PUBLISHED-TTL:PT1H
BEGIN:VTIMEZONE
TZID:America/New_York
BEGIN:DAYLIGHT
TZOFFSETFROM:-0500
TZOFFSETTO:-0400
TZNAME:EDT
DTSTART:20260308T070000
END:DAYLIGHT
BEGIN:STANDARD
TZOFFSETFROM:-0400
TZOFFSETTO:-0500
TZNAME:EST
DTSTART:20261101T060000
END:STANDARD
END:VTIMEZONE
BEGIN:VEVENT
DTSTART;VALUE=DATE:20260419
DTEND;VALUE=DATE:20260420
DTSTAMP:20260421T102206
CREATED:20250528T121344Z
LAST-MODIFIED:20250528T121344Z
UID:10037134-1776556800-1776643199@downtowndayton.org
SUMMARY:Vinyl Vinyl Sundays
DESCRIPTION:Sunday – Vinyl Vinyl Sunday – bring your records\, we’ll play ’em
URL:https://downtowndayton.org/event/vinyl-vinyl-sundays/2026-04-19/
LOCATION:The Barrel House\, 417 E. Third St.\, Dayton\, OH\, 45402\, United States
ATTACH;FMTTYPE=image/jpeg:https://downtowndayton.org/wp-content/uploads/2025/05/bhvvs.jpg
END:VEVENT
BEGIN:VEVENT
DTSTART;VALUE=DATE:20260419
DTEND;VALUE=DATE:20260420
DTSTAMP:20260421T102206
CREATED:20260218T151335Z
LAST-MODIFIED:20260218T151335Z
UID:10054516-1776556800-1776643199@downtowndayton.org
SUMMARY:Tony Foster\, Exploring Time: A Painter’s Perspective
DESCRIPTION:Tony Foster\, Exploring Time: A Painter’s Perspective\nFebruary 21–May 17\, 2026\, Gallery 120 \nBetween 2007 and 2025\, Tony Foster embarked on his 19th Journey\, building it around a profound and layered theme: time. Across this body of work\, he investigates how time shapes the land—from the quick shifts of light and weather\, to the slow rhythms of seasons\, to the immense scales of biological and geological transformation. As Foster explains\, his aim is “to draw attention to the unseen forces that create place.” \nExploring Time brings together a remarkable series of watercolor diaries that capture nature in motion. His paintings reveal signs of change on multiple fronts: geological upheavals\, biological cycles and the marks left by human activity. With a discerning eye\, Foster records not only nature’s strength and resilience but also its vulnerability\, even in landscapes once dominated by industry and later reclaimed. \nIn a world where environmental change is often conveyed through striking images of global warming\, Foster offers a different perspective\, one that considers Earth’s continual evolution and the visible traces of time’s passage. Organized into four themes: geological\, biological\, human and the fleeting\, this exhibition invites viewers to engage with time at every scale\, from the span of a moment to the stretch of millennia\, while reflecting on the enduring impact of human presence.
URL:https://downtowndayton.org/event/tony-foster-exploring-time-a-painters-perspective/2026-04-19/
LOCATION:The Dayton Art Institute\, 456 Belmonte Park N\, Dayton\, OH\, 45405\, United States
ATTACH;FMTTYPE=image/jpeg:https://downtowndayton.org/wp-content/uploads/2026/02/foster-1.jpg
END:VEVENT
BEGIN:VEVENT
DTSTART;VALUE=DATE:20260419
DTEND;VALUE=DATE:20260420
DTSTAMP:20260421T102206
CREATED:20260312T140637Z
LAST-MODIFIED:20260312T140637Z
UID:10055071-1776556800-1776643199@downtowndayton.org
SUMMARY:Discover Dayton Scavenger Hunt
DESCRIPTION:Explore downtown like never before during the Discover Downtown Dayton Scavenger Hunt! Throughout the month of April\, participants will visit local businesses\, complete fun challenges\, and learn interesting facts about downtown Dayton. Each participating location will feature a unique challenge such as taking a photo\, trying a signature item\, answering trivia\, or discovering something new about the space. Participants who complete challenges will be entered into prize drawings while supporting local businesses and exploring everything downtown has to offer. Grab your friends\, family\, or coworkers and see how many locations you can discover!  This is a month-long interactive scavenger hunt taking place April 1–30\, 2026. Participants may complete challenges anytime during regular business hours at participating downtown locations.  https://linktr.ee/livedowntown
URL:https://downtowndayton.org/event/discover-dayton-scavenger-hunt/2026-04-19/
LOCATION:Downtown Dayton
ATTACH;FMTTYPE=image/png:https://downtowndayton.org/wp-content/uploads/2026/03/DISCOVER-DAYTON-APRIL-1-30-2026.png
END:VEVENT
BEGIN:VEVENT
DTSTART;TZID=America/New_York:20260419T140000
DTEND;TZID=America/New_York:20260419T140000
DTSTAMP:20260421T102206
CREATED:20260331T131323Z
LAST-MODIFIED:20260331T131323Z
UID:10055565-1776607200-1776607200@downtowndayton.org
SUMMARY:Hay Fever
DESCRIPTION:APRIL 8 – 19\, 2026\nHay Fever\n\nPlaywright: Noël Coward\nDirector: Bob Hetherington\nCOLLABORATION with Wright State University\nHoping for a quiet weekend in the country with some guests\, Judith and David Bliss\, a retired actress and her novelist husband\, find peace to be impossible when their children\, Simon and Sorel\, appear with guests of their own. A houseful of misunderstandings\, tempers\, and drama ensue as the quiet weekend comes to a hilarious and exhausting end. \nRecommended if you liked… Noises Off; This is Tom Jones! \nBuy Tickets
URL:https://downtowndayton.org/event/hay-fever/2026-04-19/
LOCATION:The Human Race Theatre Company\, 126 N. Main St.\, Dayton\, OH\, 45402
ATTACH;FMTTYPE=image/jpeg:https://downtowndayton.org/wp-content/uploads/2026/03/hayfever.jpg
END:VEVENT
BEGIN:VEVENT
DTSTART;TZID=America/New_York:20260419T190000
DTEND;TZID=America/New_York:20260419T210000
DTSTAMP:20260421T102206
CREATED:20260312T140933Z
LAST-MODIFIED:20260312T140933Z
UID:10055089-1776625200-1776632400@downtowndayton.org
SUMMARY:Date My Friend at Two Social
DESCRIPTION:Tired of awkward dating apps? Ditch the swiping and get ready for a night of authentic fun\, real connection\, and hilarious presentations hosted by Gem City Social Sports! Date My Friend is a high-energy singles event where friends take the stage to pitch their single buddies to a room full of potential matches. It’s low pressure\, high entertainment\, and genuinely effective. The night kicks off with a Meet & Greet — mingle\, grab a drink\, and get to know who’s in the room. Then watch friends deliver creative 5-7 minute presentations selling why their buddy is the perfect catch. Stick around after for the after party with games\, drinks\, and new connections. Tickets are only $5. Get yours at: https://www.gemcitysocialsports.com/events/date-my-friend
URL:https://downtowndayton.org/event/date-my-friend-at-two-social/
LOCATION:Two Social\, 123 E. Third St.\, Dayton\, OH\, 45402
ATTACH;FMTTYPE=image/jpeg:https://downtowndayton.org/wp-content/uploads/2026/03/DMF-August-2025-EVENT-2.jpg
END:VEVENT
END:VCALENDAR