BEGIN:VCALENDAR
VERSION:2.0
PRODID:-//Downtown Dayton Partnership - ECPv6.8.1//NONSGML v1.0//EN
CALSCALE:GREGORIAN
METHOD:PUBLISH
X-WR-CALNAME:Downtown Dayton Partnership
X-ORIGINAL-URL:https://downtowndayton.org
X-WR-CALDESC:Events for Downtown Dayton Partnership
REFRESH-INTERVAL;VALUE=DURATION:PT1H
X-Robots-Tag:noindex
X-PUBLISHED-TTL:PT1H
BEGIN:VTIMEZONE
TZID:America/New_York
BEGIN:DAYLIGHT
TZOFFSETFROM:-0500
TZOFFSETTO:-0400
TZNAME:EDT
DTSTART:20260308T070000
END:DAYLIGHT
BEGIN:STANDARD
TZOFFSETFROM:-0400
TZOFFSETTO:-0500
TZNAME:EST
DTSTART:20261101T060000
END:STANDARD
END:VTIMEZONE
BEGIN:VEVENT
DTSTART;VALUE=DATE:20260421
DTEND;VALUE=DATE:20260422
DTSTAMP:20260421T015237
CREATED:20260312T140637Z
LAST-MODIFIED:20260312T140637Z
UID:10055073-1776729600-1776815999@downtowndayton.org
SUMMARY:Discover Dayton Scavenger Hunt
DESCRIPTION:Explore downtown like never before during the Discover Downtown Dayton Scavenger Hunt! Throughout the month of April\, participants will visit local businesses\, complete fun challenges\, and learn interesting facts about downtown Dayton. Each participating location will feature a unique challenge such as taking a photo\, trying a signature item\, answering trivia\, or discovering something new about the space. Participants who complete challenges will be entered into prize drawings while supporting local businesses and exploring everything downtown has to offer. Grab your friends\, family\, or coworkers and see how many locations you can discover!  This is a month-long interactive scavenger hunt taking place April 1–30\, 2026. Participants may complete challenges anytime during regular business hours at participating downtown locations.  https://linktr.ee/livedowntown
URL:https://downtowndayton.org/event/discover-dayton-scavenger-hunt/2026-04-21/
LOCATION:Downtown Dayton
ATTACH;FMTTYPE=image/png:https://downtowndayton.org/wp-content/uploads/2026/03/DISCOVER-DAYTON-APRIL-1-30-2026.png
END:VEVENT
BEGIN:VEVENT
DTSTART;VALUE=DATE:20260421
DTEND;VALUE=DATE:20260422
DTSTAMP:20260421T015237
CREATED:20260330T133505Z
LAST-MODIFIED:20260330T133505Z
UID:10055527-1776729600-1776815999@downtowndayton.org
SUMMARY:2026 Sinclair Community College Graduating Fine Art Students’ Portfolio Exhibition
DESCRIPTION:The Sinclair Community College Art Department is pleased to present works by the 2026 graduating class. From April 18 through May 7\, the Burnell R. Roberts Triangle Gallery and other galleries in Building 13 will exhibit artwork by students graduating from Sinclair with an Associate of Arts\, Art degree. The graduates are in charge of both selecting works from their portfolios for exhibition as well as installing the show. Exhibiting artists include Dean Abele\, Allison Ander\, Nar Byrd\, Noah Caballero\, Gail Coleman\, Kaitlyn Cramer\, Madison Dickey\, Calista Dillon\, Ashlyn Haywood\, Arden Jackson\, Ja’Shayla Jennings\, Marcie Kincaid\, Emma LaRocco\, Taylor Law\, Delaney Manzo\, Bonita Mitchell\, Melanie Perez-Garcia\, Denell Pierce\, Hailey Prather\, Max Quinn\, Charlotte Repasy\, Alexia Richardson\, Audrey Rickmon\, Brendan Riley\, Cosmo Steele\, Jeremiah Wiggins\, and Anna Ziegler. There will be a public reception on April 30 from 4:30pm-6pm in the 4th Floor Atrium of Building 13. The galleries are located at the corner of West Fifth and Perry Street in Building 13 on the 4th Floor. The galleries are free and open to the public from 8am–6pm Monday–Friday and 9am–12pm Saturdays.
URL:https://downtowndayton.org/event/2026-sinclair-community-college-graduating-fine-art-students-portfolio-exhibition/2026-04-21/
LOCATION:Galleries at Sinclair College\, 444 W. Third St.\, Bldg. 13\, Dayton\, OH\, 45402
ATTACH;FMTTYPE=image/jpeg:https://downtowndayton.org/wp-content/uploads/2026/03/sinclgradart.jpg
END:VEVENT
BEGIN:VEVENT
DTSTART;TZID=America/New_York:20260421T130000
DTEND;TZID=America/New_York:20260421T150000
DTSTAMP:20260421T015237
CREATED:20250924T114502Z
LAST-MODIFIED:20250924T114502Z
UID:10039851-1776776400-1776783600@downtowndayton.org
SUMMARY:Adult Weekday Classes
DESCRIPTION:Tuesday and Wednesday weekday classes: Tuesdays (September-May) Stained Glass Classes: 1:00pm-3:00pm Ceramics/Clay Classes: 3:00pm-5:00pm Glassblowing Classes: 3:30pm-5:30pm Wednesdays (September-May) Still Life Oil Painting Classes: 1:00pm-3:00pm Glassblowing Classes: 2:00pm-4:00pm or 6:00pm-8:00pm. Call for Costs.
URL:https://downtowndayton.org/event/adult-weekday-classes/2026-04-21/
LOCATION:K12 Gallery & TEJAS\, 341 S. Jefferson St.\, Dayton\, OH\, 45402
ATTACH;FMTTYPE=image/jpeg:https://downtowndayton.org/wp-content/uploads/2023/12/k12tejas-scaled.jpg
END:VEVENT
BEGIN:VEVENT
DTSTART;TZID=America/New_York:20260421T150000
DTEND;TZID=America/New_York:20260421T170000
DTSTAMP:20260421T015237
CREATED:20250924T114552Z
LAST-MODIFIED:20250924T114552Z
UID:10039886-1776783600-1776790800@downtowndayton.org
SUMMARY:Adult Weekday Classes
DESCRIPTION:Tuesday and Wednesday weekday classes: Tuesdays (September-May) Stained Glass Classes: 1:00pm-3:00pm Ceramics/Clay Classes: 3:00pm-5:00pm Glassblowing Classes: 3:30pm-5:30pm Wednesdays (September-May) Still Life Oil Painting Classes: 1:00pm-3:00pm Glassblowing Classes: 2:00pm-4:00pm or 6:00pm-8:00pm. Call for Costs.
URL:https://downtowndayton.org/event/adult-weekday-classes-2/2026-04-21/
LOCATION:K12 Gallery & TEJAS\, 341 S. Jefferson St.\, Dayton\, OH\, 45402
ATTACH;FMTTYPE=image/jpeg:https://downtowndayton.org/wp-content/uploads/2023/12/k12tejas-scaled.jpg
END:VEVENT
BEGIN:VEVENT
DTSTART;TZID=America/New_York:20260421T150000
DTEND;TZID=America/New_York:20260421T180000
DTSTAMP:20260421T015237
CREATED:20250924T115502Z
LAST-MODIFIED:20250924T115502Z
UID:10040161-1776783600-1776794400@downtowndayton.org
SUMMARY:Artist in Training (AIT) Program
DESCRIPTION:After school Artist in Training program geared for grades 3rd-12th grades. Classes are Monday-Wednesdays from 3:00pm-6:00pm. Open Studio time to explore different types of mediums such as Drawing\, Painting\, Clay\, Digital Art.  20.00 per session for Members/40.00 per session for Non-Members.
URL:https://downtowndayton.org/event/artist-in-training-ait-program/2026-04-21/
LOCATION:K12 Gallery & TEJAS\, 341 S. Jefferson St.\, Dayton\, OH\, 45402
ATTACH;FMTTYPE=image/jpeg:https://downtowndayton.org/wp-content/uploads/2023/12/k12tejas-scaled.jpg
END:VEVENT
BEGIN:VEVENT
DTSTART;TZID=America/New_York:20260421T150000
DTEND;TZID=America/New_York:20260421T180000
DTSTAMP:20260421T015237
CREATED:20260402T144622Z
LAST-MODIFIED:20260402T144622Z
UID:10055600-1776783600-1776794400@downtowndayton.org
SUMMARY:Student Success Centers – Reconnect
DESCRIPTION:Dayton Metro Library’s new program\, Student Success Centers – Reconnect\, is offered every Tuesday and Thursday\, 3-6 pm\, through May 21\, in the Main Library’s Tech Lab A. \n  \nReconnect offers support to youth ages 16-21 working toward a GED or high school diploma. Extra help with reading\, writing\, and math is available\, along with life skills coaching\, opportunities to build friendships\, and connecting with mentors. \n  \nReconnect grew out of a revamp of DML’s Homework Help Centers\, now known as Student Success Centers\, located within seven Branches. “We expanded to an eighth Center at the Main Library that focuses on serving an overlooked demographic of young people called ‘opportunity youth\,’” explains Allison Knight\, DML’s Youth Services and Programming Director. “Opportunity youth are young enough to be served by public schools but disengaged from formal school or work.” \n  \nSinclair’s Fast Forward Re-Engagement Center has been an advocate for the gap in community services to opportunity youth. After speaking with their Project Director and researching the need\, DML staff used existing plans for the Student Success Centers expansion to address it. \n  \nRenaming the Student Success Centers allows DML to designate Student Success Centers – K12 for its mainstream students and Student Success Centers – Reconnect for opportunity youth. With the noted distinction between the Centers and Reconnect\, DML can train staff accordingly and specialize the services offered at each location. \n  \nRegistration is not required for Reconnect. Patrons may drop in any time during the posted hours. For more information\, visit DaytonMetroLibrary.org or call the Library’s Ask Me Line at 937.463.2665.
URL:https://downtowndayton.org/event/student-success-centers-reconnect/2026-04-21/
LOCATION:Dayton Metro Library – Main Library\, 215 E. Third Street\, Dayton\, OH\, 45402
ATTACH;FMTTYPE=image/jpeg:https://downtowndayton.org/wp-content/uploads/2023/08/dml.jpg
END:VEVENT
BEGIN:VEVENT
DTSTART;TZID=America/New_York:20260421T153000
DTEND;TZID=America/New_York:20260421T173000
DTSTAMP:20260421T015237
CREATED:20250924T114821Z
LAST-MODIFIED:20250924T114821Z
UID:10039922-1776785400-1776792600@downtowndayton.org
SUMMARY:Adult Weekday Classes
DESCRIPTION:Tuesday and Wednesday weekday classes: Tuesdays (September-May) Stained Glass Classes: 1:00pm-3:00pm Ceramics/Clay Classes: 3:00pm-5:00pm Glassblowing Classes: 3:30pm-5:30pm Wednesdays (September-May) Still Life Oil Painting Classes: 1:00pm-3:00pm Glassblowing Classes: 2:00pm-4:00pm or 6:00pm-8:00pm. Call for Costs.
URL:https://downtowndayton.org/event/adult-weekday-classes-3/2026-04-21/
LOCATION:K12 Gallery & TEJAS\, 341 S. Jefferson St.\, Dayton\, OH\, 45402
ATTACH;FMTTYPE=image/jpeg:https://downtowndayton.org/wp-content/uploads/2023/12/k12tejas-scaled.jpg
END:VEVENT
BEGIN:VEVENT
DTSTART;TZID=America/New_York:20260421T190000
DTEND;TZID=America/New_York:20260421T210000
DTSTAMP:20260421T015237
CREATED:20260312T140814Z
LAST-MODIFIED:20260312T140814Z
UID:10055087-1776798000-1776805200@downtowndayton.org
SUMMARY:Social Cornhole League at Two Social
DESCRIPTION:Ready to get sippin’ and tossin’? Gem City Social Sports is bringing social cornhole to Downtown Dayton! Whether you’re a champion player or mainly play to have an excuse to drink\, this is the league for you. Sign up solo as a Free Agent or bring a team of 2-4. We’ll handle matchmaking\, digital scorekeeping\, and prizes — over $500 up for grabs! League runs Tuesday evenings starting March 24\, 2026 through April 28\, 2026. Register at: https://www.gemcitysocialsports.com/sports/cornhole
URL:https://downtowndayton.org/event/social-cornhole-league-at-two-social/2026-04-21/
LOCATION:Two Social\, 123 E. Third St.\, Dayton\, OH\, 45402
ATTACH;FMTTYPE=image/jpeg:https://downtowndayton.org/wp-content/uploads/2026/03/Cornhole-Facebook-Event-Cover.jpg
END:VEVENT
BEGIN:VEVENT
DTSTART;TZID=America/New_York:20260421T190000
DTEND;TZID=America/New_York:20260421T230000
DTSTAMP:20260421T015237
CREATED:20250528T120726Z
LAST-MODIFIED:20250528T120726Z
UID:10036352-1776798000-1776812400@downtowndayton.org
SUMMARY:Karaoke
DESCRIPTION:Tuesdays – Karaoke with @raineyday.entertainment – $5 off full draft flights until 9 p.m.
URL:https://downtowndayton.org/event/karaoke-2/2026-04-21/
LOCATION:The Barrel House\, 417 E. Third St.\, Dayton\, OH\, 45402\, United States
ATTACH;FMTTYPE=image/jpeg:https://downtowndayton.org/wp-content/uploads/2025/05/bhk.jpg
END:VEVENT
BEGIN:VEVENT
DTSTART;TZID=America/New_York:20260421T190500
DTEND;TZID=America/New_York:20260421T190500
DTSTAMP:20260421T015237
CREATED:20260227T140230Z
LAST-MODIFIED:20260227T140230Z
UID:10054850-1776798300-1776798300@downtowndayton.org
SUMMARY:Dayton Dragons vs. South Bend Cubs
DESCRIPTION:Catch one of the hottest tickets in sports – see the Dayton Dragons play baseball at Day Air Ballpark! For tickets and more information\, visit www.daytondragons.com or call 228-2287.
URL:https://downtowndayton.org/event/dayton-dragons-vs-south-bend-cubs-3/2026-04-21/
LOCATION:Day Air Ballpark\, 220 North Patterson Blvd.\, Dayton\, OH\, 45402
ATTACH;FMTTYPE=image/jpeg:https://downtowndayton.org/wp-content/uploads/2023/01/dragons16x9.jpg
END:VEVENT
BEGIN:VEVENT
DTSTART;TZID=America/New_York:20260421T200000
DTEND;TZID=America/New_York:20260421T230000
DTSTAMP:20260421T015237
CREATED:20250318T140916Z
LAST-MODIFIED:20250318T140916Z
UID:10031343-1776801600-1776812400@downtowndayton.org
SUMMARY:Karaoke with Zane
DESCRIPTION:Yellow Cab Tavern Karaoke is BACK every Tuesday at 8pm with MC Zane Gerlach!\nEntry is always free!\nWith a catalog of over 60\,000 songs\, we have your favorites to sing…and if we don’t\, we’ll do everything we can to get it for you!\nGet your friends and family together and we’ll see you on Tuesday nights at The Yellow Cab Tavern!
URL:https://downtowndayton.org/event/karaoke-with-zane/2026-04-21/
LOCATION:Yellow Cab Tavern\, 700 E 4th St\, Dayton\, OH\, 45402\, United States
ATTACH;FMTTYPE=image/jpeg:https://downtowndayton.org/wp-content/uploads/2025/03/yck.jpg
END:VEVENT
END:VCALENDAR