BEGIN:VCALENDAR
VERSION:2.0
PRODID:-//Downtown Dayton Partnership - ECPv6.8.1//NONSGML v1.0//EN
CALSCALE:GREGORIAN
METHOD:PUBLISH
X-ORIGINAL-URL:https://downtowndayton.org
X-WR-CALDESC:Events for Downtown Dayton Partnership
REFRESH-INTERVAL;VALUE=DURATION:PT1H
X-Robots-Tag:noindex
X-PUBLISHED-TTL:PT1H
BEGIN:VTIMEZONE
TZID:America/New_York
BEGIN:DAYLIGHT
TZOFFSETFROM:-0500
TZOFFSETTO:-0400
TZNAME:EDT
DTSTART:20260308T070000
END:DAYLIGHT
BEGIN:STANDARD
TZOFFSETFROM:-0400
TZOFFSETTO:-0500
TZNAME:EST
DTSTART:20261101T060000
END:STANDARD
END:VTIMEZONE
BEGIN:VEVENT
DTSTART;TZID=America/New_York:20260903T170000
DTEND;TZID=America/New_York:20260903T200000
DTSTAMP:20260423T022129
CREATED:20260406T173924Z
LAST-MODIFIED:20260406T173924Z
UID:10055621-1788454800-1788465600@downtowndayton.org
SUMMARY:Collage Night
DESCRIPTION:Come get creative in a relaxed\, welcome space–no experience necessary! We’ll provide materials\, or feel free to bring your own. Whether you’re an experienced artist or just looking to unwind and try something new\, this night is all about making\, experimenting\, and connecting with others through art. Free .
URL:https://downtowndayton.org/event/collage-night/2026-09-03/
LOCATION:The Contemporary Dayton\, 25 W. Fourth St.\, Dayton\, OH\, 45402\, United States
ATTACH;FMTTYPE=image/jpeg:https://downtowndayton.org/wp-content/uploads/2025/06/collage.jpg
END:VEVENT
BEGIN:VEVENT
DTSTART;TZID=America/New_York:20260903T190000
DTEND;TZID=America/New_York:20260903T210000
DTSTAMP:20260423T022129
CREATED:20260420T183322Z
LAST-MODIFIED:20260420T183322Z
UID:10055906-1788462000-1788469200@downtowndayton.org
SUMMARY:Music Bingo
DESCRIPTION:Turn up the fun and test your knowledge at Music Bingo\, where your favorite songs replace the numbers and every round feels like a mini dance party. Grab your friends\, sing along\, and play for prizes! Settle in by the RiverScape Café with some food and drinks\, then see how fast you can match the tunes to your card. The first to hit five in a row takes the win with a variety of prizes\, so keep your ears sharp and your bingo marker ready! Music Bingo is free to participate\, but we recommend coming early as bingo sheets are limited. The RiverScape Café will be open with a variety of flatbreads\, sides\, desserts\, and refreshments available for purchase. For those 21 and over\, there will also be a full menu of cocktails\, wine\, and beer available for purchase as part of the Downtown Dayton DORA.
URL:https://downtowndayton.org/event/music-bingo/2026-09-03/
LOCATION:RiverScape MetroPark\, 237 E Monument Ave\, Dayton\, OH\, 45402\, United States
ATTACH;FMTTYPE=image/jpeg:https://downtowndayton.org/wp-content/uploads/2026/04/661717476_1356027519890221_6703995970341968795_n.jpg
END:VEVENT
BEGIN:VEVENT
DTSTART;TZID=America/New_York:20260903T190500
DTEND;TZID=America/New_York:20260903T190500
DTSTAMP:20260423T022129
CREATED:20260227T141157Z
LAST-MODIFIED:20260227T141157Z
UID:10054882-1788462300-1788462300@downtowndayton.org
SUMMARY:Dayton Dragons vs. West Michigan Whitecaps
DESCRIPTION:Catch one of the hottest tickets in sports – see the Dayton Dragons play baseball at Day Air Ballpark! For tickets and more information\, visit www.daytondragons.com or call 228-2287.
URL:https://downtowndayton.org/event/dayton-dragons-vs-west-michigan-whitecaps/2026-09-03/
LOCATION:Day Air Ballpark\, 220 North Patterson Blvd.\, Dayton\, OH\, 45402
ATTACH;FMTTYPE=image/jpeg:https://downtowndayton.org/wp-content/uploads/2023/01/dragons16x9.jpg
END:VEVENT
BEGIN:VEVENT
DTSTART;TZID=America/New_York:20260903T193000
DTEND;TZID=America/New_York:20260903T223000
DTSTAMP:20260423T022129
CREATED:20250528T121150Z
LAST-MODIFIED:20250528T121150Z
UID:10036893-1788463800-1788474600@downtowndayton.org
SUMMARY:Open Mic Night
DESCRIPTION:Open Mic Night – sign up online\, then show up and show out.
URL:https://downtowndayton.org/event/open-mic-night/2026-09-03/
LOCATION:The Barrel House\, 417 E. Third St.\, Dayton\, OH\, 45402\, United States
ATTACH;FMTTYPE=image/jpeg:https://downtowndayton.org/wp-content/uploads/2025/05/bhom.jpg
END:VEVENT
BEGIN:VEVENT
DTSTART;TZID=America/New_York:20260903T200000
DTEND;TZID=America/New_York:20260903T200000
DTSTAMP:20260423T022129
CREATED:20250318T142048Z
LAST-MODIFIED:20250318T142048Z
UID:10031885-1788465600-1788465600@downtowndayton.org
SUMMARY:Music Bingo Thursdays
DESCRIPTION:We have music bingo every Thursday! It’s free to play\, lots of fun\, hosted by KG\, and there are prizes galore. Come check it out!
URL:https://downtowndayton.org/event/music-bingo-thursdays/2026-09-03/
LOCATION:The Trolley Stop\, 530 E. Fifth St.\, Dayton\, OH\, 45402\, USA
ATTACH;FMTTYPE=image/jpeg:https://downtowndayton.org/wp-content/uploads/2025/03/trolley.jpg
END:VEVENT
END:VCALENDAR