BEGIN:VCALENDAR
VERSION:2.0
PRODID:-//Downtown Dayton Partnership - ECPv6.8.1//NONSGML v1.0//EN
CALSCALE:GREGORIAN
METHOD:PUBLISH
X-ORIGINAL-URL:https://downtowndayton.org
X-WR-CALDESC:Events for Downtown Dayton Partnership
REFRESH-INTERVAL;VALUE=DURATION:PT1H
X-Robots-Tag:noindex
X-PUBLISHED-TTL:PT1H
BEGIN:VTIMEZONE
TZID:America/New_York
BEGIN:DAYLIGHT
TZOFFSETFROM:-0500
TZOFFSETTO:-0400
TZNAME:EDT
DTSTART:20250309T070000
END:DAYLIGHT
BEGIN:STANDARD
TZOFFSETFROM:-0400
TZOFFSETTO:-0500
TZNAME:EST
DTSTART:20251102T060000
END:STANDARD
END:VTIMEZONE
BEGIN:VEVENT
DTSTART;TZID=America/New_York:20250507T173000
DTEND;TZID=America/New_York:20250507T183000
DTSTAMP:20260425T093456
CREATED:20250414T155342Z
LAST-MODIFIED:20250414T155342Z
UID:10033119-1746639000-1746642600@downtowndayton.org
SUMMARY:Free Yoga – Arcade Arts & Wellness
DESCRIPTION:The 2025 Arcade Arts & Wellness Series is a rejuvenating journey with a variety of local yoga instructors amidst the timeless charm of this iconic landmark. Come and join us for these exciting events! \nTraditional Yoga with Michelle Daniel of The Lifestyle Technique | The Arcade’s Rotunda\, 35 W. Fourth St. Wednesday\, May 7 – 5:30 PM – 6:30 PM Wednesday\, June 11 – 5:30 PM – 6:30 PM Wednesday\, July 2 – 5:30 PM – 6:30 PM \nThis series is free and open to all but may require Eventbrite pre-registration and on-site waivers. https://www.eventbrite.com/e/arcade-arts-wellness-yoga-tickets-1279326974419?aff=oddtdtcreator \nDoors open to registered participants 15 minutes before the start of each class. Equipment will not be provided. Always consult your physician before beginning any exercise or wellness program. After your practice ends\, plan to shop from a curated selection of vendors. We’ll see you at the Arcade on the mat soon! \nSeries Presented by: The Contemporary Dayton\, Friends of the Dayton Arcade\, and The Hub Powered by PNC Bank
URL:https://downtowndayton.org/event/free-yoga-arcade-arts-wellness/2025-05-07/
LOCATION:Dayton Arcade\, 35 W. Fourth St.\, Dayton\, OH\, 45402
CATEGORIES:Active Living,Community,Free Events,Health & Wellness
ATTACH;FMTTYPE=image/png:https://downtowndayton.org/wp-content/uploads/2025/04/Arcade-Arts-and-Wellness-Header.png
END:VEVENT
BEGIN:VEVENT
DTSTART;TZID=America/New_York:20250510T110000
DTEND;TZID=America/New_York:20250510T123000
DTSTAMP:20260425T093456
CREATED:20250416T180955Z
LAST-MODIFIED:20250416T180955Z
UID:10033124-1746874800-1746880200@downtowndayton.org
SUMMARY:A Sound Slumber: Mother’s Day Sound Bath
DESCRIPTION:Celebrate Mother’s Day at Space Three with deep rest and relaxation. $40 ticket includes light snacks and a complimentary gift to help you continue the calm at home. LIMITED SPOTS AVAILABLE!
URL:https://downtowndayton.org/event/a-sound-slumber-mothers-day-sound-bath/
LOCATION:Space Three\, 39 S. St. Clair St.\, Dayton\, OH\, 45402
CATEGORIES:Active Living,Health & Wellness
ATTACH;FMTTYPE=image/jpeg:https://downtowndayton.org/wp-content/uploads/2019/12/spacethree.jpg
END:VEVENT
BEGIN:VEVENT
DTSTART;TZID=America/New_York:20250531T120000
DTEND;TZID=America/New_York:20250531T140000
DTSTAMP:20260425T093456
CREATED:20250516T192702Z
LAST-MODIFIED:20250516T192702Z
UID:10036262-1748692800-1748700000@downtowndayton.org
SUMMARY:Dayton Freestyle Kayaking Competition
DESCRIPTION:Spectators are welcome as Dayton-area kayakers compete at RiverScape’s River Run for various awards. Stop by and watch as kayakers turn cartwheels\, flips and rolls in the wave created by the drop\, making for a fun\, vibrant scene along our downtown riverfront and bikeway.
URL:https://downtowndayton.org/event/dayton-freestyle-kayaking-competition/
LOCATION:RiverScape MetroPark\, 237 E Monument Ave\, Dayton\, OH\, 45402\, United States
CATEGORIES:Active Living,Free Events,Outdoors,Paddle Sports
ATTACH;FMTTYPE=image/jpeg:https://downtowndayton.org/wp-content/uploads/2023/11/riverscape.jpg
END:VEVENT
END:VCALENDAR