BEGIN:VCALENDAR
VERSION:2.0
PRODID:-//Downtown Dayton Partnership - ECPv6.8.1//NONSGML v1.0//EN
CALSCALE:GREGORIAN
METHOD:PUBLISH
X-WR-CALNAME:Downtown Dayton Partnership
X-ORIGINAL-URL:https://downtowndayton.org
X-WR-CALDESC:Events for Downtown Dayton Partnership
REFRESH-INTERVAL;VALUE=DURATION:PT1H
X-Robots-Tag:noindex
X-PUBLISHED-TTL:PT1H
BEGIN:VTIMEZONE
TZID:America/New_York
BEGIN:DAYLIGHT
TZOFFSETFROM:-0500
TZOFFSETTO:-0400
TZNAME:EDT
DTSTART:20250309T070000
END:DAYLIGHT
BEGIN:STANDARD
TZOFFSETFROM:-0400
TZOFFSETTO:-0500
TZNAME:EST
DTSTART:20251102T060000
END:STANDARD
END:VTIMEZONE
BEGIN:VEVENT
DTSTART;TZID=America/New_York:20250612T173000
DTEND;TZID=America/New_York:20250612T190000
DTSTAMP:20260424T045953
CREATED:20250603T145751Z
LAST-MODIFIED:20250603T145751Z
UID:10037604-1749749400-1749754800@downtowndayton.org
SUMMARY:Honoring the Service and Legacy of America’s Women Veterans
DESCRIPTION:Join us at The Dayton Woman’s Club as we honor the remarkable contributions of women in the U.S. military at our Women Veterans Day Celebration. \nWe are proud to welcome guest speaker Abby Auclair\, a local Vietnam War veteran and former Army nurse. Abby’s courageous service and powerful story parallel the emotional journey portrayed in Kristin Hannah’s best-selling novel The Women. Her experiences provide an unforgettable perspective on what it meant to serve during one of the most turbulent times in American history. \nLet’s gather in gratitude\, remembrance\, and celebration as we spotlight the strength\, service\, and legacy of our women veterans. \nSpecial Gift for Women Veterans:\nEach attending woman veteran will receive a complimentary copy of Empowered Women: Ohio Women in the Military\, written by DWC Vice President Kim Villalva — an insightful and engaging book that explores the powerful impact of women in our nation’s military from the Revolutionary War to today. Books will be available for purchase as well. \nFREE for Women Veterans\n$15 for all other guests \nBeverages & light snacks will be served \nADVANCE ONLINE TICKET PURCHASE REQUIRED
URL:https://downtowndayton.org/event/honoring-the-service-and-legacy-of-americas-women-veterans/
LOCATION:The Dayton Woman’s Club\, 225 N Ludlow St\, Dayton\, OH\, 45402\, United States
CATEGORIES:Author Visits,Book Discussions,Community,Food & Drink
ATTACH;FMTTYPE=image/jpeg:https://downtowndayton.org/wp-content/uploads/2025/06/Untitled-design-12.jpg
END:VEVENT
BEGIN:VEVENT
DTSTART;TZID=America/New_York:20250617T173000
DTEND;TZID=America/New_York:20250617T190000
DTSTAMP:20260424T045953
CREATED:20250603T150830Z
LAST-MODIFIED:20250603T150830Z
UID:10037605-1750181400-1750186800@downtowndayton.org
SUMMARY:Navigating Change with Courage
DESCRIPTION:The Dayton Woman’s Club invites you to the inaugural evening of our new Woman Matters Speaker Series\, created to empower and uplift women of all ages through meaningful conversations and practical wisdom. \nOur first event\, Navigating Change with Courage\, features the acclaimed authors of Widows Among Us. Known as Three Widows\, these inspiring women share heartfelt lessons on healing\, navigating life’s unexpected turns\, and rediscovering joy. Through humor\, honesty\, and heart\, they offer valuable life lessons for women navigating change\, supporting others\, or seeking strength in uncertain times. \nTheir personal journeys through grief and growth have touched lives across the country. \nThey’ll share: \n\n\nEncouragement for women in any season of transition \n\n\nReal-world stories with relatable insights \n\n\nGracefully navigating life transitions \n\n\nBuilding resilience and rediscovering joy \n\n\nReal-world tools for moving forward \n\n\nGrief\, healing\, and emotional strength \n\n\nWhether you’re facing change\, supporting someone who is\, or simply curious to hear powerful\, authentic stories\, this evening will leave you inspired and better equipped for the road ahead. \nReserve your seat today – space is limited! \nAdmission: $15 per person\nOptional boxed dinners available for $15 \nAbout the Speakers\nKaren Justice\, Rebecca LaChance\, and Karen Smith-Racicot—the voices behind Three Widows—bring a wealth of personal experience\, professional insight\, and heartfelt storytelling to the stage. \nEach woman faced the profound loss of a spouse and chose to turn her grief into growth. Drawing from careers in healthcare\, coaching\, nonprofit leadership\, and education\, they offer a multidimensional perspective on resilience and reinvention. \nTheir award-winning book\, Widows Among Us: Stories and Insights\, has been praised for its honesty\, hope\, and practical guidance. Together\, they share not just what they’ve learned—but how they’ve lived it—with humor\, compassion\, and strength.
URL:https://downtowndayton.org/event/navigating-change-with-courage/
LOCATION:OH
CATEGORIES:Author Visits,Book Discussions,Community,Literary
ATTACH;FMTTYPE=image/jpeg:https://downtowndayton.org/wp-content/uploads/2025/06/Untitled-design-13.jpg
END:VEVENT
END:VCALENDAR