BEGIN:VCALENDAR
VERSION:2.0
PRODID:-//Downtown Dayton Partnership - ECPv6.8.1//NONSGML v1.0//EN
CALSCALE:GREGORIAN
METHOD:PUBLISH
X-WR-CALNAME:Downtown Dayton Partnership
X-ORIGINAL-URL:https://downtowndayton.org
X-WR-CALDESC:Events for Downtown Dayton Partnership
REFRESH-INTERVAL;VALUE=DURATION:PT1H
X-Robots-Tag:noindex
X-PUBLISHED-TTL:PT1H
BEGIN:VTIMEZONE
TZID:America/New_York
BEGIN:DAYLIGHT
TZOFFSETFROM:-0500
TZOFFSETTO:-0400
TZNAME:EDT
DTSTART:20250309T070000
END:DAYLIGHT
BEGIN:STANDARD
TZOFFSETFROM:-0400
TZOFFSETTO:-0500
TZNAME:EST
DTSTART:20251102T060000
END:STANDARD
TZID:America/Detroit
BEGIN:DAYLIGHT
TZOFFSETFROM:-0500
TZOFFSETTO:-0400
TZNAME:EDT
DTSTART:20240310T070000
END:DAYLIGHT
BEGIN:STANDARD
TZOFFSETFROM:-0400
TZOFFSETTO:-0500
TZNAME:EST
DTSTART:20241103T060000
END:STANDARD
END:VTIMEZONE
BEGIN:VEVENT
DTSTART;TZID=America/New_York:20251214T160000
DTEND;TZID=America/New_York:20251214T180000
DTSTAMP:20260423T113135
CREATED:20251117T185031Z
LAST-MODIFIED:20251117T185031Z
UID:10050713-1765728000-1765735200@downtowndayton.org
SUMMARY:Sinclair Theatre presents ‘Twas: A Holiday Musical
DESCRIPTION:Sinclair Theatre is proud to present ‘Twas: A Holiday Musical\, live on stage for ONE WEEKEND ONLY\, December 11-14\, in Sinclair’s Blair Hall Theatre\, Building 2\, on Sinclair’s downtown Dayton campus. \nTickets are $10 and are available online at  www.sinclair.edu/tickets. Groups of 20 or more ordering online save all ticketing fees. \nEvery performance will be interpreted by American Sign Language (ASL) shadow performers. \nWhen the family pets are left alone on Christmas Eve\, they are visited by the neighborhood animals who teach them that humans celebrate winter holidays in different ways. They learn about Hanukkah\, Kwanzaa and La Posada and discover that while humans have different traditions\, ultimately all celebrations are about love and togetherness. \n“This production is the result of a lovely collaboration between Sinclair’s Theatre department and Interpreter Education department\,” says director Kelsey Celek. “In the same way the play’s characters share their traditions and cultures\, these departments are sharing their skills and resources. The result will be a true celebration of community\, both on stage and off.” \nThe cast consists of Ryan Ford\, Ryan Hester\, William Finnell\, Cormari Pullings\, Jhoana Novelo\, Adalia Gaynier\, Tiffany Higgins\, Zella Younce\, Lucas Caldwell\, and Laura Fuentes and featuring ASL shadow performers Tyrone Newsome\, Liza Throne\, Calli Diehl\, Cheyenne “Chey” Reumann\, and Hailey Mount. \nWhere: Sinclair Community College\, Blair Hall Theatre (Building 2)\, 444 W. Third St.\, Dayton Ticket Information: $10 plus $2 service fee. Tickets can be purchased online at: www.sinclair.edu/tickets \nPhoto Credit: Scottie Jackson
URL:https://downtowndayton.org/event/sinclair-theatre-presents-twas-a-holiday-musical/2025-12-14/2/
LOCATION:Blair Hall Theatre – Sinclair\, 444 W. Third St.\, Dayton\, OH\, 45402
CATEGORIES:Arts & Theater,College Events,Holiday,Holidays,Live Theater,Sinclair Community College
ATTACH;FMTTYPE=image/jpeg:https://downtowndayton.org/wp-content/uploads/2025/11/Twas-Promo-Photo-scaled.jpg
END:VEVENT
BEGIN:VEVENT
DTSTART;TZID=America/New_York:20251214T140000
DTEND;TZID=America/New_York:20251214T160000
DTSTAMP:20260423T113135
CREATED:20251117T185031Z
LAST-MODIFIED:20251117T185031Z
UID:10050712-1765720800-1765728000@downtowndayton.org
SUMMARY:Sinclair Theatre presents ‘Twas: A Holiday Musical
DESCRIPTION:Sinclair Theatre is proud to present ‘Twas: A Holiday Musical\, live on stage for ONE WEEKEND ONLY\, December 11-14\, in Sinclair’s Blair Hall Theatre\, Building 2\, on Sinclair’s downtown Dayton campus. \nTickets are $10 and are available online at  www.sinclair.edu/tickets. Groups of 20 or more ordering online save all ticketing fees. \nEvery performance will be interpreted by American Sign Language (ASL) shadow performers. \nWhen the family pets are left alone on Christmas Eve\, they are visited by the neighborhood animals who teach them that humans celebrate winter holidays in different ways. They learn about Hanukkah\, Kwanzaa and La Posada and discover that while humans have different traditions\, ultimately all celebrations are about love and togetherness. \n“This production is the result of a lovely collaboration between Sinclair’s Theatre department and Interpreter Education department\,” says director Kelsey Celek. “In the same way the play’s characters share their traditions and cultures\, these departments are sharing their skills and resources. The result will be a true celebration of community\, both on stage and off.” \nThe cast consists of Ryan Ford\, Ryan Hester\, William Finnell\, Cormari Pullings\, Jhoana Novelo\, Adalia Gaynier\, Tiffany Higgins\, Zella Younce\, Lucas Caldwell\, and Laura Fuentes and featuring ASL shadow performers Tyrone Newsome\, Liza Throne\, Calli Diehl\, Cheyenne “Chey” Reumann\, and Hailey Mount. \nWhere: Sinclair Community College\, Blair Hall Theatre (Building 2)\, 444 W. Third St.\, Dayton Ticket Information: $10 plus $2 service fee. Tickets can be purchased online at: www.sinclair.edu/tickets \nPhoto Credit: Scottie Jackson
URL:https://downtowndayton.org/event/sinclair-theatre-presents-twas-a-holiday-musical/2025-12-14/1/
LOCATION:Blair Hall Theatre – Sinclair\, 444 W. Third St.\, Dayton\, OH\, 45402
CATEGORIES:Arts & Theater,College Events,Holiday,Holidays,Live Theater,Sinclair Community College
ATTACH;FMTTYPE=image/jpeg:https://downtowndayton.org/wp-content/uploads/2025/11/Twas-Promo-Photo-scaled.jpg
END:VEVENT
BEGIN:VEVENT
DTSTART;TZID=America/New_York:20251213T160000
DTEND;TZID=America/New_York:20251213T180000
DTSTAMP:20260423T113135
CREATED:20251117T185031Z
LAST-MODIFIED:20251117T185031Z
UID:10050711-1765641600-1765648800@downtowndayton.org
SUMMARY:Sinclair Theatre presents ‘Twas: A Holiday Musical
DESCRIPTION:Sinclair Theatre is proud to present ‘Twas: A Holiday Musical\, live on stage for ONE WEEKEND ONLY\, December 11-14\, in Sinclair’s Blair Hall Theatre\, Building 2\, on Sinclair’s downtown Dayton campus. \nTickets are $10 and are available online at  www.sinclair.edu/tickets. Groups of 20 or more ordering online save all ticketing fees. \nEvery performance will be interpreted by American Sign Language (ASL) shadow performers. \nWhen the family pets are left alone on Christmas Eve\, they are visited by the neighborhood animals who teach them that humans celebrate winter holidays in different ways. They learn about Hanukkah\, Kwanzaa and La Posada and discover that while humans have different traditions\, ultimately all celebrations are about love and togetherness. \n“This production is the result of a lovely collaboration between Sinclair’s Theatre department and Interpreter Education department\,” says director Kelsey Celek. “In the same way the play’s characters share their traditions and cultures\, these departments are sharing their skills and resources. The result will be a true celebration of community\, both on stage and off.” \nThe cast consists of Ryan Ford\, Ryan Hester\, William Finnell\, Cormari Pullings\, Jhoana Novelo\, Adalia Gaynier\, Tiffany Higgins\, Zella Younce\, Lucas Caldwell\, and Laura Fuentes and featuring ASL shadow performers Tyrone Newsome\, Liza Throne\, Calli Diehl\, Cheyenne “Chey” Reumann\, and Hailey Mount. \nWhere: Sinclair Community College\, Blair Hall Theatre (Building 2)\, 444 W. Third St.\, Dayton Ticket Information: $10 plus $2 service fee. Tickets can be purchased online at: www.sinclair.edu/tickets \nPhoto Credit: Scottie Jackson
URL:https://downtowndayton.org/event/sinclair-theatre-presents-twas-a-holiday-musical/2025-12-13/2/
LOCATION:Blair Hall Theatre – Sinclair\, 444 W. Third St.\, Dayton\, OH\, 45402
CATEGORIES:Arts & Theater,College Events,Holiday,Holidays,Live Theater,Sinclair Community College
ATTACH;FMTTYPE=image/jpeg:https://downtowndayton.org/wp-content/uploads/2025/11/Twas-Promo-Photo-scaled.jpg
END:VEVENT
BEGIN:VEVENT
DTSTART;TZID=America/New_York:20251213T140000
DTEND;TZID=America/New_York:20251213T160000
DTSTAMP:20260423T113136
CREATED:20251117T185031Z
LAST-MODIFIED:20251117T185031Z
UID:10050710-1765634400-1765641600@downtowndayton.org
SUMMARY:Sinclair Theatre presents ‘Twas: A Holiday Musical
DESCRIPTION:Sinclair Theatre is proud to present ‘Twas: A Holiday Musical\, live on stage for ONE WEEKEND ONLY\, December 11-14\, in Sinclair’s Blair Hall Theatre\, Building 2\, on Sinclair’s downtown Dayton campus. \nTickets are $10 and are available online at  www.sinclair.edu/tickets. Groups of 20 or more ordering online save all ticketing fees. \nEvery performance will be interpreted by American Sign Language (ASL) shadow performers. \nWhen the family pets are left alone on Christmas Eve\, they are visited by the neighborhood animals who teach them that humans celebrate winter holidays in different ways. They learn about Hanukkah\, Kwanzaa and La Posada and discover that while humans have different traditions\, ultimately all celebrations are about love and togetherness. \n“This production is the result of a lovely collaboration between Sinclair’s Theatre department and Interpreter Education department\,” says director Kelsey Celek. “In the same way the play’s characters share their traditions and cultures\, these departments are sharing their skills and resources. The result will be a true celebration of community\, both on stage and off.” \nThe cast consists of Ryan Ford\, Ryan Hester\, William Finnell\, Cormari Pullings\, Jhoana Novelo\, Adalia Gaynier\, Tiffany Higgins\, Zella Younce\, Lucas Caldwell\, and Laura Fuentes and featuring ASL shadow performers Tyrone Newsome\, Liza Throne\, Calli Diehl\, Cheyenne “Chey” Reumann\, and Hailey Mount. \nWhere: Sinclair Community College\, Blair Hall Theatre (Building 2)\, 444 W. Third St.\, Dayton Ticket Information: $10 plus $2 service fee. Tickets can be purchased online at: www.sinclair.edu/tickets \nPhoto Credit: Scottie Jackson
URL:https://downtowndayton.org/event/sinclair-theatre-presents-twas-a-holiday-musical/2025-12-13/1/
LOCATION:Blair Hall Theatre – Sinclair\, 444 W. Third St.\, Dayton\, OH\, 45402
CATEGORIES:Arts & Theater,College Events,Holiday,Holidays,Live Theater,Sinclair Community College
ATTACH;FMTTYPE=image/jpeg:https://downtowndayton.org/wp-content/uploads/2025/11/Twas-Promo-Photo-scaled.jpg
END:VEVENT
BEGIN:VEVENT
DTSTART;TZID=America/New_York:20251212T120000
DTEND;TZID=America/New_York:20251212T140000
DTSTAMP:20260423T113136
CREATED:20251117T185031Z
LAST-MODIFIED:20251117T185031Z
UID:10050709-1765540800-1765548000@downtowndayton.org
SUMMARY:Sinclair Theatre presents ‘Twas: A Holiday Musical
DESCRIPTION:Sinclair Theatre is proud to present ‘Twas: A Holiday Musical\, live on stage for ONE WEEKEND ONLY\, December 11-14\, in Sinclair’s Blair Hall Theatre\, Building 2\, on Sinclair’s downtown Dayton campus. \nTickets are $10 and are available online at  www.sinclair.edu/tickets. Groups of 20 or more ordering online save all ticketing fees. \nEvery performance will be interpreted by American Sign Language (ASL) shadow performers. \nWhen the family pets are left alone on Christmas Eve\, they are visited by the neighborhood animals who teach them that humans celebrate winter holidays in different ways. They learn about Hanukkah\, Kwanzaa and La Posada and discover that while humans have different traditions\, ultimately all celebrations are about love and togetherness. \n“This production is the result of a lovely collaboration between Sinclair’s Theatre department and Interpreter Education department\,” says director Kelsey Celek. “In the same way the play’s characters share their traditions and cultures\, these departments are sharing their skills and resources. The result will be a true celebration of community\, both on stage and off.” \nThe cast consists of Ryan Ford\, Ryan Hester\, William Finnell\, Cormari Pullings\, Jhoana Novelo\, Adalia Gaynier\, Tiffany Higgins\, Zella Younce\, Lucas Caldwell\, and Laura Fuentes and featuring ASL shadow performers Tyrone Newsome\, Liza Throne\, Calli Diehl\, Cheyenne “Chey” Reumann\, and Hailey Mount. \nWhere: Sinclair Community College\, Blair Hall Theatre (Building 2)\, 444 W. Third St.\, Dayton Ticket Information: $10 plus $2 service fee. Tickets can be purchased online at: www.sinclair.edu/tickets \nPhoto Credit: Scottie Jackson
URL:https://downtowndayton.org/event/sinclair-theatre-presents-twas-a-holiday-musical/2025-12-12/
LOCATION:Blair Hall Theatre – Sinclair\, 444 W. Third St.\, Dayton\, OH\, 45402
CATEGORIES:Arts & Theater,College Events,Holiday,Holidays,Live Theater,Sinclair Community College
ATTACH;FMTTYPE=image/jpeg:https://downtowndayton.org/wp-content/uploads/2025/11/Twas-Promo-Photo-scaled.jpg
END:VEVENT
BEGIN:VEVENT
DTSTART;TZID=America/New_York:20251211T120000
DTEND;TZID=America/New_York:20251211T140000
DTSTAMP:20260423T113136
CREATED:20251117T185031Z
LAST-MODIFIED:20251117T185031Z
UID:10050708-1765454400-1765461600@downtowndayton.org
SUMMARY:Sinclair Theatre presents ‘Twas: A Holiday Musical
DESCRIPTION:Sinclair Theatre is proud to present ‘Twas: A Holiday Musical\, live on stage for ONE WEEKEND ONLY\, December 11-14\, in Sinclair’s Blair Hall Theatre\, Building 2\, on Sinclair’s downtown Dayton campus. \nTickets are $10 and are available online at  www.sinclair.edu/tickets. Groups of 20 or more ordering online save all ticketing fees. \nEvery performance will be interpreted by American Sign Language (ASL) shadow performers. \nWhen the family pets are left alone on Christmas Eve\, they are visited by the neighborhood animals who teach them that humans celebrate winter holidays in different ways. They learn about Hanukkah\, Kwanzaa and La Posada and discover that while humans have different traditions\, ultimately all celebrations are about love and togetherness. \n“This production is the result of a lovely collaboration between Sinclair’s Theatre department and Interpreter Education department\,” says director Kelsey Celek. “In the same way the play’s characters share their traditions and cultures\, these departments are sharing their skills and resources. The result will be a true celebration of community\, both on stage and off.” \nThe cast consists of Ryan Ford\, Ryan Hester\, William Finnell\, Cormari Pullings\, Jhoana Novelo\, Adalia Gaynier\, Tiffany Higgins\, Zella Younce\, Lucas Caldwell\, and Laura Fuentes and featuring ASL shadow performers Tyrone Newsome\, Liza Throne\, Calli Diehl\, Cheyenne “Chey” Reumann\, and Hailey Mount. \nWhere: Sinclair Community College\, Blair Hall Theatre (Building 2)\, 444 W. Third St.\, Dayton Ticket Information: $10 plus $2 service fee. Tickets can be purchased online at: www.sinclair.edu/tickets \nPhoto Credit: Scottie Jackson
URL:https://downtowndayton.org/event/sinclair-theatre-presents-twas-a-holiday-musical/2025-12-11/
LOCATION:Blair Hall Theatre – Sinclair\, 444 W. Third St.\, Dayton\, OH\, 45402
CATEGORIES:Arts & Theater,College Events,Holiday,Holidays,Live Theater,Sinclair Community College
ATTACH;FMTTYPE=image/jpeg:https://downtowndayton.org/wp-content/uploads/2025/11/Twas-Promo-Photo-scaled.jpg
END:VEVENT
BEGIN:VEVENT
DTSTART;TZID=America/New_York:20250507T190000
DTEND;TZID=America/New_York:20250507T210000
DTSTAMP:20260423T113136
CREATED:20250401T152206Z
LAST-MODIFIED:20250401T152206Z
UID:10032681-1746644400-1746651600@downtowndayton.org
SUMMARY:Free concert: Sinclair Classical Guitar Ensemble
DESCRIPTION:Enjoy a free concert from Sinclair Classical Guitar Ensemble\nNoah Ward\, director \nBlair Hall Theatre\, Building 2 \nFull concert schedule available at https://www.sinclair.edu/academics/divisions/lcs/mus/current-concert-season/
URL:https://downtowndayton.org/event/free-concert-sinclair-classical-guitar-ensemble/
LOCATION:Blair Hall Theatre – Sinclair\, 444 W. Third St.\, Dayton\, OH\, 45402
CATEGORIES:Arts & Theater,College Events,Community,Free Events,Live Music,Music,Sinclair Community College
ATTACH;FMTTYPE=image/jpeg:https://downtowndayton.org/wp-content/uploads/2024/07/sinclair.jpg
END:VEVENT
BEGIN:VEVENT
DTSTART;TZID=America/New_York:20250430T190000
DTEND;TZID=America/New_York:20250430T210000
DTSTAMP:20260423T113136
CREATED:20250401T152032Z
LAST-MODIFIED:20250401T152032Z
UID:10032680-1746039600-1746046800@downtowndayton.org
SUMMARY:Free concert: Sinclair Wind Symphony
DESCRIPTION:Enjoy a free concert with the Sinclair Wind Symphony  With Troy High School Wind Ensemble\nMichael Berning\, conductor  \nBlair Hall\, Building 2 \nFull concert schedule at https://www.sinclair.edu/academics/divisions/lcs/mus/current-concert-season/
URL:https://downtowndayton.org/event/free-concert-sinclair-wind-symphony/
LOCATION:Blair Hall Theatre – Sinclair\, 444 W. Third St.\, Dayton\, OH\, 45402
CATEGORIES:Arts & Theater,College Events,Community,Free Events,Live Music,Music,Sinclair Community College
ATTACH;FMTTYPE=image/jpeg:https://downtowndayton.org/wp-content/uploads/2024/07/sinclair.jpg
END:VEVENT
BEGIN:VEVENT
DTSTART;TZID=America/New_York:20250428T190000
DTEND;TZID=America/New_York:20250428T210000
DTSTAMP:20260423T113136
CREATED:20250401T151908Z
LAST-MODIFIED:20250401T151908Z
UID:10032679-1745866800-1745874000@downtowndayton.org
SUMMARY:Free concert: Sinclair Concert Band
DESCRIPTION:Enjoy a free live concert from the Sinclair Concert Band  With Greenon High School Wind Ensemble\nMichael Berning\, conductor \nBlair Hall\, Building 2 \nFull concert season at https://www.sinclair.edu/academics/divisions/lcs/mus/current-concert-season/
URL:https://downtowndayton.org/event/free-concert-sinclair-concert-band/
LOCATION:Blair Hall Theatre\, 444 West Third Street\, Dayton\, OH\, 45402\, USA
CATEGORIES:Arts & Theater,College Events,Community,Free Events,Live Music,Music,Sinclair Community College
ATTACH;FMTTYPE=image/jpeg:https://downtowndayton.org/wp-content/uploads/2024/07/sinclair.jpg
END:VEVENT
BEGIN:VEVENT
DTSTART;TZID=America/New_York:20250413T140000
DTEND;TZID=America/New_York:20250413T160000
DTSTAMP:20260423T113136
CREATED:20250401T151658Z
LAST-MODIFIED:20250401T151658Z
UID:10032678-1744552800-1744560000@downtowndayton.org
SUMMARY:Free concert: Sinclair Jazz Ensemble and Youth Jazz Ensemble
DESCRIPTION:Enjoy free music from Sinclair Jazz Ensemble and Youth Jazz Ensemble with vocalist Felita LaRock and saxophonist Greg Pflugh\nDirected by Bill Burns \nBlair Hall\, Building 2 \nFull concert season at https://www.sinclair.edu/academics/divisions/lcs/mus/current-concert-season/
URL:https://downtowndayton.org/event/free-concert-sinclair-jazz-ensemble-and-youth-jazz-ensemble/
LOCATION:Blair Hall Theatre – Sinclair\, 444 W. Third St.\, Dayton\, OH\, 45402
CATEGORIES:Arts & Theater,College Events,Community,Free Events,Live Music,Music,Sinclair Community College
ATTACH;FMTTYPE=image/jpeg:https://downtowndayton.org/wp-content/uploads/2024/07/sinclair.jpg
END:VEVENT
BEGIN:VEVENT
DTSTART;TZID=America/New_York:20250409T120000
DTEND;TZID=America/New_York:20250409T150000
DTSTAMP:20260423T113136
CREATED:20250331T175518Z
LAST-MODIFIED:20250331T175518Z
UID:10032671-1744200000-1744210800@downtowndayton.org
SUMMARY:Sinclair Community College 24th Annual Career Fair
DESCRIPTION:Connect with top employers at the Sinclair Career Fair\, where over 90 local businesses are eager to meet you! Whether you’re looking for full-time\, part-time\, seasonal\, or internship opportunities\, this is your chance to discover positions that fit your career goals. \nYou do not need to be a student to utilize this free resource. \nCareer Fairs are a great place to meet multiple employers at once. Employers in attendance are ready to hire Sinclair students and alumni\, and 1 in 5 job seekers find employment at Career Fairs.
URL:https://downtowndayton.org/event/sinclair-community-college-24th-annual-career-fair/
LOCATION:Sinclair College\, 444 W. Third St.\, Dayton\, OH
CATEGORIES:Business & Finance,College Events,Education,Free Events,Professional / Networking,Sinclair Community College,Young Professionals
ATTACH;FMTTYPE=image/png:https://downtowndayton.org/wp-content/uploads/2025/03/Sinclair-Career-Fair-e1743443709513.png
END:VEVENT
BEGIN:VEVENT
DTSTART;TZID=America/Detroit:20241114T100000
DTEND;TZID=America/Detroit:20241114T123000
DTSTAMP:20260423T113136
CREATED:20241018T174149Z
LAST-MODIFIED:20241018T174149Z
UID:10029796-1731578400-1731587400@downtowndayton.org
SUMMARY:How to Make Learning as Addictive as Social Media
DESCRIPTION:Join Sinclair’s Associate Provost Lisa Mahle-Grisez & Assistance Provost\, Jared Cutler\, for a discussion and viewing of the pre-recorded TedTalk by Luis Von Ahn. When technologist Luis von Ahn was building the popular language-learning platform Duolingo\, he faced a big problem: Could an app designed to teach you something ever compete with addictive platforms like Instagram and TikTok? He explains how Duolingo harnesses the psychological techniques of social media and mobile games to get you excited to learn — all while spreading access to education across the world. \nThis event will be held in Sinclair’s Tartan Marketplace\, Bldg. 7\, Room 7006. Once you enter the set of glass doors to building 7 Tartan Marketplace\, the conference room is to your right\, through the doorway across the area of tables. Complimentary parking is available in the garage (Lot C) under Building 12 and parking passes will be provided at the event.
URL:https://downtowndayton.org/event/how-to-make-learning-as-addictive-as-social-media/
LOCATION:Sinclair College\, 444 W. Third St.\, Dayton\, OH
CATEGORIES:College Events,Community,Education,Free Events,Sinclair Community College
ATTACH;FMTTYPE=image/jpeg:https://downtowndayton.org/wp-content/uploads/2024/07/sinclair.jpg
END:VEVENT
BEGIN:VEVENT
DTSTART;TZID=America/Detroit:20241113T150000
DTEND;TZID=America/Detroit:20241113T173000
DTSTAMP:20260423T113136
CREATED:20241018T173938Z
LAST-MODIFIED:20241018T173938Z
UID:10029795-1731510000-1731519000@downtowndayton.org
SUMMARY:The Harlem Hellfighters’ Great War
DESCRIPTION:Join us for a discussion and screening of the 2017 documentary directed by Francois Reinhardt. The 15th regiment of the New York National Guard was exclusively made up of black soldiers. Nicknamed the Harlem Hellfighters\, this American unit was to be the most decorated of the Second World War. It was not only liberty and democracy that they came to defend with fieriness in France\, but also racial equality. \nFREE and open to the public The screening will be held in Bldg. 7 Tartan Marketplace\, Room 7006 at Sinclair College\, 444 W. Third Street\, Dayton OH 45402. Once you enter the set of glass doors to building 7 Tartan Marketplace\, the conference room is to your right\, through the doorway across the area of tables. Complimentary parking available in the garage (Lot C) under building 12 and parking passes will be provided at the event.
URL:https://downtowndayton.org/event/the-harlem-hellfighters-great-war/
LOCATION:Sinclair College\, 444 W. Third St.\, Dayton\, OH
CATEGORIES:Arts & Theater,College Events,Education,Free Events,Movies / Film,Sinclair Community College
ATTACH;FMTTYPE=image/jpeg:https://downtowndayton.org/wp-content/uploads/2024/07/sinclair.jpg
END:VEVENT
BEGIN:VEVENT
DTSTART;TZID=America/Detroit:20241023T180000
DTEND;TZID=America/Detroit:20241023T203000
DTSTAMP:20260423T113136
CREATED:20240918T132534Z
LAST-MODIFIED:20240918T132534Z
UID:10029606-1729706400-1729715400@downtowndayton.org
SUMMARY:Documentary & Discussion: Willis “Bing” Davis
DESCRIPTION:Free and open to the public! \nFew people have impacted the arts in Southwest Ohio quite like Willis “Bing” Davis. An African American artist\, educator and community activist from Dayton\, Davis’ artwork is known for its incorporation of African and African American themes\, as well as its focus on social justice issues. He works in a variety of media\, including painting\, sculpture\, ceramics\, clay and found object art. His art often explores the intersection of race\, identity\, and history\, as well as the power of community and collective action. \nAmong his works\, many have been featured in public and private collections alike from the United States\, Europe and China to Ghana\, Senegal and Nigeria with exhibits featured in the Museum of Harlem\, the African Craft Museum\, the Renwick Gallery\, the Dayton Art Institute\, and many more. He has received numerous honors and awards throughout his career\, including the Ohio Governor’s Award for the Arts\, the Citizen Legion of Honor Award from the Presidents Club of Dayton\, and the Ohio Art Educator of the Year Award. \nIn addition to his artistic pursuits\, Davis is a dedicated community activist and educator. He founded the EbonNia Gallery in Dayton\, Ohio\, which showcases the work of many types of artists and serves as a community gathering place. Today\, in his mid-80s\, Davis continues to create art\, educate others and promote social justice causes in a variety of ways. \nCo-sponsored by Sinclair’s Diversity Office and CET/ThinkTV\nProduced by Emmy Award winners Ann Rotolante and Rodney Veal \nLOCATION: Sinclair College\, 444 W. Third St.\, Dayton OH 45402
URL:https://downtowndayton.org/event/documentary-discussion-willis-bing-davis/
LOCATION:Sinclair College\, 444 W. Third St.\, Dayton\, OH
CATEGORIES:Arts & Theater,College Events,Community,Free Events,Movies / Film,Sinclair Community College,Visual Art
END:VEVENT
END:VCALENDAR