BEGIN:VCALENDAR
VERSION:2.0
PRODID:-//Downtown Dayton Partnership - ECPv6.8.1//NONSGML v1.0//EN
CALSCALE:GREGORIAN
METHOD:PUBLISH
X-ORIGINAL-URL:https://downtowndayton.org
X-WR-CALDESC:Events for Downtown Dayton Partnership
REFRESH-INTERVAL;VALUE=DURATION:PT1H
X-Robots-Tag:noindex
X-PUBLISHED-TTL:PT1H
BEGIN:VTIMEZONE
TZID:America/New_York
BEGIN:DAYLIGHT
TZOFFSETFROM:-0500
TZOFFSETTO:-0400
TZNAME:EDT
DTSTART:20250309T070000
END:DAYLIGHT
BEGIN:STANDARD
TZOFFSETFROM:-0400
TZOFFSETTO:-0500
TZNAME:EST
DTSTART:20251102T060000
END:STANDARD
END:VTIMEZONE
BEGIN:VEVENT
DTSTART;TZID=America/New_York:20251125T080000
DTEND;TZID=America/New_York:20251125T170000
DTSTAMP:20260420T093833
CREATED:20251125T210037Z
LAST-MODIFIED:20251125T210037Z
UID:10052721-1764057600-1764090000@downtowndayton.org
SUMMARY:Extraordinary Night of Fashion Christmas Fashion Show
DESCRIPTION:Tis the Season for Fashion & Collaborations! Are you ready for a show?! \nIt is time for the Extraordinary Night of Fashion Christmas Fashion Show! \nMintha owner of Mintha’s Boutique and Lady Linda owner of Secret Beauty Hats have something in store for you! \nThis Dynamic Duo have collaborated and will be presenting an unforgettable fashion show and we want you there! \n  \nPlease Come Out and Join Us at the… \n  \nExtraordinary Night of Fashion Christmas Fashion Show! \nDecember 14\, 2025 4:00pm-7:00pm \n33 East Fifth Street Dayton\, Ohio 45402 (Formerly the Crowne Plaza) \nThere will be an after party! \nDress to Impress and strut your stuff this is a formal / semi formal event! \n  \nYou do not want to miss this fashion show! There is a lot in store for you! \n  \n2 Outstanding Hosts! \n1 Phenomenal DJ! \nTop Notch Models! \nStylish Fashion! \nBar / Food / Prizes / Vendors / Live Music / After Party \n  \nGo to eventbrite and get your early bird tickets NOW! \n  \nEventbrite is where you go to get your tickets! Eventbrite is where you go to get your tickets! \nPlease hit the link – https://ExtraordinaryChristmasFashionShow.eventbrite.com
URL:https://downtowndayton.org/event/extraordinary-night-of-fashion-christmas-fashion-show/
LOCATION:Dayton Vitality Hotel\, 33 E. Fifth St.\, Dayton\, OH\, 45402\, United States
CATEGORIES:Community,Fashion/beauty,Food & Drink,Holiday,Holidays,Live Music
ATTACH;FMTTYPE=image/jpeg:https://downtowndayton.org/wp-content/uploads/2025/11/Extraordinary-Night-of-Fashio.jpg
END:VEVENT
BEGIN:VEVENT
DTSTART;TZID=America/New_York:20250517T110000
DTEND;TZID=America/New_York:20250517T140000
DTSTAMP:20260420T093833
CREATED:20250514T192918Z
LAST-MODIFIED:20250514T192918Z
UID:10036258-1747479600-1747490400@downtowndayton.org
SUMMARY:Mental Health Brunch + Vision Session
DESCRIPTION:Join 5 Star Salon Academy for a mental health brunch and vision space! \nThis event will have a focus on mental wellness\, emotional clarity\, goal setting\, and more. \nRSVP at https://www.5starsalonacademy.com/offers/6aWoX3bi/checkout
URL:https://downtowndayton.org/event/mental-health-brunch-vision-session/
LOCATION:5 Star Salon Academy\, 125 E. Second St.\, Dayton\, OH\, 45402\, United States
CATEGORIES:Brunch,Community,Fashion/beauty,Food & Drink,Free Events,Health & Wellness
ATTACH;FMTTYPE=image/jpeg:https://downtowndayton.org/wp-content/uploads/2025/05/5-star-salon-academy-brunch.jpg
END:VEVENT
BEGIN:VEVENT
DTSTART;TZID=America/New_York:20250427T120000
DTEND;TZID=America/New_York:20250427T180000
DTSTAMP:20260420T093833
CREATED:20250325T204635Z
LAST-MODIFIED:20250325T204635Z
UID:10032172-1745755200-1745776800@downtowndayton.org
SUMMARY:Ladies First Pop-Up Shop at Mintha’s Boutique
DESCRIPTION:Visit Mintha’s Boutique this weekend to shop with local female entrepreneurs!
URL:https://downtowndayton.org/event/ladies-first-pop-up-shop-at-minthas-boutique/2025-04-27/
LOCATION:Mintha’s Boutique\, 520 E. Third St.\, Dayton\, OH\, 45402\, United States
CATEGORIES:Community,Fashion/beauty,Shopping
ATTACH;FMTTYPE=image/png:https://downtowndayton.org/wp-content/uploads/2025/03/pop-up-shop-mintha.png
END:VEVENT
BEGIN:VEVENT
DTSTART;TZID=America/New_York:20250426T120000
DTEND;TZID=America/New_York:20250426T180000
DTSTAMP:20260420T093833
CREATED:20250325T204635Z
LAST-MODIFIED:20250325T204635Z
UID:10032171-1745668800-1745690400@downtowndayton.org
SUMMARY:Ladies First Pop-Up Shop at Mintha’s Boutique
DESCRIPTION:Visit Mintha’s Boutique this weekend to shop with local female entrepreneurs!
URL:https://downtowndayton.org/event/ladies-first-pop-up-shop-at-minthas-boutique/2025-04-26/
LOCATION:Mintha’s Boutique\, 520 E. Third St.\, Dayton\, OH\, 45402\, United States
CATEGORIES:Community,Fashion/beauty,Shopping
ATTACH;FMTTYPE=image/png:https://downtowndayton.org/wp-content/uploads/2025/03/pop-up-shop-mintha.png
END:VEVENT
END:VCALENDAR