BEGIN:VCALENDAR
VERSION:2.0
PRODID:-//Downtown Dayton Partnership - ECPv6.8.1//NONSGML v1.0//EN
CALSCALE:GREGORIAN
METHOD:PUBLISH
X-ORIGINAL-URL:https://downtowndayton.org
X-WR-CALDESC:Events for Downtown Dayton Partnership
REFRESH-INTERVAL;VALUE=DURATION:PT1H
X-Robots-Tag:noindex
X-PUBLISHED-TTL:PT1H
BEGIN:VTIMEZONE
TZID:America/Detroit
BEGIN:DAYLIGHT
TZOFFSETFROM:-0500
TZOFFSETTO:-0400
TZNAME:EDT
DTSTART:20240310T070000
END:DAYLIGHT
BEGIN:STANDARD
TZOFFSETFROM:-0400
TZOFFSETTO:-0500
TZNAME:EST
DTSTART:20241103T060000
END:STANDARD
END:VTIMEZONE
BEGIN:VEVENT
DTSTART;TZID=America/Detroit:20241108T180000
DTEND;TZID=America/Detroit:20241108T220000
DTSTAMP:20260424T063820
CREATED:20241016T192402Z
LAST-MODIFIED:20241016T192402Z
UID:10029789-1731088800-1731103200@downtowndayton.org
SUMMARY:Black Jack for Breast Wishes
DESCRIPTION:Join us for an exciting night of Black Jack\, Poker\, Roulette and your favorite casino games. Your purchase includes chips for play and a drink ticket. You can choose from regular or VIP options. At the end of the night you turn your chips in for raffle tickets to win prizes! We’ll feature heavy hors d’oeuvres and desserts and some amazing silent auctions items. The bartenders at the Brightside will have all your favorite drinks for purchase. \nFriday\, November 8th 6-10pm at The Brightside\, 905 E 3rd St\, Dayton\, OH \nTickets here: https://www.handstamp.com/e/black-jack-for-breast-wishes-5dwsp9gq \nCan’t make the event but still want to give? You can make a donation directly to https://www.breastwishesfoundation.org/
URL:https://downtowndayton.org/event/black-jack-for-breast-wishes/
LOCATION:The Brightside\, 905 E. Third St.\, Dayton\, OH\, 45402
CATEGORIES:Community,Food & Drink,Games & Gaming,Getting Involved,Nonprofits & Grants
ATTACH;FMTTYPE=image/jpeg:https://downtowndayton.org/wp-content/uploads/2024/10/Brightside-Blackjack.jpeg
END:VEVENT
BEGIN:VEVENT
DTSTART;TZID=America/Detroit:20241124T180000
DTEND;TZID=America/Detroit:20241124T210000
DTSTAMP:20260424T063820
CREATED:20241016T194323Z
LAST-MODIFIED:20241016T194323Z
UID:10029792-1732471200-1732482000@downtowndayton.org
SUMMARY:Clue Mystery Movie Party
DESCRIPTION:It’s a mysterious night out with music\, food\, trivia\, and Dayton Dinner Theater’s famous interactive movie experience with the classic mystery Clue! Enjoy creative pizza from the Dayton Pizza Factory\, a fancy salad\, appetizer\, and dessert by Baker Benji. Yum! \nThemed Attire – Pick your favorite character! \nHOW TO GO? Nov 24\, 2024 6:00 PM – 9:00 PM The Brightside\, 905 E 3rd St\, Dayton\, OH Doors open at 5:45 – Food and live music is available from 6-7 pm – Movie starts at 7 pm. A short intermission for dessert and trivia will start at 8 pm – Movie ends around 9:15 pm. \nAlcoholic drinks available for purchase! \nTickets $28 – available here: https://www.daytondinnertheater.com/events/clue-mystery-movie-party Table reservations only for parties of 6 or more\, otherwise we have open seating. For table reservations or other questions\, please email Daytondinnertheater@gmail.com
URL:https://downtowndayton.org/event/clue-mystery-movie-party/
LOCATION:The Brightside\, 905 E. Third St.\, Dayton\, OH\, 45402
CATEGORIES:Dining Specials,Food & Drink,Movies / Film
ATTACH;FMTTYPE=image/jpeg:https://downtowndayton.org/wp-content/uploads/2024/10/Brightside-Clue.jpg
END:VEVENT
END:VCALENDAR