BEGIN:VCALENDAR
VERSION:2.0
PRODID:-//Downtown Dayton Partnership - ECPv6.8.1//NONSGML v1.0//EN
CALSCALE:GREGORIAN
METHOD:PUBLISH
X-WR-CALNAME:Downtown Dayton Partnership
X-ORIGINAL-URL:https://downtowndayton.org
X-WR-CALDESC:Events for Downtown Dayton Partnership
REFRESH-INTERVAL;VALUE=DURATION:PT1H
X-Robots-Tag:noindex
X-PUBLISHED-TTL:PT1H
BEGIN:VTIMEZONE
TZID:America/New_York
BEGIN:DAYLIGHT
TZOFFSETFROM:-0500
TZOFFSETTO:-0400
TZNAME:EDT
DTSTART:20250309T070000
END:DAYLIGHT
BEGIN:STANDARD
TZOFFSETFROM:-0400
TZOFFSETTO:-0500
TZNAME:EST
DTSTART:20251102T060000
END:STANDARD
END:VTIMEZONE
BEGIN:VEVENT
DTSTART;TZID=America/New_York:20250607T140000
DTEND;TZID=America/New_York:20250607T160000
DTSTAMP:20260421T091607
CREATED:20250603T145327Z
LAST-MODIFIED:20250603T145327Z
UID:10037603-1749304800-1749312000@downtowndayton.org
SUMMARY:High Tea with Harpist Leah Estes
DESCRIPTION:Experience an afternoon of refined charm and musical elegance at our June Monthly High Tea\, hosted in our beautiful Victorian-era mansion in the heart of Dayton. \nThis month’s gathering features the serene sounds of live harp music by Leah Estes\, a classically trained harpist and pianist with deep roots in the Dayton music community. Leah has performed with the Dayton Philharmonic and Springfield Symphony Orchestra\, and her artistry will provide the perfect accompaniment to a relaxing and refined afternoon. \nGuests will enjoy a traditional three-course high tea\, including a selection of tea sandwiches\, freshly baked scones\, and elegant sweets—all served with fine teas in an atmosphere of timeless charm. \nSeating is limited and reservations are required.
URL:https://downtowndayton.org/event/high-tea-with-harpist-leah-estes/
LOCATION:The Dayton Woman’s Club\, 225 N Ludlow St\, Dayton\, OH\, 45402\, United States
CATEGORIES:Community,Food & Drink,Live Music
ATTACH;FMTTYPE=image/jpeg:https://downtowndayton.org/wp-content/uploads/2025/06/Untitled-design-11.jpg
END:VEVENT
END:VCALENDAR