BEGIN:VCALENDAR
VERSION:2.0
PRODID:-//Downtown Dayton Partnership - ECPv6.8.1//NONSGML v1.0//EN
CALSCALE:GREGORIAN
METHOD:PUBLISH
X-WR-CALNAME:Downtown Dayton Partnership
X-ORIGINAL-URL:https://downtowndayton.org
X-WR-CALDESC:Events for Downtown Dayton Partnership
REFRESH-INTERVAL;VALUE=DURATION:PT1H
X-Robots-Tag:noindex
X-PUBLISHED-TTL:PT1H
BEGIN:VTIMEZONE
TZID:America/New_York
BEGIN:DAYLIGHT
TZOFFSETFROM:-0500
TZOFFSETTO:-0400
TZNAME:EDT
DTSTART:20250309T070000
END:DAYLIGHT
BEGIN:STANDARD
TZOFFSETFROM:-0400
TZOFFSETTO:-0500
TZNAME:EST
DTSTART:20251102T060000
END:STANDARD
END:VTIMEZONE
BEGIN:VEVENT
DTSTART;TZID=America/New_York:20250711T180000
DTEND;TZID=America/New_York:20250911T200000
DTSTAMP:20260423T134253
CREATED:20250626T134251Z
LAST-MODIFIED:20250626T134251Z
UID:10038878-1752256800-1757620800@downtowndayton.org
SUMMARY:Living Color – Closing Celebration
DESCRIPTION:Come enjoy the artwork and the vibe during the Closing Celebration for the group art exhibition “Living Color”. Lite refreshments served and music by Isicle. Artist participating in this group exhibition include: Julio Antonio Pino Varens Michael Surber Ron Rollins Hadley Rodebeck Tobi Ewing April Sunami Evelyn ‘Hadeev’ Hargrove Zuri Ali Cedric Michael Cox Shon Curtis Alisa H. Workman
URL:https://downtowndayton.org/event/living-color-closing-celebration/
LOCATION:Edward A. Dixon Gallery\, 222 N. St. Clair St.\, Dayton\, OH\, 45402
CATEGORIES:Arts & Theater,Free Events,Visual Art
ATTACH;FMTTYPE=image/jpeg:https://downtowndayton.org/wp-content/uploads/2025/06/Untitled-design-15.jpg
END:VEVENT
BEGIN:VEVENT
DTSTART;TZID=America/New_York:20250924T180000
DTEND;TZID=America/New_York:20250924T210000
DTSTAMP:20260423T134253
CREATED:20250417T185937Z
LAST-MODIFIED:20250417T185937Z
UID:10033130-1758736800-1758747600@downtowndayton.org
SUMMARY:College Prep Night
DESCRIPTION:College Prep Night on Wednesday September 24 is a free one-stop college resource event to guide prospective college students and their parents through the process of planning an educational path. \nHigh school students can talk to representatives from colleges and universities from all over the nation\, those who RSVP before the event will be entered to win one of two\, $1\,000 scholarships.  Students must pre-register for the event online and attend to be considered.
URL:https://downtowndayton.org/event/college-prep-night-2/
LOCATION:Day Air Ballpark\, 220 North Patterson Blvd.\, Dayton\, OH\, 45402
CATEGORIES:Free Events,Professional / Networking
ATTACH;FMTTYPE=image/jpeg:https://downtowndayton.org/wp-content/uploads/2023/09/prep.jpg
END:VEVENT
BEGIN:VEVENT
DTSTART;TZID=America/New_York:20250927T100000
DTEND;TZID=America/New_York:20250927T160000
DTSTAMP:20260423T134253
CREATED:20250826T193130Z
LAST-MODIFIED:20250826T193130Z
UID:10039591-1758967200-1758988800@downtowndayton.org
SUMMARY:Neighborhood Pet Store Day at Wild Whiskers
DESCRIPTION:Visit with SICSA pet adoption and adoptable animals 11pm-2pm \nThe Dog Wizard will host a “meet the trainer” event \nPlus\, shop HUGE one day sales 10am-4pm!
URL:https://downtowndayton.org/event/neighborhood-pet-store-day-at-wild-whiskers/
LOCATION:Wild Whiskers\, 33 S. St. Clair St.\, Ste. 2\, Dayton\, OH\, 45410\, United States
CATEGORIES:Animals,Community,Free Events,Shopping
ATTACH;FMTTYPE=image/jpeg:https://downtowndayton.org/wp-content/uploads/2023/12/Wild-Whiskers-16x9-1.jpg
END:VEVENT
END:VCALENDAR