BEGIN:VCALENDAR
VERSION:2.0
PRODID:-//Downtown Dayton Partnership - ECPv6.8.1//NONSGML v1.0//EN
CALSCALE:GREGORIAN
METHOD:PUBLISH
X-ORIGINAL-URL:https://downtowndayton.org
X-WR-CALDESC:Events for Downtown Dayton Partnership
REFRESH-INTERVAL;VALUE=DURATION:PT1H
X-Robots-Tag:noindex
X-PUBLISHED-TTL:PT1H
BEGIN:VTIMEZONE
TZID:America/Detroit
BEGIN:DAYLIGHT
TZOFFSETFROM:-0500
TZOFFSETTO:-0400
TZNAME:EDT
DTSTART:20240310T070000
END:DAYLIGHT
BEGIN:STANDARD
TZOFFSETFROM:-0400
TZOFFSETTO:-0500
TZNAME:EST
DTSTART:20241103T060000
END:STANDARD
END:VTIMEZONE
BEGIN:VEVENT
DTSTART;TZID=America/Detroit:20241016T120000
DTEND;TZID=America/Detroit:20241016T190000
DTSTAMP:20260423T162431
CREATED:20241007T204841Z
LAST-MODIFIED:20241007T205930Z
UID:10023563-1729080000-1729105200@downtowndayton.org
SUMMARY:Global Cat Day
DESCRIPTION:Join in a global celebration of the cat! \nRabbit Hole Books will be collecting and matching donations for the veterinary fund at SICSA\, collecting pet food for the food pantry at Have a Gay Day\, and will be offering customers 25% off cat-themed books and merchandise.
URL:https://downtowndayton.org/event/global-cat-day/
LOCATION:Rabbit Hole Books\, 27 W. First St.\, Dayton\, OH\, 45402
CATEGORIES:Animals,Charity / Fundraiser,Community,Free Events,Getting Involved,Kids / Family,Nonprofits & Grants,Shopping
ATTACH;FMTTYPE=image/jpeg:https://downtowndayton.org/wp-content/uploads/2024/03/rabbit.jpg
END:VEVENT
BEGIN:VEVENT
DTSTART;VALUE=DATE:20241018
DTEND;VALUE=DATE:20241020
DTSTAMP:20260423T162431
CREATED:20240910T202825Z
LAST-MODIFIED:20240910T203240Z
UID:10029587-1729209600-1729382399@downtowndayton.org
SUMMARY:Black Midwest Symposium Hosted by Black Midwest Initiative
DESCRIPTION:The Black Midwest Initiative hosts a biennial symposium that features artists\, activists\, academics\, and other community-involved people to discuss issues related to Black life in the Midwest. Past symposiums have been hosted in Minneapolis and Detroit\, but in 2024 it is coming to Dayton! \nThe third biennial symposium unfolds under the illuminating theme of “Adaptive Reuse\,” a beacon for change in the Midwest’s urban landscapes. \nThis year’s theme\, “Adaptive Reuse\,” is more than a concept– it’s a call to action for Black communities and allies across the Midwest. Together\, we’ll delve into strategies for reimagining the spaces around us\, transforming neglected landscapes into thriving hubs of culture\, sustainability\, and innovation. \nRegistration is required: https://blst.uic.edu/black-midwest-initiative/symposium/registration/
URL:https://downtowndayton.org/event/black-midwest-symposium-hosted-by-black-midwest-initiative/
LOCATION:Dayton Metro Library – Main Library\, 215 E. Third Street\, Dayton\, OH\, 45402
CATEGORIES:Community,Education,Getting Involved,Sinclair Community College
END:VEVENT
END:VCALENDAR