BEGIN:VCALENDAR
VERSION:2.0
PRODID:-//Downtown Dayton Partnership - ECPv6.8.1//NONSGML v1.0//EN
CALSCALE:GREGORIAN
METHOD:PUBLISH
X-WR-CALNAME:Downtown Dayton Partnership
X-ORIGINAL-URL:https://downtowndayton.org
X-WR-CALDESC:Events for Downtown Dayton Partnership
REFRESH-INTERVAL;VALUE=DURATION:PT1H
X-Robots-Tag:noindex
X-PUBLISHED-TTL:PT1H
BEGIN:VTIMEZONE
TZID:America/New_York
BEGIN:DAYLIGHT
TZOFFSETFROM:-0500
TZOFFSETTO:-0400
TZNAME:EDT
DTSTART:20250309T070000
END:DAYLIGHT
BEGIN:STANDARD
TZOFFSETFROM:-0400
TZOFFSETTO:-0500
TZNAME:EST
DTSTART:20251102T060000
END:STANDARD
END:VTIMEZONE
BEGIN:VEVENT
DTSTART;TZID=America/New_York:20250906T120000
DTEND;TZID=America/New_York:20250906T140000
DTSTAMP:20260425T233610
CREATED:20250825T205409Z
LAST-MODIFIED:20250825T205409Z
UID:10039588-1757160000-1757167200@downtowndayton.org
SUMMARY:Energy in Motion
DESCRIPTION:Join us for a two-hour journey of movement\, sound\, and community. A Soleil Movement Studio instructor will open the experience with gentle\, grounding yoga to release tension and prepare the body. Then\, sink into an immersive sound bath led by energyFields\, where crystal bowls and resonant tones guide you into deep restoration. \nThe session concludes with light refreshments and mingling — a chance to connect\, reflect\, and carry your renewed energy into the weekend.
URL:https://downtowndayton.org/event/energy-in-motion/
LOCATION:Soleil Movement Studio\, 204 Wayne Avenue\, Dayton\, OH\, 45402\, United States
CATEGORIES:Active Living,Health & Wellness
ATTACH;FMTTYPE=image/jpeg:https://downtowndayton.org/wp-content/uploads/2025/08/IMG_2123-scaled-e1756155234687.jpg
END:VEVENT
BEGIN:VEVENT
DTSTART;TZID=America/New_York:20250917T180000
DTEND;TZID=America/New_York:20250917T200000
DTSTAMP:20260425T233610
CREATED:20250825T205804Z
LAST-MODIFIED:20250825T205804Z
UID:10039589-1758132000-1758139200@downtowndayton.org
SUMMARY:Pizza & Pilates
DESCRIPTION:Enjoy rooftop pilates with Soleil Movement Studio on the upstairs patio of Oregon Express! \nA $30 ticket gets you admission to the class and 2 slices of pizza \nRegister online at https://www.soleilmovement.com/
URL:https://downtowndayton.org/event/pizza-pilates/
LOCATION:Oregon Express\, 336 E. 5th Street\, Dayton\, OH\, 45402\, USA
CATEGORIES:Active Living,Food & Drink,Health & Wellness
ATTACH;FMTTYPE=image/png:https://downtowndayton.org/wp-content/uploads/2025/08/image0-002.png
END:VEVENT
END:VCALENDAR