BEGIN:VCALENDAR
VERSION:2.0
PRODID:-//Downtown Dayton Partnership - ECPv6.8.1//NONSGML v1.0//EN
CALSCALE:GREGORIAN
METHOD:PUBLISH
X-ORIGINAL-URL:https://downtowndayton.org
X-WR-CALDESC:Events for Downtown Dayton Partnership
REFRESH-INTERVAL;VALUE=DURATION:PT1H
X-Robots-Tag:noindex
X-PUBLISHED-TTL:PT1H
BEGIN:VTIMEZONE
TZID:America/New_York
BEGIN:DAYLIGHT
TZOFFSETFROM:-0500
TZOFFSETTO:-0400
TZNAME:EDT
DTSTART:20250309T070000
END:DAYLIGHT
BEGIN:STANDARD
TZOFFSETFROM:-0400
TZOFFSETTO:-0500
TZNAME:EST
DTSTART:20251102T060000
END:STANDARD
BEGIN:DAYLIGHT
TZOFFSETFROM:-0500
TZOFFSETTO:-0400
TZNAME:EDT
DTSTART:20260308T070000
END:DAYLIGHT
BEGIN:STANDARD
TZOFFSETFROM:-0400
TZOFFSETTO:-0500
TZNAME:EST
DTSTART:20261101T060000
END:STANDARD
END:VTIMEZONE
BEGIN:VEVENT
DTSTART;TZID=America/New_York:20251218T100000
DTEND;TZID=America/New_York:20251218T120000
DTSTAMP:20260425T131723
CREATED:20251118T183536Z
LAST-MODIFIED:20251118T183536Z
UID:10050716-1766052000-1766059200@downtowndayton.org
SUMMARY:Bach’s Lunch
DESCRIPTION:The Carillon Brass is thrilled to present a favorite Dayton holiday tradition: Bach’s Lunch. All five members of the ensemble are members of the Philharmonic Orchestra. The program features traditional holiday favorites as well as other music for brass instruments\, presented in a lighthearted\, audience-friendly format. \nDuring your visit\, enjoy complimentary coffee and donuts\, plus a boxed lunch available for purchase. \nNote: This is a free event\, but a ticket is required to attend. If you can no longer attend the performance\, you can return your reserved tickets to the box office to ensure that more can enjoy the performance. \nGenerously sponsored by the Richard A. and Mary T. Whitney Fund of the Dayton Foundation
URL:https://downtowndayton.org/event/bachs-lunch/2025-12-18/1/
LOCATION:The Loft Theatre\, 126 N. Main Street\, Third Floor\, Dayton\, OH\, 45402
CATEGORIES:Arts & Theater,Free Events,Holiday,Holidays,Live Music,Music
ATTACH;FMTTYPE=image/jpeg:https://downtowndayton.org/wp-content/uploads/2025/11/unnamed-1.jpg
END:VEVENT
BEGIN:VEVENT
DTSTART;TZID=America/New_York:20251218T120000
DTEND;TZID=America/New_York:20251218T140000
DTSTAMP:20260425T131723
CREATED:20251118T183536Z
LAST-MODIFIED:20251118T183536Z
UID:10050717-1766059200-1766066400@downtowndayton.org
SUMMARY:Bach’s Lunch
DESCRIPTION:The Carillon Brass is thrilled to present a favorite Dayton holiday tradition: Bach’s Lunch. All five members of the ensemble are members of the Philharmonic Orchestra. The program features traditional holiday favorites as well as other music for brass instruments\, presented in a lighthearted\, audience-friendly format. \nDuring your visit\, enjoy complimentary coffee and donuts\, plus a boxed lunch available for purchase. \nNote: This is a free event\, but a ticket is required to attend. If you can no longer attend the performance\, you can return your reserved tickets to the box office to ensure that more can enjoy the performance. \nGenerously sponsored by the Richard A. and Mary T. Whitney Fund of the Dayton Foundation
URL:https://downtowndayton.org/event/bachs-lunch/2025-12-18/2/
LOCATION:The Loft Theatre\, 126 N. Main Street\, Third Floor\, Dayton\, OH\, 45402
CATEGORIES:Arts & Theater,Free Events,Holiday,Holidays,Live Music,Music
ATTACH;FMTTYPE=image/jpeg:https://downtowndayton.org/wp-content/uploads/2025/11/unnamed-1.jpg
END:VEVENT
BEGIN:VEVENT
DTSTART;TZID=America/New_York:20251219T120000
DTEND;TZID=America/New_York:20251219T130000
DTSTAMP:20260425T131723
CREATED:20251117T183734Z
LAST-MODIFIED:20251117T183734Z
UID:10050707-1766145600-1766149200@downtowndayton.org
SUMMARY:Noonday Carol Sing
DESCRIPTION:12:00 noon – handbell music\, \n12:10 pm carol singing by all and choral music by the Vocal Ensemble of Xenia High School – Lunch follows at a nominal cost. \nWestminster Presbyterian Church\, 125 N. Wilkinson St.\, Downtown Dayton
URL:https://downtowndayton.org/event/noonday-carol-sing/
LOCATION:Westminster Presbyterian Church\, 125 N. Wilkinson St.\, Dayton\, OH\, 45402
CATEGORIES:Arts & Theater,Christmas,Free Events,Holiday,Holidays,Kids / Family,Live Music,Music
ATTACH;FMTTYPE=image/jpeg:https://downtowndayton.org/wp-content/uploads/2024/10/westminster.jpg
END:VEVENT
BEGIN:VEVENT
DTSTART;TZID=America/New_York:20260405T110000
DTEND;TZID=America/New_York:20260405T150000
DTSTAMP:20260425T131723
CREATED:20260319T125955Z
LAST-MODIFIED:20260319T125955Z
UID:10055406-1775386800-1775401200@downtowndayton.org
SUMMARY:Easter Brunch
DESCRIPTION:Celebrate Easter with a delightful brunch at The Dayton Woman’s Club! Enjoy a delicious buffet-style meal in our historic Victorian mansion\, a cherished landmark in the heart of Dayton. Featuring breakfast favorites\, chef-prepared stations\, and seasonal dishes in a welcoming spring setting\, this festive gathering is the perfect way to spend the holiday with family and friends. \nSeatings: 11:00 am\, 12:15 pm\, and 1:30 pm  \nReservations required. Adults: $35  |  Children ages 5-10: $12  |  Children ages 4 & under: Free
URL:https://downtowndayton.org/event/easter-brunch-2/
LOCATION:The Dayton Woman’s Club\, 225 N Ludlow St\, Dayton\, OH\, 45402\, United States
CATEGORIES:Brunch,Easter,Food & Drink,Holiday,Holidays,Kids / Family
ATTACH;FMTTYPE=image/jpeg:https://downtowndayton.org/wp-content/uploads/2026/03/dwc-easter-brunch-2026-e1773925187676.jpg
END:VEVENT
END:VCALENDAR