BEGIN:VCALENDAR
VERSION:2.0
PRODID:-//Downtown Dayton Partnership - ECPv6.8.1//NONSGML v1.0//EN
CALSCALE:GREGORIAN
METHOD:PUBLISH
X-WR-CALNAME:Downtown Dayton Partnership
X-ORIGINAL-URL:https://downtowndayton.org
X-WR-CALDESC:Events for Downtown Dayton Partnership
REFRESH-INTERVAL;VALUE=DURATION:PT1H
X-Robots-Tag:noindex
X-PUBLISHED-TTL:PT1H
BEGIN:VTIMEZONE
TZID:America/Detroit
BEGIN:DAYLIGHT
TZOFFSETFROM:-0500
TZOFFSETTO:-0400
TZNAME:EDT
DTSTART:20240310T070000
END:DAYLIGHT
BEGIN:STANDARD
TZOFFSETFROM:-0400
TZOFFSETTO:-0500
TZNAME:EST
DTSTART:20241103T060000
END:STANDARD
END:VTIMEZONE
BEGIN:VEVENT
DTSTART;TZID=America/Detroit:20241201T180000
DTEND;TZID=America/Detroit:20241201T210000
DTSTAMP:20260422T170520
CREATED:20241016T195754Z
LAST-MODIFIED:20241016T195754Z
UID:10023569-1733076000-1733086800@downtowndayton.org
SUMMARY:“Elf” Movie Party
DESCRIPTION:We Did It!! The worlds greatest movie party. (congratulations everybody) \nCelebrate the Holidays with Music\, Meal\, Trivia\, and Dayton Dinner Theater’s famous interactive movie experience with the classic\, heartwarming\, and hilarious comedy Elf! \n**Themed Food: You smell like beef and cheese sliders\, Santa’s Sausage Gravy over a Buddy Biscuit\, Maplelicious Chicken & Waffles\, potato hash\, fresh fruit\, sausage\, candy canes\, candy corns\, and donuts! \nThemed Drinks: Angry Elf -Jalapeno-infused tequila\, triple sec\, housemade marg mix. Mailroom Syrup – Bourbon\, peach\, iced tea Ninnymuggin $5 Beer Special- Shiner Cheer Who Needs a Hug N.A.- Strawberry Lemonade \nThemed Attire: Let’s just say that this is one time you can express your affinity for Elf attire and actually be cool. \nHOW TO GO? Dec 01\, 2024\, 6:00 PM – 9:00 PM The Brightside\, 905 E 3rd St\, Dayton\, OH Doors open at 5:45 – Food and live music is available from 6-7 pm – Movie starts at 7 pm. A short intermission for dessert and trivia will start at 8 pm – Movie ends around 9:15 pm. \nAlcoholic drinks available for purchase \nTickets $36 – Get tickets here: https://www.daytondinnertheater.com/events/elf-movie-party-1 Table reservations only for parties of 6 or more\, otherwise we have open seating. For table reservations or other questions\, please email Daytondinnertheater@gmail.com \n**These menu items are subject to change
URL:https://downtowndayton.org/event/elf-movie-party/
LOCATION:The Brightside\, 905 E. Third St.\, Dayton\, OH\, 45402
CATEGORIES:Christmas,Dining Specials,Food & Drink,Holiday,Holidays,Movies / Film
END:VEVENT
END:VCALENDAR