BEGIN:VCALENDAR
VERSION:2.0
PRODID:-//Downtown Dayton Partnership - ECPv6.8.1//NONSGML v1.0//EN
CALSCALE:GREGORIAN
METHOD:PUBLISH
X-ORIGINAL-URL:https://downtowndayton.org
X-WR-CALDESC:Events for Downtown Dayton Partnership
REFRESH-INTERVAL;VALUE=DURATION:PT1H
X-Robots-Tag:noindex
X-PUBLISHED-TTL:PT1H
BEGIN:VTIMEZONE
TZID:America/Detroit
BEGIN:DAYLIGHT
TZOFFSETFROM:-0500
TZOFFSETTO:-0400
TZNAME:EDT
DTSTART:20240310T070000
END:DAYLIGHT
BEGIN:STANDARD
TZOFFSETFROM:-0400
TZOFFSETTO:-0500
TZNAME:EST
DTSTART:20241103T060000
END:STANDARD
END:VTIMEZONE
BEGIN:VEVENT
DTSTART;TZID=America/Detroit:20241218T180000
DTEND;TZID=America/Detroit:20241218T210000
DTSTAMP:20260423T053233
CREATED:20241016T191829Z
LAST-MODIFIED:20241016T191829Z
UID:10029788-1734544800-1734555600@downtowndayton.org
SUMMARY:“A Christmas Story” Movie Party
DESCRIPTION:Celebrate the Holidays with Music\, Meal\, Trivia\, and Dayton Dinner Theater’s famous interactive movie experience with the classic\, heartwarming\, and hilarious comedy A Christmas Story! \n**Themed Food: Mashed potato bar/play station\, Chop Suey Christmas dish (rice\, veggies\, bourban chicken\, salad (seseame dressing)\, leg lamp cookies Themed Cocktails: The Pink Bunny (Bacardi\, Pink Lemonade – Garnish with Pink Sugar and Bunny toothpick)\, Ovaltini (Tito’s\, Kahlua\, Half&Half – Hot Cocoa rim) Holiday Craft Beer Specials! \nThemed Attire: Drab colored old timey midwest winter garb\, If you stuff yourself in an arm restricting one-piece puffy coat we will try to turn the temp. down\, Also\, just so you know\, we are hoping to break the world record for most pink bunny outfits under one roof. \nBYOLL (Bring your own leg lamp) \nHOW TO GO? Dec 18\, 2024\, 6:00 PM – 9:00 PM The Brightside\, 905 E 3rd St\, Dayton\, OH \nDoors open at 5:45 – Food and live music is available from 6-7 pm – Movie starts at 7 pm. A short intermission for dessert and trivia will start at 8 pm – Movie ends around 9:15 pm. \nAlcoholic drinks available for purchase Tickets $36 – Get tickets here: https://www.daytondinnertheater.com/events/a-christmas-story-movie-party-1 Table reservations only for parties of 6 or more\, otherwise we have open seating. For table reservations or other questions\, please email Daytondinnertheater@gmail.com
URL:https://downtowndayton.org/event/a-christmas-story-movie-party/
LOCATION:The Brightside\, 905 E. Third St.\, Dayton\, OH\, 45402
CATEGORIES:Food & Drink,Holiday,Holidays,Movies / Film
ATTACH;FMTTYPE=image/jpeg:https://downtowndayton.org/wp-content/uploads/2024/10/Brightside-Christmas-Story.jpeg
END:VEVENT
END:VCALENDAR