BEGIN:VCALENDAR
VERSION:2.0
PRODID:-//Downtown Dayton Partnership - ECPv6.8.1//NONSGML v1.0//EN
CALSCALE:GREGORIAN
METHOD:PUBLISH
X-ORIGINAL-URL:https://downtowndayton.org
X-WR-CALDESC:Events for Downtown Dayton Partnership
REFRESH-INTERVAL;VALUE=DURATION:PT1H
X-Robots-Tag:noindex
X-PUBLISHED-TTL:PT1H
BEGIN:VTIMEZONE
TZID:America/Detroit
BEGIN:DAYLIGHT
TZOFFSETFROM:-0500
TZOFFSETTO:-0400
TZNAME:EDT
DTSTART:20240310T070000
END:DAYLIGHT
BEGIN:STANDARD
TZOFFSETFROM:-0400
TZOFFSETTO:-0500
TZNAME:EST
DTSTART:20241103T060000
END:STANDARD
END:VTIMEZONE
BEGIN:VEVENT
DTSTART;TZID=America/Detroit:20241231T190000
DTEND;TZID=America/Detroit:20241231T235900
DTSTAMP:20260421T062724
CREATED:20241016T200400Z
LAST-MODIFIED:20241016T200400Z
UID:10023571-1735671600-1735689540@downtowndayton.org
SUMMARY:NYE Ekoostik Hookah
DESCRIPTION:You’re invited to jammin’ New Year’s Eve with ekoostik hookah & Subterranean! If you’re a music lover – this is a fun way to ring in 2025! \nHOW TO GO? Tue\, December 31\, 2024 The Brightside\, 905 E 3rd St Dayton 7:00 PM Doors\, 8:00 PM Show General admission tickets $30 – get yours here: https://www.venuepilot.co/events/114610/orders/new#/
URL:https://downtowndayton.org/event/nye-ekoostik-hookah/
LOCATION:The Brightside\, 905 E. Third St.\, Dayton\, OH\, 45402
CATEGORIES:Holiday,Holidays,Live Music,Music
ATTACH;FMTTYPE=image/jpeg:https://downtowndayton.org/wp-content/uploads/2024/10/NYE-Ekoostik-Hookah.jpg
END:VEVENT
END:VCALENDAR