BEGIN:VCALENDAR
VERSION:2.0
PRODID:-//Downtown Dayton Partnership - ECPv6.8.1//NONSGML v1.0//EN
CALSCALE:GREGORIAN
METHOD:PUBLISH
X-WR-CALNAME:Downtown Dayton Partnership
X-ORIGINAL-URL:https://downtowndayton.org
X-WR-CALDESC:Events for Downtown Dayton Partnership
REFRESH-INTERVAL;VALUE=DURATION:PT1H
X-Robots-Tag:noindex
X-PUBLISHED-TTL:PT1H
BEGIN:VTIMEZONE
TZID:America/New_York
BEGIN:DAYLIGHT
TZOFFSETFROM:-0500
TZOFFSETTO:-0400
TZNAME:EDT
DTSTART:20250309T070000
END:DAYLIGHT
BEGIN:STANDARD
TZOFFSETFROM:-0400
TZOFFSETTO:-0500
TZNAME:EST
DTSTART:20251102T060000
END:STANDARD
END:VTIMEZONE
BEGIN:VEVENT
DTSTART;TZID=America/New_York:20250517T100000
DTEND;TZID=America/New_York:20250517T190000
DTSTAMP:20260421T181517
CREATED:20250514T193550Z
LAST-MODIFIED:20250514T193550Z
UID:10036259-1747476000-1747508400@downtowndayton.org
SUMMARY:Children’s Free Book Fair
DESCRIPTION:Rabbit Hole Books is hosting a free book fair for kids! All children from infancy to 18 can choose five free books and the first hundred kids will also get a free canvas book bag. \nWe will be opening early both days at 10 AM to 7PM. \nOn Sunday at four\, we will be drawing for a free hammock with stand\, because summer reading in a hammock is something close to bliss!
URL:https://downtowndayton.org/event/childrens-free-book-fair/2025-05-17/
LOCATION:Rabbit Hole Books\, 27 W. First St.\, Dayton\, OH\, 45402
CATEGORIES:Community,Free Events,Kids / Family,Literary
ATTACH;FMTTYPE=image/jpeg:https://downtowndayton.org/wp-content/uploads/2025/05/Childrens-Free-Book-Fair-e1747251345436.jpg
END:VEVENT
BEGIN:VEVENT
DTSTART;TZID=America/New_York:20250518T100000
DTEND;TZID=America/New_York:20250518T190000
DTSTAMP:20260421T181517
CREATED:20250514T193550Z
LAST-MODIFIED:20250514T193550Z
UID:10036260-1747562400-1747594800@downtowndayton.org
SUMMARY:Children’s Free Book Fair
DESCRIPTION:Rabbit Hole Books is hosting a free book fair for kids! All children from infancy to 18 can choose five free books and the first hundred kids will also get a free canvas book bag. \nWe will be opening early both days at 10 AM to 7PM. \nOn Sunday at four\, we will be drawing for a free hammock with stand\, because summer reading in a hammock is something close to bliss!
URL:https://downtowndayton.org/event/childrens-free-book-fair/2025-05-18/
LOCATION:Rabbit Hole Books\, 27 W. First St.\, Dayton\, OH\, 45402
CATEGORIES:Community,Free Events,Kids / Family,Literary
ATTACH;FMTTYPE=image/jpeg:https://downtowndayton.org/wp-content/uploads/2025/05/Childrens-Free-Book-Fair-e1747251345436.jpg
END:VEVENT
BEGIN:VEVENT
DTSTART;TZID=America/New_York:20250531T090000
DTEND;TZID=America/New_York:20250531T113000
DTSTAMP:20260421T181517
CREATED:20250520T150255Z
LAST-MODIFIED:20250520T150255Z
UID:10036265-1748682000-1748691000@downtowndayton.org
SUMMARY:Paint & Sip Acrylic Workshop – Child-Friendly Class
DESCRIPTION:Grab a brush and a beverage—it’s time to let your imagination run wild and paint this adorable little gnome! Whether you’re a total beginner or a practiced painter\, this whimsical and fun-filled event is for you. \nJoin Guest Artist Nero Lee (see biography below) as he guides you step-by-step through a playful painting project sure to bring a smile to your face and charm to your walls! \nIncluded with registration: \n• All painting materials\n• Complimentary coffee\, tea\, lemonade\, and water\n• Your choice of wine or mimosa \nSpots are limited — reserve yours today before they fill up! \nPLEASE NOTE: Cancellations are required at least 3 days prior to the event. No refunds given after that date.
URL:https://downtowndayton.org/event/paint-sip-acrylic-workshop-child-friendly-class/
LOCATION:The Dayton Woman’s Club\, 225 N Ludlow St\, Dayton\, OH\, 45402\, United States
CATEGORIES:Arts & Crafts,Crafts,Kids / Family,Visual Art
ATTACH;FMTTYPE=image/jpeg:https://downtowndayton.org/wp-content/uploads/2025/05/DWC-Paint-and-Sip.jpg
END:VEVENT
END:VCALENDAR