BEGIN:VCALENDAR
VERSION:2.0
PRODID:-//Downtown Dayton Partnership - ECPv6.8.1//NONSGML v1.0//EN
CALSCALE:GREGORIAN
METHOD:PUBLISH
X-WR-CALNAME:Downtown Dayton Partnership
X-ORIGINAL-URL:https://downtowndayton.org
X-WR-CALDESC:Events for Downtown Dayton Partnership
REFRESH-INTERVAL;VALUE=DURATION:PT1H
X-Robots-Tag:noindex
X-PUBLISHED-TTL:PT1H
BEGIN:VTIMEZONE
TZID:America/Detroit
BEGIN:DAYLIGHT
TZOFFSETFROM:-0500
TZOFFSETTO:-0400
TZNAME:EDT
DTSTART:20240310T070000
END:DAYLIGHT
BEGIN:STANDARD
TZOFFSETFROM:-0400
TZOFFSETTO:-0500
TZNAME:EST
DTSTART:20241103T060000
END:STANDARD
END:VTIMEZONE
BEGIN:VEVENT
DTSTART;TZID=America/Detroit:20241107T190000
DTEND;TZID=America/Detroit:20241107T230000
DTSTAMP:20260422T063333
CREATED:20241016T195316Z
LAST-MODIFIED:20241016T195316Z
UID:10023568-1731006000-1731020400@downtowndayton.org
SUMMARY:EMO NIGHT ft Flicker//Fade Live Emo Band Night!
DESCRIPTION:EMO NIGHT ft Flicker//Fade Live Emo Band Night! The ultimate emo night is here on Thursday\, November 7th! Featuring a live band playing the best of Emo* Pop-Punk* Warped Tour Era Music\, and more! \nHOW TO GO? Thursday\, November 7th The Brightside\, 905 E 3rd St\, Dayton Doors open 7pm $15 advance tickets here: https://www.venuepilot.co/events/116634/orders/new \n$20 at the door All ages welcome (under 18 needs supervision) There is NO re-entry\, so please plan appropriately
URL:https://downtowndayton.org/event/emo-night-ft-flicker-fade-live-emo-band-night/
LOCATION:The Brightside\, 905 E. Third St.\, Dayton\, OH\, 45402
CATEGORIES:Live Music,Music,Performing Arts
END:VEVENT
BEGIN:VEVENT
DTSTART;TZID=America/Detroit:20241114T190000
DTEND;TZID=America/Detroit:20241114T220000
DTSTAMP:20260422T063333
CREATED:20241016T194135Z
LAST-MODIFIED:20241016T194135Z
UID:10029791-1731610800-1731621600@downtowndayton.org
SUMMARY:An Evening with Nick Cassarino
DESCRIPTION:Nick Cassarino is starting his first ever solo tour\, and we are thrilled to be involved! Nick\, a renowned guitar virtuoso\, has captivated audiences alongside Jennifer Hartswick and The Nth Power during past performances at The Brightside. He is a familiar face at New York City venues and a regular at Jazz Fest in New Orleans. It’s a special occasion to have him perform up close once again in Dayton at our cozy VodVil Bar! \nHow To Go? Thursday\, November 14\, 2024 Doors 7pm / Show 7:30pm Opener TBA All ages welcome Tickets $15 advance / $20 at the door Get pre-sales here: https://www.venuepilot.co/events/119481/orders/new
URL:https://downtowndayton.org/event/an-evening-with-nick-cassarino/
LOCATION:The Brightside\, 905 E. Third St.\, Dayton\, OH\, 45402
CATEGORIES:Live Music
ATTACH;FMTTYPE=image/jpeg:https://downtowndayton.org/wp-content/uploads/2024/10/Brightside-Nick-Cessarino.jpeg
END:VEVENT
BEGIN:VEVENT
DTSTART;TZID=America/Detroit:20241127T190000
DTEND;TZID=America/Detroit:20241127T230000
DTSTAMP:20260422T063333
CREATED:20241016T200149Z
LAST-MODIFIED:20241016T200149Z
UID:10023570-1732734000-1732748400@downtowndayton.org
SUMMARY:Werksgiving Event
DESCRIPTION:The Werks are back with WERKSGIVING 2024 on November 27  It’s a hometown throwdown with support from Chalk Dinosaur and Tasting Colour! On saIe now  \nHOW TO GO? November 27\, 2024 The Brightside Dayton – 905 E 3rd St Doors 7pm | Show 7:15pm All Ages Get your ticket here: https://werkoutpresents.ticketspice.com/werksgiving2024
URL:https://downtowndayton.org/event/werksgiving-event/
LOCATION:The Brightside\, 905 E. Third St.\, Dayton\, OH\, 45402
CATEGORIES:Holiday,Holidays,Live Music
END:VEVENT
END:VCALENDAR