BEGIN:VCALENDAR
VERSION:2.0
PRODID:-//Downtown Dayton Partnership - ECPv6.8.1//NONSGML v1.0//EN
CALSCALE:GREGORIAN
METHOD:PUBLISH
X-ORIGINAL-URL:https://downtowndayton.org
X-WR-CALDESC:Events for Downtown Dayton Partnership
REFRESH-INTERVAL;VALUE=DURATION:PT1H
X-Robots-Tag:noindex
X-PUBLISHED-TTL:PT1H
BEGIN:VTIMEZONE
TZID:America/New_York
BEGIN:DAYLIGHT
TZOFFSETFROM:-0500
TZOFFSETTO:-0400
TZNAME:EDT
DTSTART:20250309T070000
END:DAYLIGHT
BEGIN:STANDARD
TZOFFSETFROM:-0400
TZOFFSETTO:-0500
TZNAME:EST
DTSTART:20251102T060000
END:STANDARD
END:VTIMEZONE
BEGIN:VEVENT
DTSTART;TZID=America/New_York:20250507T190000
DTEND;TZID=America/New_York:20250507T210000
DTSTAMP:20260419T211101
CREATED:20250401T152206Z
LAST-MODIFIED:20250401T152206Z
UID:10032681-1746644400-1746651600@downtowndayton.org
SUMMARY:Free concert: Sinclair Classical Guitar Ensemble
DESCRIPTION:Enjoy a free concert from Sinclair Classical Guitar Ensemble\nNoah Ward\, director \nBlair Hall Theatre\, Building 2 \nFull concert schedule available at https://www.sinclair.edu/academics/divisions/lcs/mus/current-concert-season/
URL:https://downtowndayton.org/event/free-concert-sinclair-classical-guitar-ensemble/
LOCATION:Blair Hall Theatre – Sinclair\, 444 W. Third St.\, Dayton\, OH\, 45402
CATEGORIES:Arts & Theater,College Events,Community,Free Events,Live Music,Music,Sinclair Community College
ATTACH;FMTTYPE=image/jpeg:https://downtowndayton.org/wp-content/uploads/2024/07/sinclair.jpg
END:VEVENT
BEGIN:VEVENT
DTSTART;TZID=America/New_York:20250521T193000
DTEND;TZID=America/New_York:20250521T223000
DTSTAMP:20260419T211101
CREATED:20250418T174200Z
LAST-MODIFIED:20250418T174200Z
UID:10033141-1747855800-1747866600@downtowndayton.org
SUMMARY:The New Duncan Imperials
DESCRIPTION:We are delighted to welcome The New Duncan Imperials along with special guests Nick Kizirnis Rock’n’Roll Trio to The Brightside! The New Duncan Imperials is a roots rock band from Chicago\, Illinois\, established in the late 1980s by members of the band The Service. Nick Kizirnis\, based in Dayton\, Ohio\, is a songwriter and guitarist known for his uniquely moody approach to Indie-Rock\, Americana\, and Surf Rock\, providing catharsis for those facing life’s toughest challenges. \nHow to go? May 21\, 2025 Doors 7pm / Show 7:30pm All ages welcome! $15 advance / $20 at the door Reserved tables for 2 and 4 are also available = $45 bistro w 2 tickets / $90 table w 4 tickets \nTicket link: https://tickets.venuepilot.com/e/the-new-duncan-imperials-wsg-nick-kizirnis-rock-n-roll-trio-2025-05-21-the-brightside-music-event-ven-813e55
URL:https://downtowndayton.org/event/the-new-duncan-imperials/
LOCATION:The Brightside\, 905 E. Third St.\, Dayton\, OH\, 45402
CATEGORIES:Live Music,Music
ATTACH;FMTTYPE=image/jpeg:https://downtowndayton.org/wp-content/uploads/2025/04/103518.jpg
END:VEVENT
BEGIN:VEVENT
DTSTART;TZID=America/New_York:20250531T190000
DTEND;TZID=America/New_York:20250531T220000
DTSTAMP:20260419T211101
CREATED:20250516T194723Z
LAST-MODIFIED:20250516T194723Z
UID:10036263-1748718000-1748728800@downtowndayton.org
SUMMARY:Summer Band Series: Chris Yakopcic
DESCRIPTION:Enjoy some live music at the Dayton Beer Company! Chris Yakopcic takes the stage for a free show from 7-10 p.m.
URL:https://downtowndayton.org/event/summer-band-series-chris-yakopcic/
LOCATION:OH
CATEGORIES:Beer,Free Events,Live Music,Music
ATTACH;FMTTYPE=image/jpeg:https://downtowndayton.org/wp-content/uploads/2025/01/dbc.jpg
END:VEVENT
END:VCALENDAR