BEGIN:VCALENDAR
VERSION:2.0
PRODID:-//Downtown Dayton Partnership - ECPv6.8.1//NONSGML v1.0//EN
CALSCALE:GREGORIAN
METHOD:PUBLISH
X-ORIGINAL-URL:https://downtowndayton.org
X-WR-CALDESC:Events for Downtown Dayton Partnership
REFRESH-INTERVAL;VALUE=DURATION:PT1H
X-Robots-Tag:noindex
X-PUBLISHED-TTL:PT1H
BEGIN:VTIMEZONE
TZID:America/Detroit
BEGIN:DAYLIGHT
TZOFFSETFROM:-0500
TZOFFSETTO:-0400
TZNAME:EDT
DTSTART:20240310T070000
END:DAYLIGHT
BEGIN:STANDARD
TZOFFSETFROM:-0400
TZOFFSETTO:-0500
TZNAME:EST
DTSTART:20241103T060000
END:STANDARD
END:VTIMEZONE
BEGIN:VEVENT
DTSTART;TZID=America/Detroit:20241127T190000
DTEND;TZID=America/Detroit:20241127T230000
DTSTAMP:20260423T071631
CREATED:20241016T200149Z
LAST-MODIFIED:20241016T200149Z
UID:10023570-1732734000-1732748400@downtowndayton.org
SUMMARY:Werksgiving Event
DESCRIPTION:The Werks are back with WERKSGIVING 2024 on November 27  It’s a hometown throwdown with support from Chalk Dinosaur and Tasting Colour! On saIe now  \nHOW TO GO? November 27\, 2024 The Brightside Dayton – 905 E 3rd St Doors 7pm | Show 7:15pm All Ages Get your ticket here: https://werkoutpresents.ticketspice.com/werksgiving2024
URL:https://downtowndayton.org/event/werksgiving-event/
LOCATION:The Brightside\, 905 E. Third St.\, Dayton\, OH\, 45402
CATEGORIES:Holiday,Holidays,Live Music
END:VEVENT
END:VCALENDAR