BEGIN:VCALENDAR
VERSION:2.0
PRODID:-//Downtown Dayton Partnership - ECPv6.8.1//NONSGML v1.0//EN
CALSCALE:GREGORIAN
METHOD:PUBLISH
X-WR-CALNAME:Downtown Dayton Partnership
X-ORIGINAL-URL:https://downtowndayton.org
X-WR-CALDESC:Events for Downtown Dayton Partnership
REFRESH-INTERVAL;VALUE=DURATION:PT1H
X-Robots-Tag:noindex
X-PUBLISHED-TTL:PT1H
BEGIN:VTIMEZONE
TZID:America/Detroit
BEGIN:DAYLIGHT
TZOFFSETFROM:-0500
TZOFFSETTO:-0400
TZNAME:EDT
DTSTART:20250309T070000
END:DAYLIGHT
BEGIN:STANDARD
TZOFFSETFROM:-0400
TZOFFSETTO:-0500
TZNAME:EST
DTSTART:20251102T060000
END:STANDARD
END:VTIMEZONE
BEGIN:VEVENT
DTSTART;TZID=America/Detroit:20250307T170000
DTEND;TZID=America/Detroit:20250307T220000
DTSTAMP:20260419T224113
CREATED:20241016T200608Z
LAST-MODIFIED:20241016T200608Z
UID:10023572-1741366800-1741384800@downtowndayton.org
SUMMARY:Scythian – Celtic Rock
DESCRIPTION:Join us for a throwdown at the hoedown with Scythian at The Brightside Music & Event Venue in Dayton! Prepare for pints\, tunes\, and a few jigs to get into the spirit of St. Patrick’s Day. This event promises to be a blast\, so round up your friends and come on down for a great time. \nHang out with the band at the VIP Meet n’ Greet Happy Hour and get a FREE poster for the show along with GUARANTEED Premium Seating (space is limited and sells out every year). This weekend show will sell out so buy your tickets in advance and BE THERE! \nHOW TO GO? Friday\, March 7\, 2025 5pm – VIP Doors 6pm – General Admission Doors \nGeneral Admission $22 in advance General Admission $27 at the door VIP $60 Get advance tickets here: https://www.eventbrite.com/e/scythian-friday-at-the-brightside-in-dayton-tickets-952833609977 \nALL AGES SHOW!
URL:https://downtowndayton.org/event/scythian-celtic-rock/
LOCATION:The Brightside\, 905 E. Third St.\, Dayton\, OH\, 45402
CATEGORIES:Live Music,Music
END:VEVENT
END:VCALENDAR