BEGIN:VCALENDAR
VERSION:2.0
PRODID:-//Downtown Dayton Partnership - ECPv6.8.1//NONSGML v1.0//EN
CALSCALE:GREGORIAN
METHOD:PUBLISH
X-WR-CALNAME:Downtown Dayton Partnership
X-ORIGINAL-URL:https://downtowndayton.org
X-WR-CALDESC:Events for Downtown Dayton Partnership
REFRESH-INTERVAL;VALUE=DURATION:PT1H
X-Robots-Tag:noindex
X-PUBLISHED-TTL:PT1H
BEGIN:VTIMEZONE
TZID:America/Detroit
BEGIN:DAYLIGHT
TZOFFSETFROM:-0500
TZOFFSETTO:-0400
TZNAME:EDT
DTSTART:20240310T070000
END:DAYLIGHT
BEGIN:STANDARD
TZOFFSETFROM:-0400
TZOFFSETTO:-0500
TZNAME:EST
DTSTART:20241103T060000
END:STANDARD
END:VTIMEZONE
BEGIN:VEVENT
DTSTART;TZID=America/Detroit:20241019T110000
DTEND;TZID=America/Detroit:20241019T180000
DTSTAMP:20260423T024137
CREATED:20241007T205802Z
LAST-MODIFIED:20241007T205802Z
UID:10029752-1729335600-1729360800@downtowndayton.org
SUMMARY:The Sinister Scavenger Hunting of the Snark: a downtown scavenger hunt
DESCRIPTION:1-mile radius\, 31 clues! \nThere will be an abundance of prizes including $25 gift cards for the team with the best costumes\, a hamper of gifts for the most accurate\, and each of the first 20 teams to finish (with an accuracy of at least 83 percent) wins a snark! \nCanapes\, amuse bouche\, finger foods\, tea and tidbits will be served. \nEach entry packet for 4 costs $25 and contains 4 wristbands\, 4 stickers\, $40 in gift cards to the Dayton Book Fair\, and other strange flat items. Available Friday 10/11 at Rabbit Hole Books. \nLimited to 50 teams.
URL:https://downtowndayton.org/event/the-sinister-scavenger-hunting-of-the-snark-a-downtown-scavenger-hunt/
LOCATION:Rabbit Hole Books\, 27 W. First St.\, Dayton\, OH\, 45402
CATEGORIES:Community,Games & Gaming,Kids / Family,Outdoors,Shopping
ATTACH;FMTTYPE=image/jpeg:https://downtowndayton.org/wp-content/uploads/2024/03/rabbit.jpg
END:VEVENT
END:VCALENDAR