BEGIN:VCALENDAR
VERSION:2.0
PRODID:-//Downtown Dayton Partnership - ECPv6.8.1//NONSGML v1.0//EN
CALSCALE:GREGORIAN
METHOD:PUBLISH
X-WR-CALNAME:Downtown Dayton Partnership
X-ORIGINAL-URL:https://downtowndayton.org
X-WR-CALDESC:Events for Downtown Dayton Partnership
REFRESH-INTERVAL;VALUE=DURATION:PT1H
X-Robots-Tag:noindex
X-PUBLISHED-TTL:PT1H
BEGIN:VTIMEZONE
TZID:America/Detroit
BEGIN:DAYLIGHT
TZOFFSETFROM:-0500
TZOFFSETTO:-0400
TZNAME:EDT
DTSTART:20240310T070000
END:DAYLIGHT
BEGIN:STANDARD
TZOFFSETFROM:-0400
TZOFFSETTO:-0500
TZNAME:EST
DTSTART:20241103T060000
END:STANDARD
END:VTIMEZONE
BEGIN:VEVENT
DTSTART;TZID=America/Detroit:20241022T150000
DTEND;TZID=America/Detroit:20241022T170000
DTSTAMP:20260422T030343
CREATED:20240910T203154Z
LAST-MODIFIED:20240910T203154Z
UID:10029588-1729609200-1729616400@downtowndayton.org
SUMMARY:“Birthing Justice” viewing & discussion
DESCRIPTION:Free and open to the public! \nJoin us for a discussion and screening of the 2023 documentary\, directed by Monique N. Mathews. \nBlack women in the U.S. are three to four times likely to die during childbirth than white women. This documentary captures the experiences and challenges of Black women\, their families\, caretakers and advocates\, and examines the structures and systems that determine disparate rates of mortality. Ultimately\, this pivotal film celebrates the efforts to fix America’s broken medical system and transform this narrative of tragedy into one of hope. \nSee them. Hear their stores. Remember and honor those we have lost. And join the movement to ensure BIRTHING JUSTICE for Black mothers and their families. \nVIEW OFFICIAL TRAILER HERE \nThe screening will be held in Bldg. 7 Tartan Marketplace\, Room 7006 at Sinclair College\, 444 W. Third Street\, Dayton OH 45402.
URL:https://downtowndayton.org/event/birthing-justice-viewing-discussion/
LOCATION:Sinclair College\, 444 W. Third St.\, Dayton\, OH
CATEGORIES:Community,Education,Free Events,Movies / Film,Sinclair Community College
ATTACH;FMTTYPE=image/jpeg:https://downtowndayton.org/wp-content/uploads/2024/07/sinclair.jpg
END:VEVENT
END:VCALENDAR