BEGIN:VCALENDAR
VERSION:2.0
PRODID:-//Downtown Dayton Partnership - ECPv6.8.1//NONSGML v1.0//EN
CALSCALE:GREGORIAN
METHOD:PUBLISH
X-ORIGINAL-URL:https://downtowndayton.org
X-WR-CALDESC:Events for Downtown Dayton Partnership
REFRESH-INTERVAL;VALUE=DURATION:PT1H
X-Robots-Tag:noindex
X-PUBLISHED-TTL:PT1H
BEGIN:VTIMEZONE
TZID:America/Detroit
BEGIN:DAYLIGHT
TZOFFSETFROM:-0500
TZOFFSETTO:-0400
TZNAME:EDT
DTSTART:20240310T070000
END:DAYLIGHT
BEGIN:STANDARD
TZOFFSETFROM:-0400
TZOFFSETTO:-0500
TZNAME:EST
DTSTART:20241103T060000
END:STANDARD
END:VTIMEZONE
BEGIN:VEVENT
DTSTART;TZID=America/Detroit:20241105T150000
DTEND;TZID=America/Detroit:20241105T173000
DTSTAMP:20260422T072737
CREATED:20241018T173749Z
LAST-MODIFIED:20241018T173749Z
UID:10029794-1730818800-1730827800@downtowndayton.org
SUMMARY:The Barber of Little Rock
DESCRIPTION:Join us for a discussion and screening of the 2023 documentary short\, directed by John Hoffman & Christine Turner. This 2024 Oscar-Nominated documentary follows the work of Arlo Washington\, an African-American barber\, who founded a nonprofit community bank dedicated to providing economic opportunities for underserved residents in Little Rock\, Arkansas\, that mainstream banks will not offer. Arlo’s visionary approach to a just economy could reshape the future of banking. \nTrailer for the movie: https://www.youtube.com/watch?v=LRDems-XacU \nThe screening will be held in Bldg. 7 Tartan Marketplace\, Room 7006 at Sinclair College\, 444 W. Third Street\, Dayton OH 45402. \nOnce you enter the set of glass doors to building 7 Tartan Marketplace\, the conference room is to your right\, through the doorway across the area of tables. Complimentary parking available in the garage (Lot C) under building 12 and parking passes will be provided at the event.
URL:https://downtowndayton.org/event/the-barber-of-little-rock/
LOCATION:Sinclair College\, 444 W. Third St.\, Dayton\, OH
CATEGORIES:Arts & Theater,Education,Free Events,Movies / Film,Sinclair Community College
ATTACH;FMTTYPE=image/jpeg:https://downtowndayton.org/wp-content/uploads/2024/07/sinclair.jpg
END:VEVENT
END:VCALENDAR