BEGIN:VCALENDAR
VERSION:2.0
PRODID:-//Downtown Dayton Partnership - ECPv6.8.1//NONSGML v1.0//EN
CALSCALE:GREGORIAN
METHOD:PUBLISH
X-WR-CALNAME:Downtown Dayton Partnership
X-ORIGINAL-URL:https://downtowndayton.org
X-WR-CALDESC:Events for Downtown Dayton Partnership
REFRESH-INTERVAL;VALUE=DURATION:PT1H
X-Robots-Tag:noindex
X-PUBLISHED-TTL:PT1H
BEGIN:VTIMEZONE
TZID:America/Detroit
BEGIN:DAYLIGHT
TZOFFSETFROM:-0500
TZOFFSETTO:-0400
TZNAME:EDT
DTSTART:20240310T070000
END:DAYLIGHT
BEGIN:STANDARD
TZOFFSETFROM:-0400
TZOFFSETTO:-0500
TZNAME:EST
DTSTART:20241103T060000
END:STANDARD
END:VTIMEZONE
BEGIN:VEVENT
DTSTART;TZID=America/Detroit:20241114T080000
DTEND;TZID=America/Detroit:20241114T180000
DTSTAMP:20260422T120102
CREATED:20241010T143052Z
LAST-MODIFIED:20241010T143052Z
UID:10029757-1731571200-1731607200@downtowndayton.org
SUMMARY:Exhibit: Experiencing Veterans & Artists Collaboration (EVAC) Project
DESCRIPTION:The Sinclair Community College Art Department proudly announces new exhibits featuring works from the Experiencing Veterans & Artists Collaboration (EVAC) Project and contemporary steel sculptures by artist Chris Mohler. \nThe exhibits will be displayed in the Burnell R. Roberts Triangle Gallery and the Works on Paper Gallery from November 8 through December 14\, 2024. The EVAC Project uses storytelling and art to bridge the gap between veterans and civilians. \nThrough the collaboration\, over 60 veterans share their life stories\, which are then interpreted into visual artwork by talented artists. As visitors explore these powerful stories alongside the artwork\, the exhibit fosters empathy and a deeper connection with the experiences of veterans. Chris Mohler’s collection of steel sculptures shares a common theme of personal storytelling. Each piece reflects a chapter of Mohler’s life\, inspired by topics such as current events\, human existence\, science\, politics\, personal joys\, sacrifices\, and social injustices. Mohler\, however\, encourages viewers to derive their own meanings from the works\, allowing for an open-ended exploration of the art. \nA virtual artist talk will take place on Thursday\, November 21\, 2024\, at 12:00 p.m. via Zoom. More details can be found at Sinclair.edu/ArtGalleries. \nThe exhibitions are free and open to the public. \nGallery hours are Monday through Friday from 8:00 a.m. to 6:00 p.m. and Saturdays from 9:00 a.m. to 12:00 p.m. Both galleries are located on the fourth floor of Building 13 at the corner of West Fifth and Perry Streets in downtown Dayton.
URL:https://downtowndayton.org/event/exhibit-experiencing-veterans-artists-collaboration-evac-project/2024-11-14/
LOCATION:Galleries at Sinclair College\, 444 W. Third St.\, Bldg. 13\, Dayton\, OH\, 45402
CATEGORIES:Arts & Theater,Education,Free Events,Sinclair Community College,Visual Art
ATTACH;FMTTYPE=image/jpeg:https://downtowndayton.org/wp-content/uploads/2024/10/Sinclair-CC-Nov-2024-Exhibit-Yuji-Hiratsuka-e1728570613435.jpg
END:VEVENT
BEGIN:VEVENT
DTSTART;TZID=America/Detroit:20241114T100000
DTEND;TZID=America/Detroit:20241114T123000
DTSTAMP:20260422T120102
CREATED:20241018T174149Z
LAST-MODIFIED:20241018T174149Z
UID:10029796-1731578400-1731587400@downtowndayton.org
SUMMARY:How to Make Learning as Addictive as Social Media
DESCRIPTION:Join Sinclair’s Associate Provost Lisa Mahle-Grisez & Assistance Provost\, Jared Cutler\, for a discussion and viewing of the pre-recorded TedTalk by Luis Von Ahn. When technologist Luis von Ahn was building the popular language-learning platform Duolingo\, he faced a big problem: Could an app designed to teach you something ever compete with addictive platforms like Instagram and TikTok? He explains how Duolingo harnesses the psychological techniques of social media and mobile games to get you excited to learn — all while spreading access to education across the world. \nThis event will be held in Sinclair’s Tartan Marketplace\, Bldg. 7\, Room 7006. Once you enter the set of glass doors to building 7 Tartan Marketplace\, the conference room is to your right\, through the doorway across the area of tables. Complimentary parking is available in the garage (Lot C) under Building 12 and parking passes will be provided at the event.
URL:https://downtowndayton.org/event/how-to-make-learning-as-addictive-as-social-media/
LOCATION:Sinclair College\, 444 W. Third St.\, Dayton\, OH
CATEGORIES:College Events,Community,Education,Free Events,Sinclair Community College
ATTACH;FMTTYPE=image/jpeg:https://downtowndayton.org/wp-content/uploads/2024/07/sinclair.jpg
END:VEVENT
END:VCALENDAR