BEGIN:VCALENDAR
VERSION:2.0
PRODID:-//Downtown Dayton Partnership - ECPv6.8.1//NONSGML v1.0//EN
CALSCALE:GREGORIAN
METHOD:PUBLISH
X-WR-CALNAME:Downtown Dayton Partnership
X-ORIGINAL-URL:https://downtowndayton.org
X-WR-CALDESC:Events for Downtown Dayton Partnership
REFRESH-INTERVAL;VALUE=DURATION:PT1H
X-Robots-Tag:noindex
X-PUBLISHED-TTL:PT1H
BEGIN:VTIMEZONE
TZID:America/New_York
BEGIN:DAYLIGHT
TZOFFSETFROM:-0500
TZOFFSETTO:-0400
TZNAME:EDT
DTSTART:20250309T070000
END:DAYLIGHT
BEGIN:STANDARD
TZOFFSETFROM:-0400
TZOFFSETTO:-0500
TZNAME:EST
DTSTART:20251102T060000
END:STANDARD
TZID:America/Detroit
BEGIN:DAYLIGHT
TZOFFSETFROM:-0500
TZOFFSETTO:-0400
TZNAME:EDT
DTSTART:20250309T070000
END:DAYLIGHT
BEGIN:STANDARD
TZOFFSETFROM:-0400
TZOFFSETTO:-0500
TZNAME:EST
DTSTART:20251102T060000
END:STANDARD
END:VTIMEZONE
BEGIN:VEVENT
DTSTART;TZID=America/New_York:20250921T190000
DTEND;TZID=America/New_York:20250921T190000
DTSTAMP:20260423T121606
CREATED:20250915T165306Z
LAST-MODIFIED:20250915T165306Z
UID:10039795-1758481200-1758481200@downtowndayton.org
SUMMARY:Girls Gone Bible Live Tour
DESCRIPTION:What started as an intimate Bible study between two best friends has transformed into “Girls Gone Bible\,” a Christian podcast redefining faith-based conversations for a new generation. The “Girls Gone Bible podcast” (with over 20 million listens)\, is ranked #1 for religion and spirituality on Spotify and is also featured in the top charts on Apple Podcasts. Co-hosted by Angela Halili and Arielle Reitsma\, the show offers unfiltered\, heartfelt discussions on faith\, relationships\, personal struggles\, and spiritual growth. The idea for “Girls Gone Bible” wasn’t born in a strategy meeting – it happened organically. “We were sitting in my living room\, reading the Bible\,” Halili recalls. “And suddenly\, it just clicked – we need to record this.” That unassuming moment sparked a movement\, resonating with listeners who craved authenticity in a world that often demands perfection. Raw\, real\, and deeply personal\, “Girls Gone Bible” is more than just a podcast – it’s a community. The “GGB gang\,” as they call their listeners\, has grown into a family\, connected by shared stories and a collective pursuit of faith. The duo’s live events\, national tour\, and upcoming devotional are just the beginning of their expanding platform\, proving that faith-based content can be both powerful and wildly engaging. With “Girls Gone Bible\,” Halili and Reitsma are leading a new wave of faith-driven conversations – one honest\, unfiltered episode at a time.
URL:https://downtowndayton.org/event/girls-gone-bible-live-tour/
LOCATION:Victoria Theatre\, 138 N. Main St.\, Dayton\, OH\, 45402\, United States
ATTACH;FMTTYPE=image/jpeg:https://downtowndayton.org/wp-content/uploads/2025/09/ggb.jpg
END:VEVENT
BEGIN:VEVENT
DTSTART;TZID=America/New_York:20250923T160000
DTEND;TZID=America/New_York:20250923T170000
DTSTAMP:20260423T121606
CREATED:20250909T132450Z
LAST-MODIFIED:20250909T132450Z
UID:10039772-1758643200-1758646800@downtowndayton.org
SUMMARY:Mightier than the Sword – Teen Writing Club
DESCRIPTION:Mightier than the Sword – Teen Writing Club\, Tuesday\, September 23\, 4-5 pm\, Main Library\, Conference Room 1 B\, Teen Edge\, 1st Floor: DML’s Teen Librarian will provide a 1- to 2-word prompt\, and writers will have 40 minutes to write using the prompt. During the last 20 minutes\, work will be shared and workshopped. Registration is required. Teens
URL:https://downtowndayton.org/event/mightier-than-the-sword-teen-writing-club/
LOCATION:Dayton Metro Library – Main Library\, 215 E. Third Street\, Dayton\, OH\, 45402
ATTACH;FMTTYPE=image/jpeg:https://downtowndayton.org/wp-content/uploads/2023/08/dml.jpg
END:VEVENT
BEGIN:VEVENT
DTSTART;TZID=America/Detroit:20250923T190000
DTEND;TZID=America/Detroit:20250923T190000
DTSTAMP:20260423T121606
CREATED:20250114T175514Z
LAST-MODIFIED:20250114T175514Z
UID:10049722-1758654000-1758654000@downtowndayton.org
SUMMARY:Trivia Tuesday
DESCRIPTION:Trivia Tuesdays are fun for everyone at The Dayton Beer Company! Get $3.50 DBC Pints every Tuesday with trivia starting at 7:00 p.m. Cheers!
URL:https://downtowndayton.org/event/trivia-tuesday-2025-03-04/
LOCATION:OH
ATTACH;FMTTYPE=image/jpeg:https://downtowndayton.org/wp-content/uploads/2025/01/dbc.jpg
END:VEVENT
BEGIN:VEVENT
DTSTART;TZID=America/Detroit:20250923T190000
DTEND;TZID=America/Detroit:20250923T190000
DTSTAMP:20260423T121606
CREATED:20250114T175514Z
LAST-MODIFIED:20250114T175514Z
UID:10051851-1758654000-1758654000@downtowndayton.org
SUMMARY:Trivia Tuesday
DESCRIPTION:Trivia Tuesdays are fun for everyone at The Dayton Beer Company! Get $3.50 DBC Pints every Tuesday with trivia starting at 7:00 p.m. Cheers!
URL:https://downtowndayton.org/event/trivia-tuesday-2025-02-04-3/
LOCATION:OH
ATTACH;FMTTYPE=image/jpeg:https://downtowndayton.org/wp-content/uploads/2025/01/dbc.jpg
END:VEVENT
BEGIN:VEVENT
DTSTART;TZID=America/Detroit:20250923T190000
DTEND;TZID=America/Detroit:20250923T190000
DTSTAMP:20260423T121606
CREATED:20250114T175514Z
LAST-MODIFIED:20250114T175514Z
UID:10050140-1758654000-1758654000@downtowndayton.org
SUMMARY:Trivia Tuesday
DESCRIPTION:Trivia Tuesdays are fun for everyone at The Dayton Beer Company! Get $3.50 DBC Pints every Tuesday with trivia starting at 7:00 p.m. Cheers!
URL:https://downtowndayton.org/event/trivia-tuesday-2025-05-20/
LOCATION:OH
ATTACH;FMTTYPE=image/jpeg:https://downtowndayton.org/wp-content/uploads/2025/01/dbc.jpg
END:VEVENT
BEGIN:VEVENT
DTSTART;TZID=America/Detroit:20250923T190000
DTEND;TZID=America/Detroit:20250923T190000
DTSTAMP:20260423T121606
CREATED:20250114T175514Z
LAST-MODIFIED:20250114T175514Z
UID:10052313-1758654000-1758654000@downtowndayton.org
SUMMARY:Trivia Tuesday
DESCRIPTION:Trivia Tuesdays are fun for everyone at The Dayton Beer Company! Get $3.50 DBC Pints every Tuesday with trivia starting at 7:00 p.m. Cheers!
URL:https://downtowndayton.org/event/trivia-tuesday-2025-04-22-3/
LOCATION:OH
ATTACH;FMTTYPE=image/jpeg:https://downtowndayton.org/wp-content/uploads/2025/01/dbc.jpg
END:VEVENT
BEGIN:VEVENT
DTSTART;TZID=America/Detroit:20250923T190000
DTEND;TZID=America/Detroit:20250923T190000
DTSTAMP:20260423T121606
CREATED:20250114T175514Z
LAST-MODIFIED:20250114T175514Z
UID:10051350-1758654000-1758654000@downtowndayton.org
SUMMARY:Trivia Tuesday
DESCRIPTION:Trivia Tuesdays are fun for everyone at The Dayton Beer Company! Get $3.50 DBC Pints every Tuesday with trivia starting at 7:00 p.m. Cheers!
URL:https://downtowndayton.org/event/trivia-tuesday-2025-04-29-2/
LOCATION:OH
ATTACH;FMTTYPE=image/jpeg:https://downtowndayton.org/wp-content/uploads/2025/01/dbc.jpg
END:VEVENT
BEGIN:VEVENT
DTSTART;TZID=America/Detroit:20250923T190000
DTEND;TZID=America/Detroit:20250923T190000
DTSTAMP:20260423T121606
CREATED:20250114T175514Z
LAST-MODIFIED:20250114T175514Z
UID:10049807-1758654000-1758654000@downtowndayton.org
SUMMARY:Trivia Tuesday
DESCRIPTION:Trivia Tuesdays are fun for everyone at The Dayton Beer Company! Get $3.50 DBC Pints every Tuesday with trivia starting at 7:00 p.m. Cheers!
URL:https://downtowndayton.org/event/trivia-tuesday-2025-03-18/
LOCATION:OH
ATTACH;FMTTYPE=image/jpeg:https://downtowndayton.org/wp-content/uploads/2025/01/dbc.jpg
END:VEVENT
BEGIN:VEVENT
DTSTART;TZID=America/Detroit:20250923T190000
DTEND;TZID=America/Detroit:20250923T190000
DTSTAMP:20260423T121606
CREATED:20250114T175514Z
LAST-MODIFIED:20250114T175514Z
UID:10051944-1758654000-1758654000@downtowndayton.org
SUMMARY:Trivia Tuesday
DESCRIPTION:Trivia Tuesdays are fun for everyone at The Dayton Beer Company! Get $3.50 DBC Pints every Tuesday with trivia starting at 7:00 p.m. Cheers!
URL:https://downtowndayton.org/event/trivia-tuesday-2025-02-18-3/
LOCATION:OH
ATTACH;FMTTYPE=image/jpeg:https://downtowndayton.org/wp-content/uploads/2025/01/dbc.jpg
END:VEVENT
BEGIN:VEVENT
DTSTART;TZID=America/Detroit:20250923T190000
DTEND;TZID=America/Detroit:20250923T190000
DTSTAMP:20260423T121606
CREATED:20250114T175514Z
LAST-MODIFIED:20250114T175514Z
UID:10050203-1758654000-1758654000@downtowndayton.org
SUMMARY:Trivia Tuesday
DESCRIPTION:Trivia Tuesdays are fun for everyone at The Dayton Beer Company! Get $3.50 DBC Pints every Tuesday with trivia starting at 7:00 p.m. Cheers!
URL:https://downtowndayton.org/event/trivia-tuesday-2025-06-03/
LOCATION:OH
ATTACH;FMTTYPE=image/jpeg:https://downtowndayton.org/wp-content/uploads/2025/01/dbc.jpg
END:VEVENT
BEGIN:VEVENT
DTSTART;TZID=America/Detroit:20250923T190000
DTEND;TZID=America/Detroit:20250923T190000
DTSTAMP:20260423T121606
CREATED:20250114T175514Z
LAST-MODIFIED:20250114T175514Z
UID:10052384-1758654000-1758654000@downtowndayton.org
SUMMARY:Trivia Tuesday
DESCRIPTION:Trivia Tuesdays are fun for everyone at The Dayton Beer Company! Get $3.50 DBC Pints every Tuesday with trivia starting at 7:00 p.m. Cheers!
URL:https://downtowndayton.org/event/trivia-tuesday-2025-05-06-3/
LOCATION:OH
ATTACH;FMTTYPE=image/jpeg:https://downtowndayton.org/wp-content/uploads/2025/01/dbc.jpg
END:VEVENT
BEGIN:VEVENT
DTSTART;TZID=America/Detroit:20250923T190000
DTEND;TZID=America/Detroit:20250923T190000
DTSTAMP:20260423T121607
CREATED:20250114T175514Z
LAST-MODIFIED:20250114T175514Z
UID:10051419-1758654000-1758654000@downtowndayton.org
SUMMARY:Trivia Tuesday
DESCRIPTION:Trivia Tuesdays are fun for everyone at The Dayton Beer Company! Get $3.50 DBC Pints every Tuesday with trivia starting at 7:00 p.m. Cheers!
URL:https://downtowndayton.org/event/trivia-tuesday-2025-05-13-2/
LOCATION:OH
ATTACH;FMTTYPE=image/jpeg:https://downtowndayton.org/wp-content/uploads/2025/01/dbc.jpg
END:VEVENT
BEGIN:VEVENT
DTSTART;TZID=America/Detroit:20250923T190000
DTEND;TZID=America/Detroit:20250923T190000
DTSTAMP:20260423T121607
CREATED:20250114T175514Z
LAST-MODIFIED:20250114T175514Z
UID:10049888-1758654000-1758654000@downtowndayton.org
SUMMARY:Trivia Tuesday
DESCRIPTION:Trivia Tuesdays are fun for everyone at The Dayton Beer Company! Get $3.50 DBC Pints every Tuesday with trivia starting at 7:00 p.m. Cheers!
URL:https://downtowndayton.org/event/trivia-tuesday-2025-04-01/
LOCATION:OH
ATTACH;FMTTYPE=image/jpeg:https://downtowndayton.org/wp-content/uploads/2025/01/dbc.jpg
END:VEVENT
BEGIN:VEVENT
DTSTART;TZID=America/Detroit:20250923T190000
DTEND;TZID=America/Detroit:20250923T190000
DTSTAMP:20260423T121607
CREATED:20250114T175514Z
LAST-MODIFIED:20250114T175514Z
UID:10050804-1758654000-1758654000@downtowndayton.org
SUMMARY:Trivia Tuesday
DESCRIPTION:Trivia Tuesdays are fun for everyone at The Dayton Beer Company! Get $3.50 DBC Pints every Tuesday with trivia starting at 7:00 p.m. Cheers!
URL:https://downtowndayton.org/event/trivia-tuesday-2025-01-28-2/
LOCATION:OH
ATTACH;FMTTYPE=image/jpeg:https://downtowndayton.org/wp-content/uploads/2025/01/dbc.jpg
END:VEVENT
BEGIN:VEVENT
DTSTART;TZID=America/Detroit:20250923T190000
DTEND;TZID=America/Detroit:20250923T190000
DTSTAMP:20260423T121607
CREATED:20250114T175514Z
LAST-MODIFIED:20250114T175514Z
UID:10050262-1758654000-1758654000@downtowndayton.org
SUMMARY:Trivia Tuesday
DESCRIPTION:Trivia Tuesdays are fun for everyone at The Dayton Beer Company! Get $3.50 DBC Pints every Tuesday with trivia starting at 7:00 p.m. Cheers!
URL:https://downtowndayton.org/event/trivia-tuesday-2025-06-17/
LOCATION:OH
ATTACH;FMTTYPE=image/jpeg:https://downtowndayton.org/wp-content/uploads/2025/01/dbc.jpg
END:VEVENT
BEGIN:VEVENT
DTSTART;TZID=America/Detroit:20250923T190000
DTEND;TZID=America/Detroit:20250923T190000
DTSTAMP:20260423T121607
CREATED:20250114T175514Z
LAST-MODIFIED:20250114T175514Z
UID:10052451-1758654000-1758654000@downtowndayton.org
SUMMARY:Trivia Tuesday
DESCRIPTION:Trivia Tuesdays are fun for everyone at The Dayton Beer Company! Get $3.50 DBC Pints every Tuesday with trivia starting at 7:00 p.m. Cheers!
URL:https://downtowndayton.org/event/trivia-tuesday-2025-05-20-3/
LOCATION:OH
ATTACH;FMTTYPE=image/jpeg:https://downtowndayton.org/wp-content/uploads/2025/01/dbc.jpg
END:VEVENT
BEGIN:VEVENT
DTSTART;TZID=America/Detroit:20250923T190000
DTEND;TZID=America/Detroit:20250923T190000
DTSTAMP:20260423T121607
CREATED:20250114T175514Z
LAST-MODIFIED:20250114T175514Z
UID:10051484-1758654000-1758654000@downtowndayton.org
SUMMARY:Trivia Tuesday
DESCRIPTION:Trivia Tuesdays are fun for everyone at The Dayton Beer Company! Get $3.50 DBC Pints every Tuesday with trivia starting at 7:00 p.m. Cheers!
URL:https://downtowndayton.org/event/trivia-tuesday-2025-05-27-2/
LOCATION:OH
ATTACH;FMTTYPE=image/jpeg:https://downtowndayton.org/wp-content/uploads/2025/01/dbc.jpg
END:VEVENT
BEGIN:VEVENT
DTSTART;TZID=America/Detroit:20250923T190000
DTEND;TZID=America/Detroit:20250923T190000
DTSTAMP:20260423T121607
CREATED:20250114T175514Z
LAST-MODIFIED:20250114T175514Z
UID:10052514-1758654000-1758654000@downtowndayton.org
SUMMARY:Trivia Tuesday
DESCRIPTION:Trivia Tuesdays are fun for everyone at The Dayton Beer Company! Get $3.50 DBC Pints every Tuesday with trivia starting at 7:00 p.m. Cheers!
URL:https://downtowndayton.org/event/trivia-tuesday-2025-06-03-3/
LOCATION:OH
ATTACH;FMTTYPE=image/jpeg:https://downtowndayton.org/wp-content/uploads/2025/01/dbc.jpg
END:VEVENT
BEGIN:VEVENT
DTSTART;TZID=America/Detroit:20250923T190000
DTEND;TZID=America/Detroit:20250923T190000
DTSTAMP:20260423T121607
CREATED:20250114T175514Z
LAST-MODIFIED:20250114T175514Z
UID:10049965-1758654000-1758654000@downtowndayton.org
SUMMARY:Trivia Tuesday
DESCRIPTION:Trivia Tuesdays are fun for everyone at The Dayton Beer Company! Get $3.50 DBC Pints every Tuesday with trivia starting at 7:00 p.m. Cheers!
URL:https://downtowndayton.org/event/trivia-tuesday-2025-04-15/
LOCATION:OH
ATTACH;FMTTYPE=image/jpeg:https://downtowndayton.org/wp-content/uploads/2025/01/dbc.jpg
END:VEVENT
BEGIN:VEVENT
DTSTART;TZID=America/Detroit:20250923T190000
DTEND;TZID=America/Detroit:20250923T190000
DTSTAMP:20260423T121607
CREATED:20250114T175514Z
LAST-MODIFIED:20250114T175514Z
UID:10050899-1758654000-1758654000@downtowndayton.org
SUMMARY:Trivia Tuesday
DESCRIPTION:Trivia Tuesdays are fun for everyone at The Dayton Beer Company! Get $3.50 DBC Pints every Tuesday with trivia starting at 7:00 p.m. Cheers!
URL:https://downtowndayton.org/event/trivia-tuesday-2025-02-11-2/
LOCATION:OH
ATTACH;FMTTYPE=image/jpeg:https://downtowndayton.org/wp-content/uploads/2025/01/dbc.jpg
END:VEVENT
BEGIN:VEVENT
DTSTART;TZID=America/Detroit:20250923T190000
DTEND;TZID=America/Detroit:20250923T190000
DTSTAMP:20260423T121607
CREATED:20250114T175514Z
LAST-MODIFIED:20250114T175514Z
UID:10050317-1758654000-1758654000@downtowndayton.org
SUMMARY:Trivia Tuesday
DESCRIPTION:Trivia Tuesdays are fun for everyone at The Dayton Beer Company! Get $3.50 DBC Pints every Tuesday with trivia starting at 7:00 p.m. Cheers!
URL:https://downtowndayton.org/event/trivia-tuesday-2025-07-01/
LOCATION:OH
ATTACH;FMTTYPE=image/jpeg:https://downtowndayton.org/wp-content/uploads/2025/01/dbc.jpg
END:VEVENT
BEGIN:VEVENT
DTSTART;TZID=America/Detroit:20250923T190000
DTEND;TZID=America/Detroit:20250923T190000
DTSTAMP:20260423T121607
CREATED:20250114T175514Z
LAST-MODIFIED:20250114T175514Z
UID:10051545-1758654000-1758654000@downtowndayton.org
SUMMARY:Trivia Tuesday
DESCRIPTION:Trivia Tuesdays are fun for everyone at The Dayton Beer Company! Get $3.50 DBC Pints every Tuesday with trivia starting at 7:00 p.m. Cheers!
URL:https://downtowndayton.org/event/trivia-tuesday-2025-06-10-2/
LOCATION:OH
ATTACH;FMTTYPE=image/jpeg:https://downtowndayton.org/wp-content/uploads/2025/01/dbc.jpg
END:VEVENT
BEGIN:VEVENT
DTSTART;TZID=America/Detroit:20250923T190000
DTEND;TZID=America/Detroit:20250923T190000
DTSTAMP:20260423T121607
CREATED:20250114T175514Z
LAST-MODIFIED:20250114T175514Z
UID:10050438-1758654000-1758654000@downtowndayton.org
SUMMARY:Trivia Tuesday
DESCRIPTION:Trivia Tuesdays are fun for everyone at The Dayton Beer Company! Get $3.50 DBC Pints every Tuesday with trivia starting at 7:00 p.m. Cheers!
URL:https://downtowndayton.org/event/trivia-tuesday-2025-08-05/
LOCATION:OH
ATTACH;FMTTYPE=image/jpeg:https://downtowndayton.org/wp-content/uploads/2025/01/dbc.jpg
END:VEVENT
BEGIN:VEVENT
DTSTART;TZID=America/Detroit:20250923T190000
DTEND;TZID=America/Detroit:20250923T190000
DTSTAMP:20260423T121607
CREATED:20250114T175514Z
LAST-MODIFIED:20250114T175514Z
UID:10052573-1758654000-1758654000@downtowndayton.org
SUMMARY:Trivia Tuesday
DESCRIPTION:Trivia Tuesdays are fun for everyone at The Dayton Beer Company! Get $3.50 DBC Pints every Tuesday with trivia starting at 7:00 p.m. Cheers!
URL:https://downtowndayton.org/event/trivia-tuesday-2025-06-17-3/
LOCATION:OH
ATTACH;FMTTYPE=image/jpeg:https://downtowndayton.org/wp-content/uploads/2025/01/dbc.jpg
END:VEVENT
BEGIN:VEVENT
DTSTART;TZID=America/Detroit:20250923T190000
DTEND;TZID=America/Detroit:20250923T190000
DTSTAMP:20260423T121607
CREATED:20250114T175514Z
LAST-MODIFIED:20250114T175514Z
UID:10050038-1758654000-1758654000@downtowndayton.org
SUMMARY:Trivia Tuesday
DESCRIPTION:Trivia Tuesdays are fun for everyone at The Dayton Beer Company! Get $3.50 DBC Pints every Tuesday with trivia starting at 7:00 p.m. Cheers!
URL:https://downtowndayton.org/event/trivia-tuesday-2025-04-29/
LOCATION:OH
ATTACH;FMTTYPE=image/jpeg:https://downtowndayton.org/wp-content/uploads/2025/01/dbc.jpg
END:VEVENT
BEGIN:VEVENT
DTSTART;TZID=America/Detroit:20250923T190000
DTEND;TZID=America/Detroit:20250923T190000
DTSTAMP:20260423T121607
CREATED:20250114T175514Z
LAST-MODIFIED:20250114T175514Z
UID:10050990-1758654000-1758654000@downtowndayton.org
SUMMARY:Trivia Tuesday
DESCRIPTION:Trivia Tuesdays are fun for everyone at The Dayton Beer Company! Get $3.50 DBC Pints every Tuesday with trivia starting at 7:00 p.m. Cheers!
URL:https://downtowndayton.org/event/trivia-tuesday-2025-02-25-2/
LOCATION:OH
ATTACH;FMTTYPE=image/jpeg:https://downtowndayton.org/wp-content/uploads/2025/01/dbc.jpg
END:VEVENT
BEGIN:VEVENT
DTSTART;TZID=America/Detroit:20250923T190000
DTEND;TZID=America/Detroit:20250923T190000
DTSTAMP:20260423T121607
CREATED:20250114T175514Z
LAST-MODIFIED:20250114T175514Z
UID:10050368-1758654000-1758654000@downtowndayton.org
SUMMARY:Trivia Tuesday
DESCRIPTION:Trivia Tuesdays are fun for everyone at The Dayton Beer Company! Get $3.50 DBC Pints every Tuesday with trivia starting at 7:00 p.m. Cheers!
URL:https://downtowndayton.org/event/trivia-tuesday-2025-07-15/
LOCATION:OH
ATTACH;FMTTYPE=image/jpeg:https://downtowndayton.org/wp-content/uploads/2025/01/dbc.jpg
END:VEVENT
BEGIN:VEVENT
DTSTART;TZID=America/Detroit:20250923T190000
DTEND;TZID=America/Detroit:20250923T190000
DTSTAMP:20260423T121607
CREATED:20250114T175514Z
LAST-MODIFIED:20250114T175514Z
UID:10051602-1758654000-1758654000@downtowndayton.org
SUMMARY:Trivia Tuesday
DESCRIPTION:Trivia Tuesdays are fun for everyone at The Dayton Beer Company! Get $3.50 DBC Pints every Tuesday with trivia starting at 7:00 p.m. Cheers!
URL:https://downtowndayton.org/event/trivia-tuesday-2025-06-24-2/
LOCATION:OH
ATTACH;FMTTYPE=image/jpeg:https://downtowndayton.org/wp-content/uploads/2025/01/dbc.jpg
END:VEVENT
BEGIN:VEVENT
DTSTART;TZID=America/Detroit:20250923T190000
DTEND;TZID=America/Detroit:20250923T190000
DTSTAMP:20260423T121607
CREATED:20250114T175514Z
LAST-MODIFIED:20250114T175514Z
UID:10052033-1758654000-1758654000@downtowndayton.org
SUMMARY:Trivia Tuesday
DESCRIPTION:Trivia Tuesdays are fun for everyone at The Dayton Beer Company! Get $3.50 DBC Pints every Tuesday with trivia starting at 7:00 p.m. Cheers!
URL:https://downtowndayton.org/event/trivia-tuesday-2025-03-04-3/
LOCATION:OH
ATTACH;FMTTYPE=image/jpeg:https://downtowndayton.org/wp-content/uploads/2025/01/dbc.jpg
END:VEVENT
BEGIN:VEVENT
DTSTART;TZID=America/Detroit:20250923T190000
DTEND;TZID=America/Detroit:20250923T190000
DTSTAMP:20260423T121607
CREATED:20250114T175514Z
LAST-MODIFIED:20250114T175514Z
UID:10052628-1758654000-1758654000@downtowndayton.org
SUMMARY:Trivia Tuesday
DESCRIPTION:Trivia Tuesdays are fun for everyone at The Dayton Beer Company! Get $3.50 DBC Pints every Tuesday with trivia starting at 7:00 p.m. Cheers!
URL:https://downtowndayton.org/event/trivia-tuesday-2025-07-01-3/
LOCATION:OH
ATTACH;FMTTYPE=image/jpeg:https://downtowndayton.org/wp-content/uploads/2025/01/dbc.jpg
END:VEVENT
END:VCALENDAR