BEGIN:VCALENDAR
VERSION:2.0
PRODID:-//Downtown Dayton Partnership - ECPv6.8.1//NONSGML v1.0//EN
CALSCALE:GREGORIAN
METHOD:PUBLISH
X-ORIGINAL-URL:https://downtowndayton.org
X-WR-CALDESC:Events for Downtown Dayton Partnership
REFRESH-INTERVAL;VALUE=DURATION:PT1H
X-Robots-Tag:noindex
X-PUBLISHED-TTL:PT1H
BEGIN:VTIMEZONE
TZID:America/Detroit
BEGIN:DAYLIGHT
TZOFFSETFROM:-0500
TZOFFSETTO:-0400
TZNAME:EDT
DTSTART:20250309T070000
END:DAYLIGHT
BEGIN:STANDARD
TZOFFSETFROM:-0400
TZOFFSETTO:-0500
TZNAME:EST
DTSTART:20251102T060000
END:STANDARD
TZID:America/New_York
BEGIN:DAYLIGHT
TZOFFSETFROM:-0500
TZOFFSETTO:-0400
TZNAME:EDT
DTSTART:20250309T070000
END:DAYLIGHT
BEGIN:STANDARD
TZOFFSETFROM:-0400
TZOFFSETTO:-0500
TZNAME:EST
DTSTART:20251102T060000
END:STANDARD
END:VTIMEZONE
BEGIN:VEVENT
DTSTART;TZID=America/Detroit:20250902T190000
DTEND;TZID=America/Detroit:20250902T190000
DTSTAMP:20260424T175100
CREATED:20250114T175514Z
LAST-MODIFIED:20250114T175514Z
UID:10049440-1756839600-1756839600@downtowndayton.org
SUMMARY:Trivia Tuesday
DESCRIPTION:Trivia Tuesdays are fun for everyone at The Dayton Beer Company! Get $3.50 DBC Pints every Tuesday with trivia starting at 7:00 p.m. Cheers!
URL:https://downtowndayton.org/event/trivia-tuesday-2025-01-21/
LOCATION:OH
ATTACH;FMTTYPE=image/jpeg:https://downtowndayton.org/wp-content/uploads/2025/01/dbc.jpg
END:VEVENT
BEGIN:VEVENT
DTSTART;TZID=America/Detroit:20250902T190000
DTEND;TZID=America/Detroit:20250902T190000
DTSTAMP:20260424T175100
CREATED:20250114T175514Z
LAST-MODIFIED:20250114T175514Z
UID:10051895-1756839600-1756839600@downtowndayton.org
SUMMARY:Trivia Tuesday
DESCRIPTION:Trivia Tuesdays are fun for everyone at The Dayton Beer Company! Get $3.50 DBC Pints every Tuesday with trivia starting at 7:00 p.m. Cheers!
URL:https://downtowndayton.org/event/trivia-tuesday-2025-02-11-3/
LOCATION:OH
ATTACH;FMTTYPE=image/jpeg:https://downtowndayton.org/wp-content/uploads/2025/01/dbc.jpg
END:VEVENT
BEGIN:VEVENT
DTSTART;TZID=America/Detroit:20250902T190000
DTEND;TZID=America/Detroit:20250902T190000
DTSTAMP:20260424T175100
CREATED:20250114T175514Z
LAST-MODIFIED:20250114T175514Z
UID:10050104-1756839600-1756839600@downtowndayton.org
SUMMARY:Trivia Tuesday
DESCRIPTION:Trivia Tuesdays are fun for everyone at The Dayton Beer Company! Get $3.50 DBC Pints every Tuesday with trivia starting at 7:00 p.m. Cheers!
URL:https://downtowndayton.org/event/trivia-tuesday-2025-05-13/
LOCATION:OH
ATTACH;FMTTYPE=image/jpeg:https://downtowndayton.org/wp-content/uploads/2025/01/dbc.jpg
END:VEVENT
BEGIN:VEVENT
DTSTART;TZID=America/Detroit:20250902T190000
DTEND;TZID=America/Detroit:20250902T190000
DTSTAMP:20260424T175100
CREATED:20250114T175514Z
LAST-MODIFIED:20250114T175514Z
UID:10052511-1756839600-1756839600@downtowndayton.org
SUMMARY:Trivia Tuesday
DESCRIPTION:Trivia Tuesdays are fun for everyone at The Dayton Beer Company! Get $3.50 DBC Pints every Tuesday with trivia starting at 7:00 p.m. Cheers!
URL:https://downtowndayton.org/event/trivia-tuesday-2025-06-03-3/
LOCATION:OH
ATTACH;FMTTYPE=image/jpeg:https://downtowndayton.org/wp-content/uploads/2025/01/dbc.jpg
END:VEVENT
BEGIN:VEVENT
DTSTART;TZID=America/Detroit:20250902T190000
DTEND;TZID=America/Detroit:20250902T190000
DTSTAMP:20260424T175100
CREATED:20250114T175514Z
LAST-MODIFIED:20250114T175514Z
UID:10051347-1756839600-1756839600@downtowndayton.org
SUMMARY:Trivia Tuesday
DESCRIPTION:Trivia Tuesdays are fun for everyone at The Dayton Beer Company! Get $3.50 DBC Pints every Tuesday with trivia starting at 7:00 p.m. Cheers!
URL:https://downtowndayton.org/event/trivia-tuesday-2025-04-29-2/
LOCATION:OH
ATTACH;FMTTYPE=image/jpeg:https://downtowndayton.org/wp-content/uploads/2025/01/dbc.jpg
END:VEVENT
BEGIN:VEVENT
DTSTART;TZID=America/Detroit:20250902T190000
DTEND;TZID=America/Detroit:20250902T190000
DTSTAMP:20260424T175100
CREATED:20250114T175514Z
LAST-MODIFIED:20250114T175514Z
UID:10051751-1756839600-1756839600@downtowndayton.org
SUMMARY:Trivia Tuesday
DESCRIPTION:Trivia Tuesdays are fun for everyone at The Dayton Beer Company! Get $3.50 DBC Pints every Tuesday with trivia starting at 7:00 p.m. Cheers!
URL:https://downtowndayton.org/event/trivia-tuesday-2025-01-21-3/
LOCATION:OH
ATTACH;FMTTYPE=image/jpeg:https://downtowndayton.org/wp-content/uploads/2025/01/dbc.jpg
END:VEVENT
BEGIN:VEVENT
DTSTART;TZID=America/Detroit:20250902T190000
DTEND;TZID=America/Detroit:20250902T190000
DTSTAMP:20260424T175100
CREATED:20250114T175514Z
LAST-MODIFIED:20250114T175514Z
UID:10049999-1756839600-1756839600@downtowndayton.org
SUMMARY:Trivia Tuesday
DESCRIPTION:Trivia Tuesdays are fun for everyone at The Dayton Beer Company! Get $3.50 DBC Pints every Tuesday with trivia starting at 7:00 p.m. Cheers!
URL:https://downtowndayton.org/event/trivia-tuesday-2025-04-22/
LOCATION:OH
ATTACH;FMTTYPE=image/jpeg:https://downtowndayton.org/wp-content/uploads/2025/01/dbc.jpg
END:VEVENT
BEGIN:VEVENT
DTSTART;TZID=America/Detroit:20250902T190000
DTEND;TZID=America/Detroit:20250902T190000
DTSTAMP:20260424T175100
CREATED:20250114T175514Z
LAST-MODIFIED:20250114T175514Z
UID:10052415-1756839600-1756839600@downtowndayton.org
SUMMARY:Trivia Tuesday
DESCRIPTION:Trivia Tuesdays are fun for everyone at The Dayton Beer Company! Get $3.50 DBC Pints every Tuesday with trivia starting at 7:00 p.m. Cheers!
URL:https://downtowndayton.org/event/trivia-tuesday-2025-05-13-3/
LOCATION:OH
ATTACH;FMTTYPE=image/jpeg:https://downtowndayton.org/wp-content/uploads/2025/01/dbc.jpg
END:VEVENT
BEGIN:VEVENT
DTSTART;TZID=America/Detroit:20250902T190000
DTEND;TZID=America/Detroit:20250902T190000
DTSTAMP:20260424T175100
CREATED:20250114T175514Z
LAST-MODIFIED:20250114T175514Z
UID:10051236-1756839600-1756839600@downtowndayton.org
SUMMARY:Trivia Tuesday
DESCRIPTION:Trivia Tuesdays are fun for everyone at The Dayton Beer Company! Get $3.50 DBC Pints every Tuesday with trivia starting at 7:00 p.m. Cheers!
URL:https://downtowndayton.org/event/trivia-tuesday-2025-04-08-2/
LOCATION:OH
ATTACH;FMTTYPE=image/jpeg:https://downtowndayton.org/wp-content/uploads/2025/01/dbc.jpg
END:VEVENT
BEGIN:VEVENT
DTSTART;TZID=America/Detroit:20250902T190000
DTEND;TZID=America/Detroit:20250902T190000
DTSTAMP:20260424T175100
CREATED:20250114T175514Z
LAST-MODIFIED:20250114T175514Z
UID:10050849-1756839600-1756839600@downtowndayton.org
SUMMARY:Trivia Tuesday
DESCRIPTION:Trivia Tuesdays are fun for everyone at The Dayton Beer Company! Get $3.50 DBC Pints every Tuesday with trivia starting at 7:00 p.m. Cheers!
URL:https://downtowndayton.org/event/trivia-tuesday-2025-02-04-2/
LOCATION:OH
ATTACH;FMTTYPE=image/jpeg:https://downtowndayton.org/wp-content/uploads/2025/01/dbc.jpg
END:VEVENT
BEGIN:VEVENT
DTSTART;TZID=America/Detroit:20250902T190000
DTEND;TZID=America/Detroit:20250902T190000
DTSTAMP:20260424T175100
CREATED:20250114T175514Z
LAST-MODIFIED:20250114T175514Z
UID:10050495-1756839600-1756839600@downtowndayton.org
SUMMARY:Trivia Tuesday
DESCRIPTION:Trivia Tuesdays are fun for everyone at The Dayton Beer Company! Get $3.50 DBC Pints every Tuesday with trivia starting at 7:00 p.m. Cheers!
URL:https://downtowndayton.org/event/trivia-tuesday-2025-08-26/
LOCATION:OH
ATTACH;FMTTYPE=image/jpeg:https://downtowndayton.org/wp-content/uploads/2025/01/dbc.jpg
END:VEVENT
BEGIN:VEVENT
DTSTART;TZID=America/Detroit:20250902T190000
DTEND;TZID=America/Detroit:20250902T190000
DTSTAMP:20260424T175100
CREATED:20250114T175514Z
LAST-MODIFIED:20250114T175514Z
UID:10051652-1756839600-1756839600@downtowndayton.org
SUMMARY:Trivia Tuesday
DESCRIPTION:Trivia Tuesdays are fun for everyone at The Dayton Beer Company! Get $3.50 DBC Pints every Tuesday with trivia starting at 7:00 p.m. Cheers!
URL:https://downtowndayton.org/event/trivia-tuesday-2025-07-08-2/
LOCATION:OH
ATTACH;FMTTYPE=image/jpeg:https://downtowndayton.org/wp-content/uploads/2025/01/dbc.jpg
END:VEVENT
BEGIN:VEVENT
DTSTART;TZID=America/Detroit:20250902T190000
DTEND;TZID=America/Detroit:20250902T190000
DTSTAMP:20260424T175100
CREATED:20250114T175514Z
LAST-MODIFIED:20250114T175514Z
UID:10049885-1756839600-1756839600@downtowndayton.org
SUMMARY:Trivia Tuesday
DESCRIPTION:Trivia Tuesdays are fun for everyone at The Dayton Beer Company! Get $3.50 DBC Pints every Tuesday with trivia starting at 7:00 p.m. Cheers!
URL:https://downtowndayton.org/event/trivia-tuesday-2025-04-01/
LOCATION:OH
ATTACH;FMTTYPE=image/jpeg:https://downtowndayton.org/wp-content/uploads/2025/01/dbc.jpg
END:VEVENT
BEGIN:VEVENT
DTSTART;TZID=America/Detroit:20250902T190000
DTEND;TZID=America/Detroit:20250902T190000
DTSTAMP:20260424T175100
CREATED:20250114T175514Z
LAST-MODIFIED:20250114T175514Z
UID:10052310-1756839600-1756839600@downtowndayton.org
SUMMARY:Trivia Tuesday
DESCRIPTION:Trivia Tuesdays are fun for everyone at The Dayton Beer Company! Get $3.50 DBC Pints every Tuesday with trivia starting at 7:00 p.m. Cheers!
URL:https://downtowndayton.org/event/trivia-tuesday-2025-04-22-3/
LOCATION:OH
ATTACH;FMTTYPE=image/jpeg:https://downtowndayton.org/wp-content/uploads/2025/01/dbc.jpg
END:VEVENT
BEGIN:VEVENT
DTSTART;TZID=America/Detroit:20250902T190000
DTEND;TZID=America/Detroit:20250902T190000
DTSTAMP:20260424T175100
CREATED:20250114T175514Z
LAST-MODIFIED:20250114T175514Z
UID:10051116-1756839600-1756839600@downtowndayton.org
SUMMARY:Trivia Tuesday
DESCRIPTION:Trivia Tuesdays are fun for everyone at The Dayton Beer Company! Get $3.50 DBC Pints every Tuesday with trivia starting at 7:00 p.m. Cheers!
URL:https://downtowndayton.org/event/trivia-tuesday-2025-03-18-2/
LOCATION:OH
ATTACH;FMTTYPE=image/jpeg:https://downtowndayton.org/wp-content/uploads/2025/01/dbc.jpg
END:VEVENT
BEGIN:VEVENT
DTSTART;TZID=America/Detroit:20250902T190000
DTEND;TZID=America/Detroit:20250902T190000
DTSTAMP:20260424T175100
CREATED:20250114T175514Z
LAST-MODIFIED:20250114T175514Z
UID:10050389-1756839600-1756839600@downtowndayton.org
SUMMARY:Trivia Tuesday
DESCRIPTION:Trivia Tuesdays are fun for everyone at The Dayton Beer Company! Get $3.50 DBC Pints every Tuesday with trivia starting at 7:00 p.m. Cheers!
URL:https://downtowndayton.org/event/trivia-tuesday-2025-07-22/
LOCATION:OH
ATTACH;FMTTYPE=image/jpeg:https://downtowndayton.org/wp-content/uploads/2025/01/dbc.jpg
END:VEVENT
BEGIN:VEVENT
DTSTART;TZID=America/Detroit:20250902T190000
DTEND;TZID=America/Detroit:20250902T190000
DTSTAMP:20260424T175100
CREATED:20250114T175514Z
LAST-MODIFIED:20250114T175514Z
UID:10050435-1756839600-1756839600@downtowndayton.org
SUMMARY:Trivia Tuesday
DESCRIPTION:Trivia Tuesdays are fun for everyone at The Dayton Beer Company! Get $3.50 DBC Pints every Tuesday with trivia starting at 7:00 p.m. Cheers!
URL:https://downtowndayton.org/event/trivia-tuesday-2025-08-05/
LOCATION:OH
ATTACH;FMTTYPE=image/jpeg:https://downtowndayton.org/wp-content/uploads/2025/01/dbc.jpg
END:VEVENT
BEGIN:VEVENT
DTSTART;TZID=America/Detroit:20250902T190000
DTEND;TZID=America/Detroit:20250902T190000
DTSTAMP:20260424T175100
CREATED:20250114T175514Z
LAST-MODIFIED:20250114T175514Z
UID:10049762-1756839600-1756839600@downtowndayton.org
SUMMARY:Trivia Tuesday
DESCRIPTION:Trivia Tuesdays are fun for everyone at The Dayton Beer Company! Get $3.50 DBC Pints every Tuesday with trivia starting at 7:00 p.m. Cheers!
URL:https://downtowndayton.org/event/trivia-tuesday-2025-03-11/
LOCATION:OH
ATTACH;FMTTYPE=image/jpeg:https://downtowndayton.org/wp-content/uploads/2025/01/dbc.jpg
END:VEVENT
BEGIN:VEVENT
DTSTART;TZID=America/Detroit:20250902T190000
DTEND;TZID=America/Detroit:20250902T190000
DTSTAMP:20260424T175100
CREATED:20250114T175514Z
LAST-MODIFIED:20250114T175514Z
UID:10052196-1756839600-1756839600@downtowndayton.org
SUMMARY:Trivia Tuesday
DESCRIPTION:Trivia Tuesdays are fun for everyone at The Dayton Beer Company! Get $3.50 DBC Pints every Tuesday with trivia starting at 7:00 p.m. Cheers!
URL:https://downtowndayton.org/event/trivia-tuesday-2025-04-01-3/
LOCATION:OH
ATTACH;FMTTYPE=image/jpeg:https://downtowndayton.org/wp-content/uploads/2025/01/dbc.jpg
END:VEVENT
BEGIN:VEVENT
DTSTART;TZID=America/Detroit:20250902T190000
DTEND;TZID=America/Detroit:20250902T190000
DTSTAMP:20260424T175100
CREATED:20250114T175514Z
LAST-MODIFIED:20250114T175514Z
UID:10050987-1756839600-1756839600@downtowndayton.org
SUMMARY:Trivia Tuesday
DESCRIPTION:Trivia Tuesdays are fun for everyone at The Dayton Beer Company! Get $3.50 DBC Pints every Tuesday with trivia starting at 7:00 p.m. Cheers!
URL:https://downtowndayton.org/event/trivia-tuesday-2025-02-25-2/
LOCATION:OH
ATTACH;FMTTYPE=image/jpeg:https://downtowndayton.org/wp-content/uploads/2025/01/dbc.jpg
END:VEVENT
BEGIN:VEVENT
DTSTART;TZID=America/Detroit:20250902T190000
DTEND;TZID=America/Detroit:20250902T190000
DTSTAMP:20260424T175100
CREATED:20250114T175514Z
LAST-MODIFIED:20250114T175514Z
UID:10050314-1756839600-1756839600@downtowndayton.org
SUMMARY:Trivia Tuesday
DESCRIPTION:Trivia Tuesdays are fun for everyone at The Dayton Beer Company! Get $3.50 DBC Pints every Tuesday with trivia starting at 7:00 p.m. Cheers!
URL:https://downtowndayton.org/event/trivia-tuesday-2025-07-01/
LOCATION:OH
ATTACH;FMTTYPE=image/jpeg:https://downtowndayton.org/wp-content/uploads/2025/01/dbc.jpg
END:VEVENT
BEGIN:VEVENT
DTSTART;TZID=America/Detroit:20250902T190000
DTEND;TZID=America/Detroit:20250902T190000
DTSTAMP:20260424T175100
CREATED:20250114T175514Z
LAST-MODIFIED:20250114T175514Z
UID:10052700-1756839600-1756839600@downtowndayton.org
SUMMARY:Trivia Tuesday
DESCRIPTION:Trivia Tuesdays are fun for everyone at The Dayton Beer Company! Get $3.50 DBC Pints every Tuesday with trivia starting at 7:00 p.m. Cheers!
URL:https://downtowndayton.org/event/trivia-tuesday-2025-07-22-3/
LOCATION:OH
ATTACH;FMTTYPE=image/jpeg:https://downtowndayton.org/wp-content/uploads/2025/01/dbc.jpg
END:VEVENT
BEGIN:VEVENT
DTSTART;TZID=America/Detroit:20250902T190000
DTEND;TZID=America/Detroit:20250902T190000
DTSTAMP:20260424T175100
CREATED:20250114T175514Z
LAST-MODIFIED:20250114T175514Z
UID:10051571-1756839600-1756839600@downtowndayton.org
SUMMARY:Trivia Tuesday
DESCRIPTION:Trivia Tuesdays are fun for everyone at The Dayton Beer Company! Get $3.50 DBC Pints every Tuesday with trivia starting at 7:00 p.m. Cheers!
URL:https://downtowndayton.org/event/trivia-tuesday-2025-06-17-2/
LOCATION:OH
ATTACH;FMTTYPE=image/jpeg:https://downtowndayton.org/wp-content/uploads/2025/01/dbc.jpg
END:VEVENT
BEGIN:VEVENT
DTSTART;TZID=America/Detroit:20250902T190000
DTEND;TZID=America/Detroit:20250902T190000
DTSTAMP:20260424T175100
CREATED:20250114T175514Z
LAST-MODIFIED:20250114T175514Z
UID:10049630-1756839600-1756839600@downtowndayton.org
SUMMARY:Trivia Tuesday
DESCRIPTION:Trivia Tuesdays are fun for everyone at The Dayton Beer Company! Get $3.50 DBC Pints every Tuesday with trivia starting at 7:00 p.m. Cheers!
URL:https://downtowndayton.org/event/trivia-tuesday-2025-02-18/
LOCATION:OH
ATTACH;FMTTYPE=image/jpeg:https://downtowndayton.org/wp-content/uploads/2025/01/dbc.jpg
END:VEVENT
BEGIN:VEVENT
DTSTART;TZID=America/Detroit:20250902T190000
DTEND;TZID=America/Detroit:20250902T190000
DTSTAMP:20260424T175100
CREATED:20250114T175514Z
LAST-MODIFIED:20250114T175514Z
UID:10052073-1756839600-1756839600@downtowndayton.org
SUMMARY:Trivia Tuesday
DESCRIPTION:Trivia Tuesdays are fun for everyone at The Dayton Beer Company! Get $3.50 DBC Pints every Tuesday with trivia starting at 7:00 p.m. Cheers!
URL:https://downtowndayton.org/event/trivia-tuesday-2025-03-11-3/
LOCATION:OH
ATTACH;FMTTYPE=image/jpeg:https://downtowndayton.org/wp-content/uploads/2025/01/dbc.jpg
END:VEVENT
BEGIN:VEVENT
DTSTART;TZID=America/Detroit:20250902T190000
DTEND;TZID=America/Detroit:20250902T190000
DTSTAMP:20260424T175100
CREATED:20250114T175514Z
LAST-MODIFIED:20250114T175514Z
UID:10050230-1756839600-1756839600@downtowndayton.org
SUMMARY:Trivia Tuesday
DESCRIPTION:Trivia Tuesdays are fun for everyone at The Dayton Beer Company! Get $3.50 DBC Pints every Tuesday with trivia starting at 7:00 p.m. Cheers!
URL:https://downtowndayton.org/event/trivia-tuesday-2025-06-10/
LOCATION:OH
ATTACH;FMTTYPE=image/jpeg:https://downtowndayton.org/wp-content/uploads/2025/01/dbc.jpg
END:VEVENT
BEGIN:VEVENT
DTSTART;TZID=America/Detroit:20250902T190000
DTEND;TZID=America/Detroit:20250902T190000
DTSTAMP:20260424T175100
CREATED:20250114T175514Z
LAST-MODIFIED:20250114T175514Z
UID:10052625-1756839600-1756839600@downtowndayton.org
SUMMARY:Trivia Tuesday
DESCRIPTION:Trivia Tuesdays are fun for everyone at The Dayton Beer Company! Get $3.50 DBC Pints every Tuesday with trivia starting at 7:00 p.m. Cheers!
URL:https://downtowndayton.org/event/trivia-tuesday-2025-07-01-3/
LOCATION:OH
ATTACH;FMTTYPE=image/jpeg:https://downtowndayton.org/wp-content/uploads/2025/01/dbc.jpg
END:VEVENT
BEGIN:VEVENT
DTSTART;TZID=America/Detroit:20250902T190000
DTEND;TZID=America/Detroit:20250902T190000
DTSTAMP:20260424T175100
CREATED:20250114T175514Z
LAST-MODIFIED:20250114T175514Z
UID:10051481-1756839600-1756839600@downtowndayton.org
SUMMARY:Trivia Tuesday
DESCRIPTION:Trivia Tuesdays are fun for everyone at The Dayton Beer Company! Get $3.50 DBC Pints every Tuesday with trivia starting at 7:00 p.m. Cheers!
URL:https://downtowndayton.org/event/trivia-tuesday-2025-05-27-2/
LOCATION:OH
ATTACH;FMTTYPE=image/jpeg:https://downtowndayton.org/wp-content/uploads/2025/01/dbc.jpg
END:VEVENT
BEGIN:VEVENT
DTSTART;TZID=America/New_York:20250902T190000
DTEND;TZID=America/New_York:20250902T230000
DTSTAMP:20260424T175100
CREATED:20250528T120726Z
LAST-MODIFIED:20250528T120726Z
UID:10036319-1756839600-1756854000@downtowndayton.org
SUMMARY:Karaoke
DESCRIPTION:Tuesdays – Karaoke with @raineyday.entertainment – $5 off full draft flights until 9 p.m.
URL:https://downtowndayton.org/event/karaoke-2/2025-09-02/
LOCATION:The Barrel House\, 417 E. Third St.\, Dayton\, OH\, 45402\, United States
ATTACH;FMTTYPE=image/jpeg:https://downtowndayton.org/wp-content/uploads/2025/05/bhk.jpg
END:VEVENT
BEGIN:VEVENT
DTSTART;TZID=America/New_York:20250902T190500
DTEND;TZID=America/New_York:20250902T190500
DTSTAMP:20260424T175100
CREATED:20250311T124755Z
LAST-MODIFIED:20250311T124755Z
UID:10031003-1756839900-1756839900@downtowndayton.org
SUMMARY:Dayton Dragons vs. Lansing Lugnuts
DESCRIPTION:Catch one of the hottest tickets in sports – see the Dayton Dragons play baseball at Day Air Ballpark! For tickets and more information\, visit www.daytondragons.com or call 228-2287.
URL:https://downtowndayton.org/event/dayton-dragons-vs-lansing-lugnuts-3/2025-09-02/
LOCATION:Day Air Ballpark\, 220 North Patterson Blvd.\, Dayton\, OH\, 45402
ATTACH;FMTTYPE=image/jpeg:https://downtowndayton.org/wp-content/uploads/2023/01/dragons16x9.jpg
END:VEVENT
END:VCALENDAR