BEGIN:VCALENDAR
VERSION:2.0
PRODID:-//Downtown Dayton Partnership - ECPv6.8.1//NONSGML v1.0//EN
CALSCALE:GREGORIAN
METHOD:PUBLISH
X-WR-CALNAME:Downtown Dayton Partnership
X-ORIGINAL-URL:https://downtowndayton.org
X-WR-CALDESC:Events for Downtown Dayton Partnership
REFRESH-INTERVAL;VALUE=DURATION:PT1H
X-Robots-Tag:noindex
X-PUBLISHED-TTL:PT1H
BEGIN:VTIMEZONE
TZID:America/Detroit
BEGIN:DAYLIGHT
TZOFFSETFROM:-0500
TZOFFSETTO:-0400
TZNAME:EDT
DTSTART:20250309T070000
END:DAYLIGHT
BEGIN:STANDARD
TZOFFSETFROM:-0400
TZOFFSETTO:-0500
TZNAME:EST
DTSTART:20251102T060000
END:STANDARD
TZID:America/New_York
BEGIN:DAYLIGHT
TZOFFSETFROM:-0500
TZOFFSETTO:-0400
TZNAME:EDT
DTSTART:20250309T070000
END:DAYLIGHT
BEGIN:STANDARD
TZOFFSETFROM:-0400
TZOFFSETTO:-0500
TZNAME:EST
DTSTART:20251102T060000
END:STANDARD
END:VTIMEZONE
BEGIN:VEVENT
DTSTART;TZID=America/Detroit:20250925T183000
DTEND;TZID=America/Detroit:20250925T213000
DTSTAMP:20260420T010501
CREATED:20250114T175650Z
LAST-MODIFIED:20250114T175650Z
UID:10048835-1758825000-1758835800@downtowndayton.org
SUMMARY:Karaoke
DESCRIPTION:Join us for Karaoke Thursdays at The Dayton Beer Company\, hosted by Limelight Entertainment from 6:30 p.m.-9:30p.m. Cheers!
URL:https://downtowndayton.org/event/karaoke-2025-03-06-4/
LOCATION:OH
ATTACH;FMTTYPE=image/jpeg:https://downtowndayton.org/wp-content/uploads/2025/01/dbc.jpg
END:VEVENT
BEGIN:VEVENT
DTSTART;TZID=America/Detroit:20250925T183000
DTEND;TZID=America/Detroit:20250925T213000
DTSTAMP:20260420T010501
CREATED:20250114T175650Z
LAST-MODIFIED:20250114T175650Z
UID:10047362-1758825000-1758835800@downtowndayton.org
SUMMARY:Karaoke
DESCRIPTION:Join us for Karaoke Thursdays at The Dayton Beer Company\, hosted by Limelight Entertainment from 6:30 p.m.-9:30p.m. Cheers!
URL:https://downtowndayton.org/event/karaoke-2025-03-27-2/
LOCATION:OH
ATTACH;FMTTYPE=image/jpeg:https://downtowndayton.org/wp-content/uploads/2025/01/dbc.jpg
END:VEVENT
BEGIN:VEVENT
DTSTART;TZID=America/Detroit:20250925T183000
DTEND;TZID=America/Detroit:20250925T213000
DTSTAMP:20260420T010501
CREATED:20250114T175650Z
LAST-MODIFIED:20250114T175650Z
UID:10046198-1758825000-1758835800@downtowndayton.org
SUMMARY:Karaoke
DESCRIPTION:Join us for Karaoke Thursdays at The Dayton Beer Company\, hosted by Limelight Entertainment from 6:30 p.m.-9:30p.m. Cheers!
URL:https://downtowndayton.org/event/karaoke-2025-06-12/
LOCATION:OH
ATTACH;FMTTYPE=image/jpeg:https://downtowndayton.org/wp-content/uploads/2025/01/dbc.jpg
END:VEVENT
BEGIN:VEVENT
DTSTART;TZID=America/Detroit:20250925T183000
DTEND;TZID=America/Detroit:20250925T213000
DTSTAMP:20260420T010501
CREATED:20250114T175650Z
LAST-MODIFIED:20250114T175650Z
UID:10046440-1758825000-1758835800@downtowndayton.org
SUMMARY:Karaoke
DESCRIPTION:Join us for Karaoke Thursdays at The Dayton Beer Company\, hosted by Limelight Entertainment from 6:30 p.m.-9:30p.m. Cheers!
URL:https://downtowndayton.org/event/karaoke-2025-08-28/
LOCATION:OH
ATTACH;FMTTYPE=image/jpeg:https://downtowndayton.org/wp-content/uploads/2025/01/dbc.jpg
END:VEVENT
BEGIN:VEVENT
DTSTART;TZID=America/Detroit:20250925T183000
DTEND;TZID=America/Detroit:20250925T213000
DTSTAMP:20260420T010501
CREATED:20250114T175650Z
LAST-MODIFIED:20250114T175650Z
UID:10049290-1758825000-1758835800@downtowndayton.org
SUMMARY:Karaoke
DESCRIPTION:Join us for Karaoke Thursdays at The Dayton Beer Company\, hosted by Limelight Entertainment from 6:30 p.m.-9:30p.m. Cheers!
URL:https://downtowndayton.org/event/karaoke-2025-06-05-3/
LOCATION:OH
ATTACH;FMTTYPE=image/jpeg:https://downtowndayton.org/wp-content/uploads/2025/01/dbc.jpg
END:VEVENT
BEGIN:VEVENT
DTSTART;TZID=America/Detroit:20250925T183000
DTEND;TZID=America/Detroit:20250925T213000
DTSTAMP:20260420T010501
CREATED:20250114T175650Z
LAST-MODIFIED:20250114T175650Z
UID:10048214-1758825000-1758835800@downtowndayton.org
SUMMARY:Karaoke
DESCRIPTION:Join us for Karaoke Thursdays at The Dayton Beer Company\, hosted by Limelight Entertainment from 6:30 p.m.-9:30p.m. Cheers!
URL:https://downtowndayton.org/event/karaoke-2025-04-17-3/
LOCATION:OH
ATTACH;FMTTYPE=image/jpeg:https://downtowndayton.org/wp-content/uploads/2025/01/dbc.jpg
END:VEVENT
BEGIN:VEVENT
DTSTART;TZID=America/Detroit:20250925T183000
DTEND;TZID=America/Detroit:20250925T213000
DTSTAMP:20260420T010501
CREATED:20250114T175650Z
LAST-MODIFIED:20250114T175650Z
UID:10045910-1758825000-1758835800@downtowndayton.org
SUMMARY:Karaoke
DESCRIPTION:Join us for Karaoke Thursdays at The Dayton Beer Company\, hosted by Limelight Entertainment from 6:30 p.m.-9:30p.m. Cheers!
URL:https://downtowndayton.org/event/karaoke-2025-04-10/
LOCATION:OH
ATTACH;FMTTYPE=image/jpeg:https://downtowndayton.org/wp-content/uploads/2025/01/dbc.jpg
END:VEVENT
BEGIN:VEVENT
DTSTART;TZID=America/Detroit:20250925T183000
DTEND;TZID=America/Detroit:20250925T213000
DTSTAMP:20260420T010501
CREATED:20250114T175650Z
LAST-MODIFIED:20250114T175650Z
UID:10048706-1758825000-1758835800@downtowndayton.org
SUMMARY:Karaoke
DESCRIPTION:Join us for Karaoke Thursdays at The Dayton Beer Company\, hosted by Limelight Entertainment from 6:30 p.m.-9:30p.m. Cheers!
URL:https://downtowndayton.org/event/karaoke-2025-02-13-4/
LOCATION:OH
ATTACH;FMTTYPE=image/jpeg:https://downtowndayton.org/wp-content/uploads/2025/01/dbc.jpg
END:VEVENT
BEGIN:VEVENT
DTSTART;TZID=America/Detroit:20250925T183000
DTEND;TZID=America/Detroit:20250925T213000
DTSTAMP:20260420T010501
CREATED:20250114T175650Z
LAST-MODIFIED:20250114T175650Z
UID:10047242-1758825000-1758835800@downtowndayton.org
SUMMARY:Karaoke
DESCRIPTION:Join us for Karaoke Thursdays at The Dayton Beer Company\, hosted by Limelight Entertainment from 6:30 p.m.-9:30p.m. Cheers!
URL:https://downtowndayton.org/event/karaoke-2025-03-06-2/
LOCATION:OH
ATTACH;FMTTYPE=image/jpeg:https://downtowndayton.org/wp-content/uploads/2025/01/dbc.jpg
END:VEVENT
BEGIN:VEVENT
DTSTART;TZID=America/Detroit:20250925T183000
DTEND;TZID=America/Detroit:20250925T213000
DTSTAMP:20260420T010501
CREATED:20250114T175650Z
LAST-MODIFIED:20250114T175650Z
UID:10047854-1758825000-1758835800@downtowndayton.org
SUMMARY:Karaoke
DESCRIPTION:Join us for Karaoke Thursdays at The Dayton Beer Company\, hosted by Limelight Entertainment from 6:30 p.m.-9:30p.m. Cheers!
URL:https://downtowndayton.org/event/karaoke-2025-02-13-3/
LOCATION:OH
ATTACH;FMTTYPE=image/jpeg:https://downtowndayton.org/wp-content/uploads/2025/01/dbc.jpg
END:VEVENT
BEGIN:VEVENT
DTSTART;TZID=America/Detroit:20250925T183000
DTEND;TZID=America/Detroit:20250925T213000
DTSTAMP:20260420T010501
CREATED:20250114T175650Z
LAST-MODIFIED:20250114T175650Z
UID:10046111-1758825000-1758835800@downtowndayton.org
SUMMARY:Karaoke
DESCRIPTION:Join us for Karaoke Thursdays at The Dayton Beer Company\, hosted by Limelight Entertainment from 6:30 p.m.-9:30p.m. Cheers!
URL:https://downtowndayton.org/event/karaoke-2025-05-22/
LOCATION:OH
ATTACH;FMTTYPE=image/jpeg:https://downtowndayton.org/wp-content/uploads/2025/01/dbc.jpg
END:VEVENT
BEGIN:VEVENT
DTSTART;TZID=America/Detroit:20250925T183000
DTEND;TZID=America/Detroit:20250925T213000
DTSTAMP:20260420T010501
CREATED:20250114T175650Z
LAST-MODIFIED:20250114T175650Z
UID:10049200-1758825000-1758835800@downtowndayton.org
SUMMARY:Karaoke
DESCRIPTION:Join us for Karaoke Thursdays at The Dayton Beer Company\, hosted by Limelight Entertainment from 6:30 p.m.-9:30p.m. Cheers!
URL:https://downtowndayton.org/event/karaoke-2025-05-15-4/
LOCATION:OH
ATTACH;FMTTYPE=image/jpeg:https://downtowndayton.org/wp-content/uploads/2025/01/dbc.jpg
END:VEVENT
BEGIN:VEVENT
DTSTART;TZID=America/Detroit:20250925T183000
DTEND;TZID=America/Detroit:20250925T213000
DTSTAMP:20260420T010501
CREATED:20250114T175650Z
LAST-MODIFIED:20250114T175650Z
UID:10048103-1758825000-1758835800@downtowndayton.org
SUMMARY:Karaoke
DESCRIPTION:Join us for Karaoke Thursdays at The Dayton Beer Company\, hosted by Limelight Entertainment from 6:30 p.m.-9:30p.m. Cheers!
URL:https://downtowndayton.org/event/karaoke-2025-03-27-3/
LOCATION:OH
ATTACH;FMTTYPE=image/jpeg:https://downtowndayton.org/wp-content/uploads/2025/01/dbc.jpg
END:VEVENT
BEGIN:VEVENT
DTSTART;TZID=America/Detroit:20250925T183000
DTEND;TZID=America/Detroit:20250925T213000
DTSTAMP:20260420T010501
CREATED:20250114T175650Z
LAST-MODIFIED:20250114T175650Z
UID:10045796-1758825000-1758835800@downtowndayton.org
SUMMARY:Karaoke
DESCRIPTION:Join us for Karaoke Thursdays at The Dayton Beer Company\, hosted by Limelight Entertainment from 6:30 p.m.-9:30p.m. Cheers!
URL:https://downtowndayton.org/event/karaoke-2025-03-20/
LOCATION:OH
ATTACH;FMTTYPE=image/jpeg:https://downtowndayton.org/wp-content/uploads/2025/01/dbc.jpg
END:VEVENT
BEGIN:VEVENT
DTSTART;TZID=America/Detroit:20250925T183000
DTEND;TZID=America/Detroit:20250925T213000
DTSTAMP:20260420T010501
CREATED:20250114T175650Z
LAST-MODIFIED:20250114T175650Z
UID:10048568-1758825000-1758835800@downtowndayton.org
SUMMARY:Karaoke
DESCRIPTION:Join us for Karaoke Thursdays at The Dayton Beer Company\, hosted by Limelight Entertainment from 6:30 p.m.-9:30p.m. Cheers!
URL:https://downtowndayton.org/event/karaoke-2025-01-23-4/
LOCATION:OH
ATTACH;FMTTYPE=image/jpeg:https://downtowndayton.org/wp-content/uploads/2025/01/dbc.jpg
END:VEVENT
BEGIN:VEVENT
DTSTART;TZID=America/Detroit:20250925T183000
DTEND;TZID=America/Detroit:20250925T213000
DTSTAMP:20260420T010501
CREATED:20250114T175650Z
LAST-MODIFIED:20250114T175650Z
UID:10046423-1758825000-1758835800@downtowndayton.org
SUMMARY:Karaoke
DESCRIPTION:Join us for Karaoke Thursdays at The Dayton Beer Company\, hosted by Limelight Entertainment from 6:30 p.m.-9:30p.m. Cheers!
URL:https://downtowndayton.org/event/karaoke-2025-08-21/
LOCATION:OH
ATTACH;FMTTYPE=image/jpeg:https://downtowndayton.org/wp-content/uploads/2025/01/dbc.jpg
END:VEVENT
BEGIN:VEVENT
DTSTART;TZID=America/Detroit:20250925T183000
DTEND;TZID=America/Detroit:20250925T213000
DTSTAMP:20260420T010501
CREATED:20250114T175650Z
LAST-MODIFIED:20250114T175650Z
UID:10047716-1758825000-1758835800@downtowndayton.org
SUMMARY:Karaoke
DESCRIPTION:Join us for Karaoke Thursdays at The Dayton Beer Company\, hosted by Limelight Entertainment from 6:30 p.m.-9:30p.m. Cheers!
URL:https://downtowndayton.org/event/karaoke-2025-01-23-3/
LOCATION:OH
ATTACH;FMTTYPE=image/jpeg:https://downtowndayton.org/wp-content/uploads/2025/01/dbc.jpg
END:VEVENT
BEGIN:VEVENT
DTSTART;TZID=America/Detroit:20250925T183000
DTEND;TZID=America/Detroit:20250925T213000
DTSTAMP:20260420T010501
CREATED:20250114T175650Z
LAST-MODIFIED:20250114T175650Z
UID:10046015-1758825000-1758835800@downtowndayton.org
SUMMARY:Karaoke
DESCRIPTION:Join us for Karaoke Thursdays at The Dayton Beer Company\, hosted by Limelight Entertainment from 6:30 p.m.-9:30p.m. Cheers!
URL:https://downtowndayton.org/event/karaoke-2025-05-01/
LOCATION:OH
ATTACH;FMTTYPE=image/jpeg:https://downtowndayton.org/wp-content/uploads/2025/01/dbc.jpg
END:VEVENT
BEGIN:VEVENT
DTSTART;TZID=America/Detroit:20250925T183000
DTEND;TZID=America/Detroit:20250925T213000
DTSTAMP:20260420T010501
CREATED:20250114T175650Z
LAST-MODIFIED:20250114T175650Z
UID:10047113-1758825000-1758835800@downtowndayton.org
SUMMARY:Karaoke
DESCRIPTION:Join us for Karaoke Thursdays at The Dayton Beer Company\, hosted by Limelight Entertainment from 6:30 p.m.-9:30p.m. Cheers!
URL:https://downtowndayton.org/event/karaoke-2025-02-13-2/
LOCATION:OH
ATTACH;FMTTYPE=image/jpeg:https://downtowndayton.org/wp-content/uploads/2025/01/dbc.jpg
END:VEVENT
BEGIN:VEVENT
DTSTART;TZID=America/Detroit:20250925T183000
DTEND;TZID=America/Detroit:20250925T213000
DTSTAMP:20260420T010501
CREATED:20250114T175650Z
LAST-MODIFIED:20250114T175650Z
UID:10047983-1758825000-1758835800@downtowndayton.org
SUMMARY:Karaoke
DESCRIPTION:Join us for Karaoke Thursdays at The Dayton Beer Company\, hosted by Limelight Entertainment from 6:30 p.m.-9:30p.m. Cheers!
URL:https://downtowndayton.org/event/karaoke-2025-03-06-3/
LOCATION:OH
ATTACH;FMTTYPE=image/jpeg:https://downtowndayton.org/wp-content/uploads/2025/01/dbc.jpg
END:VEVENT
BEGIN:VEVENT
DTSTART;TZID=America/Detroit:20250925T183000
DTEND;TZID=America/Detroit:20250925T213000
DTSTAMP:20260420T010501
CREATED:20250114T175650Z
LAST-MODIFIED:20250114T175650Z
UID:10045673-1758825000-1758835800@downtowndayton.org
SUMMARY:Karaoke
DESCRIPTION:Join us for Karaoke Thursdays at The Dayton Beer Company\, hosted by Limelight Entertainment from 6:30 p.m.-9:30p.m. Cheers!
URL:https://downtowndayton.org/event/karaoke-2025-02-27/
LOCATION:OH
ATTACH;FMTTYPE=image/jpeg:https://downtowndayton.org/wp-content/uploads/2025/01/dbc.jpg
END:VEVENT
BEGIN:VEVENT
DTSTART;TZID=America/Detroit:20250925T183000
DTEND;TZID=America/Detroit:20250925T213000
DTSTAMP:20260420T010501
CREATED:20250114T175650Z
LAST-MODIFIED:20250114T175650Z
UID:10049101-1758825000-1758835800@downtowndayton.org
SUMMARY:Karaoke
DESCRIPTION:Join us for Karaoke Thursdays at The Dayton Beer Company\, hosted by Limelight Entertainment from 6:30 p.m.-9:30p.m. Cheers!
URL:https://downtowndayton.org/event/karaoke-2025-04-24-4/
LOCATION:OH
ATTACH;FMTTYPE=image/jpeg:https://downtowndayton.org/wp-content/uploads/2025/01/dbc.jpg
END:VEVENT
BEGIN:VEVENT
DTSTART;TZID=America/Detroit:20250925T183000
DTEND;TZID=America/Detroit:20250925T213000
DTSTAMP:20260420T010501
CREATED:20250114T175650Z
LAST-MODIFIED:20250114T175650Z
UID:10047607-1758825000-1758835800@downtowndayton.org
SUMMARY:Karaoke
DESCRIPTION:Join us for Karaoke Thursdays at The Dayton Beer Company\, hosted by Limelight Entertainment from 6:30 p.m.-9:30p.m. Cheers!
URL:https://downtowndayton.org/event/karaoke-2025-05-15-2/
LOCATION:OH
ATTACH;FMTTYPE=image/jpeg:https://downtowndayton.org/wp-content/uploads/2025/01/dbc.jpg
END:VEVENT
BEGIN:VEVENT
DTSTART;TZID=America/Detroit:20250925T183000
DTEND;TZID=America/Detroit:20250925T213000
DTSTAMP:20260420T010501
CREATED:20250114T175650Z
LAST-MODIFIED:20250114T175650Z
UID:10046975-1758825000-1758835800@downtowndayton.org
SUMMARY:Karaoke
DESCRIPTION:Join us for Karaoke Thursdays at The Dayton Beer Company\, hosted by Limelight Entertainment from 6:30 p.m.-9:30p.m. Cheers!
URL:https://downtowndayton.org/event/karaoke-2025-01-23-2/
LOCATION:OH
ATTACH;FMTTYPE=image/jpeg:https://downtowndayton.org/wp-content/uploads/2025/01/dbc.jpg
END:VEVENT
BEGIN:VEVENT
DTSTART;TZID=America/Detroit:20250925T183000
DTEND;TZID=America/Detroit:20250925T213000
DTSTAMP:20260420T010501
CREATED:20250114T175650Z
LAST-MODIFIED:20250114T175650Z
UID:10046366-1758825000-1758835800@downtowndayton.org
SUMMARY:Karaoke
DESCRIPTION:Join us for Karaoke Thursdays at The Dayton Beer Company\, hosted by Limelight Entertainment from 6:30 p.m.-9:30p.m. Cheers!
URL:https://downtowndayton.org/event/karaoke-2025-07-31/
LOCATION:OH
ATTACH;FMTTYPE=image/jpeg:https://downtowndayton.org/wp-content/uploads/2025/01/dbc.jpg
END:VEVENT
BEGIN:VEVENT
DTSTART;TZID=America/Detroit:20250925T183000
DTEND;TZID=America/Detroit:20250925T213000
DTSTAMP:20260420T010501
CREATED:20250114T175650Z
LAST-MODIFIED:20250114T175650Z
UID:10045541-1758825000-1758835800@downtowndayton.org
SUMMARY:Karaoke
DESCRIPTION:Join us for Karaoke Thursdays at The Dayton Beer Company\, hosted by Limelight Entertainment from 6:30 p.m.-9:30p.m. Cheers!
URL:https://downtowndayton.org/event/karaoke-2025-02-06/
LOCATION:OH
ATTACH;FMTTYPE=image/jpeg:https://downtowndayton.org/wp-content/uploads/2025/01/dbc.jpg
END:VEVENT
BEGIN:VEVENT
DTSTART;TZID=America/Detroit:20250925T183000
DTEND;TZID=America/Detroit:20250925T213000
DTSTAMP:20260420T010501
CREATED:20250114T175650Z
LAST-MODIFIED:20250114T175650Z
UID:10048993-1758825000-1758835800@downtowndayton.org
SUMMARY:Karaoke
DESCRIPTION:Join us for Karaoke Thursdays at The Dayton Beer Company\, hosted by Limelight Entertainment from 6:30 p.m.-9:30p.m. Cheers!
URL:https://downtowndayton.org/event/karaoke-2025-04-03-4/
LOCATION:OH
ATTACH;FMTTYPE=image/jpeg:https://downtowndayton.org/wp-content/uploads/2025/01/dbc.jpg
END:VEVENT
BEGIN:VEVENT
DTSTART;TZID=America/Detroit:20250925T183000
DTEND;TZID=America/Detroit:20250925T213000
DTSTAMP:20260420T010501
CREATED:20250114T175650Z
LAST-MODIFIED:20250114T175650Z
UID:10047508-1758825000-1758835800@downtowndayton.org
SUMMARY:Karaoke
DESCRIPTION:Join us for Karaoke Thursdays at The Dayton Beer Company\, hosted by Limelight Entertainment from 6:30 p.m.-9:30p.m. Cheers!
URL:https://downtowndayton.org/event/karaoke-2025-04-24-2/
LOCATION:OH
ATTACH;FMTTYPE=image/jpeg:https://downtowndayton.org/wp-content/uploads/2025/01/dbc.jpg
END:VEVENT
BEGIN:VEVENT
DTSTART;TZID=America/Detroit:20250925T183000
DTEND;TZID=America/Detroit:20250925T213000
DTSTAMP:20260420T010501
CREATED:20250114T175650Z
LAST-MODIFIED:20250114T175650Z
UID:10046300-1758825000-1758835800@downtowndayton.org
SUMMARY:Karaoke
DESCRIPTION:Join us for Karaoke Thursdays at The Dayton Beer Company\, hosted by Limelight Entertainment from 6:30 p.m.-9:30p.m. Cheers!
URL:https://downtowndayton.org/event/karaoke-2025-07-10/
LOCATION:OH
ATTACH;FMTTYPE=image/jpeg:https://downtowndayton.org/wp-content/uploads/2025/01/dbc.jpg
END:VEVENT
BEGIN:VEVENT
DTSTART;TZID=America/New_York:20250925T193000
DTEND;TZID=America/New_York:20250925T193000
DTSTAMP:20260420T010501
CREATED:20250915T165410Z
LAST-MODIFIED:20250915T165410Z
UID:10039796-1758828600-1758828600@downtowndayton.org
SUMMARY:Avatar: The Last Airbender In Concert – The 20th Anniversary Tour
DESCRIPTION:Celebrate 20 years of elemental storytelling\, unforgettable characters\, and the epic journey that defined a generation! \nAVATAR: THE LAST AIRBENDER IN CONCERT – THE 20TH ANNIVERSARY TOUR presents a stunning live orchestral performance of the series’ beloved soundtrack\, now elevated with a once-in-a-lifetime cinematic experience. This special anniversary edition features a two-hour visual journey through all three seasons of the iconic animated series\, projected on a full-size cinema screen with new elements and artistic surprises crafted for this special anniversary edition that offers fresh perspectives on the show’s legacy. \nPreserving the original dialogue and sound effects\, the concert replaces the recorded score with a powerful live orchestra\, performing the legendary music of Emmy® Award-winning composer Jeremy Zuckerman\, the creative mastermind behind the show’s original music\, in perfect sync with the action on screen. \nFrom taiko drums and erhu to soaring strings and delicate woodwinds\, the music comes alive alongside the adventures of Aang\, Katara\, Toph\, Sokka\, Zuko\, and more\, all brought together by Zuckerman’s expanded arrangements and creative collaboration with original series editor Jeff Adams. \nWith a few inspired additions and celebratory touches designed to mark the occasion just for this milestone tour\, longtime fans and newcomers alike will experience “Avatar: The Last Airbender” like never before.
URL:https://downtowndayton.org/event/avatar-the-last-airbender-in-concert-the-20th-anniversary-tour/
LOCATION:The Benjamin & Marian Schuster Performing Arts Center\, 1 West Second Street\, Dayton\, OH\, 45402
ATTACH;FMTTYPE=image/jpeg:https://downtowndayton.org/wp-content/uploads/2025/09/ava.jpg
END:VEVENT
END:VCALENDAR