BEGIN:VCALENDAR
VERSION:2.0
PRODID:-//Downtown Dayton Partnership - ECPv6.8.1//NONSGML v1.0//EN
CALSCALE:GREGORIAN
METHOD:PUBLISH
X-WR-CALNAME:Downtown Dayton Partnership
X-ORIGINAL-URL:https://downtowndayton.org
X-WR-CALDESC:Events for Downtown Dayton Partnership
REFRESH-INTERVAL;VALUE=DURATION:PT1H
X-Robots-Tag:noindex
X-PUBLISHED-TTL:PT1H
BEGIN:VTIMEZONE
TZID:America/Detroit
BEGIN:DAYLIGHT
TZOFFSETFROM:-0500
TZOFFSETTO:-0400
TZNAME:EDT
DTSTART:20250309T070000
END:DAYLIGHT
BEGIN:STANDARD
TZOFFSETFROM:-0400
TZOFFSETTO:-0500
TZNAME:EST
DTSTART:20251102T060000
END:STANDARD
TZID:America/New_York
BEGIN:DAYLIGHT
TZOFFSETFROM:-0500
TZOFFSETTO:-0400
TZNAME:EDT
DTSTART:20250309T070000
END:DAYLIGHT
BEGIN:STANDARD
TZOFFSETFROM:-0400
TZOFFSETTO:-0500
TZNAME:EST
DTSTART:20251102T060000
END:STANDARD
END:VTIMEZONE
BEGIN:VEVENT
DTSTART;TZID=America/Detroit:20251002T183000
DTEND;TZID=America/Detroit:20251002T213000
DTSTAMP:20260423T205632
CREATED:20250114T175650Z
LAST-MODIFIED:20250114T175650Z
UID:10046049-1759429800-1759440600@downtowndayton.org
SUMMARY:Karaoke
DESCRIPTION:Join us for Karaoke Thursdays at The Dayton Beer Company\, hosted by Limelight Entertainment from 6:30 p.m.-9:30p.m. Cheers!
URL:https://downtowndayton.org/event/karaoke-2025-05-08/
LOCATION:OH
ATTACH;FMTTYPE=image/jpeg:https://downtowndayton.org/wp-content/uploads/2025/01/dbc.jpg
END:VEVENT
BEGIN:VEVENT
DTSTART;TZID=America/Detroit:20251002T183000
DTEND;TZID=America/Detroit:20251002T213000
DTSTAMP:20260423T205632
CREATED:20250114T175650Z
LAST-MODIFIED:20250114T175650Z
UID:10046511-1759429800-1759440600@downtowndayton.org
SUMMARY:Karaoke
DESCRIPTION:Join us for Karaoke Thursdays at The Dayton Beer Company\, hosted by Limelight Entertainment from 6:30 p.m.-9:30p.m. Cheers!
URL:https://downtowndayton.org/event/karaoke-2025-10-02/
LOCATION:OH
ATTACH;FMTTYPE=image/jpeg:https://downtowndayton.org/wp-content/uploads/2025/01/dbc.jpg
END:VEVENT
BEGIN:VEVENT
DTSTART;TZID=America/Detroit:20251002T183000
DTEND;TZID=America/Detroit:20251002T213000
DTSTAMP:20260423T205632
CREATED:20250114T175650Z
LAST-MODIFIED:20250114T175650Z
UID:10048917-1759429800-1759440600@downtowndayton.org
SUMMARY:Karaoke
DESCRIPTION:Join us for Karaoke Thursdays at The Dayton Beer Company\, hosted by Limelight Entertainment from 6:30 p.m.-9:30p.m. Cheers!
URL:https://downtowndayton.org/event/karaoke-2025-03-20-4/
LOCATION:OH
ATTACH;FMTTYPE=image/jpeg:https://downtowndayton.org/wp-content/uploads/2025/01/dbc.jpg
END:VEVENT
BEGIN:VEVENT
DTSTART;TZID=America/Detroit:20251002T183000
DTEND;TZID=America/Detroit:20251002T213000
DTSTAMP:20260423T205632
CREATED:20250114T175650Z
LAST-MODIFIED:20250114T175650Z
UID:10047543-1759429800-1759440600@downtowndayton.org
SUMMARY:Karaoke
DESCRIPTION:Join us for Karaoke Thursdays at The Dayton Beer Company\, hosted by Limelight Entertainment from 6:30 p.m.-9:30p.m. Cheers!
URL:https://downtowndayton.org/event/karaoke-2025-05-01-2/
LOCATION:OH
ATTACH;FMTTYPE=image/jpeg:https://downtowndayton.org/wp-content/uploads/2025/01/dbc.jpg
END:VEVENT
BEGIN:VEVENT
DTSTART;TZID=America/Detroit:20251002T183000
DTEND;TZID=America/Detroit:20251002T213000
DTSTAMP:20260423T205632
CREATED:20250114T175650Z
LAST-MODIFIED:20250114T175650Z
UID:10046387-1759429800-1759440600@downtowndayton.org
SUMMARY:Karaoke
DESCRIPTION:Join us for Karaoke Thursdays at The Dayton Beer Company\, hosted by Limelight Entertainment from 6:30 p.m.-9:30p.m. Cheers!
URL:https://downtowndayton.org/event/karaoke-2025-08-07/
LOCATION:OH
ATTACH;FMTTYPE=image/jpeg:https://downtowndayton.org/wp-content/uploads/2025/01/dbc.jpg
END:VEVENT
BEGIN:VEVENT
DTSTART;TZID=America/Detroit:20251002T183000
DTEND;TZID=America/Detroit:20251002T213000
DTSTAMP:20260423T205632
CREATED:20250114T175650Z
LAST-MODIFIED:20250114T175650Z
UID:10045947-1759429800-1759440600@downtowndayton.org
SUMMARY:Karaoke
DESCRIPTION:Join us for Karaoke Thursdays at The Dayton Beer Company\, hosted by Limelight Entertainment from 6:30 p.m.-9:30p.m. Cheers!
URL:https://downtowndayton.org/event/karaoke-2025-04-17/
LOCATION:OH
ATTACH;FMTTYPE=image/jpeg:https://downtowndayton.org/wp-content/uploads/2025/01/dbc.jpg
END:VEVENT
BEGIN:VEVENT
DTSTART;TZID=America/Detroit:20251002T183000
DTEND;TZID=America/Detroit:20251002T213000
DTSTAMP:20260423T205632
CREATED:20250114T175650Z
LAST-MODIFIED:20250114T175650Z
UID:10046457-1759429800-1759440600@downtowndayton.org
SUMMARY:Karaoke
DESCRIPTION:Join us for Karaoke Thursdays at The Dayton Beer Company\, hosted by Limelight Entertainment from 6:30 p.m.-9:30p.m. Cheers!
URL:https://downtowndayton.org/event/karaoke-2025-09-04/
LOCATION:OH
ATTACH;FMTTYPE=image/jpeg:https://downtowndayton.org/wp-content/uploads/2025/01/dbc.jpg
END:VEVENT
BEGIN:VEVENT
DTSTART;TZID=America/Detroit:20251002T183000
DTEND;TZID=America/Detroit:20251002T213000
DTSTAMP:20260423T205632
CREATED:20250114T175650Z
LAST-MODIFIED:20250114T175650Z
UID:10048380-1759429800-1759440600@downtowndayton.org
SUMMARY:Karaoke
DESCRIPTION:Join us for Karaoke Thursdays at The Dayton Beer Company\, hosted by Limelight Entertainment from 6:30 p.m.-9:30p.m. Cheers!
URL:https://downtowndayton.org/event/karaoke-2025-05-22-3/
LOCATION:OH
ATTACH;FMTTYPE=image/jpeg:https://downtowndayton.org/wp-content/uploads/2025/01/dbc.jpg
END:VEVENT
BEGIN:VEVENT
DTSTART;TZID=America/Detroit:20251002T183000
DTEND;TZID=America/Detroit:20251002T213000
DTSTAMP:20260423T205632
CREATED:20250114T175650Z
LAST-MODIFIED:20250114T175650Z
UID:10048794-1759429800-1759440600@downtowndayton.org
SUMMARY:Karaoke
DESCRIPTION:Join us for Karaoke Thursdays at The Dayton Beer Company\, hosted by Limelight Entertainment from 6:30 p.m.-9:30p.m. Cheers!
URL:https://downtowndayton.org/event/karaoke-2025-02-27-4/
LOCATION:OH
ATTACH;FMTTYPE=image/jpeg:https://downtowndayton.org/wp-content/uploads/2025/01/dbc.jpg
END:VEVENT
BEGIN:VEVENT
DTSTART;TZID=America/Detroit:20251002T183000
DTEND;TZID=America/Detroit:20251002T213000
DTSTAMP:20260423T205632
CREATED:20250114T175650Z
LAST-MODIFIED:20250114T175650Z
UID:10047438-1759429800-1759440600@downtowndayton.org
SUMMARY:Karaoke
DESCRIPTION:Join us for Karaoke Thursdays at The Dayton Beer Company\, hosted by Limelight Entertainment from 6:30 p.m.-9:30p.m. Cheers!
URL:https://downtowndayton.org/event/karaoke-2025-04-10-2/
LOCATION:OH
ATTACH;FMTTYPE=image/jpeg:https://downtowndayton.org/wp-content/uploads/2025/01/dbc.jpg
END:VEVENT
BEGIN:VEVENT
DTSTART;TZID=America/Detroit:20251002T183000
DTEND;TZID=America/Detroit:20251002T213000
DTSTAMP:20260423T205632
CREATED:20250114T175650Z
LAST-MODIFIED:20250114T175650Z
UID:10046324-1759429800-1759440600@downtowndayton.org
SUMMARY:Karaoke
DESCRIPTION:Join us for Karaoke Thursdays at The Dayton Beer Company\, hosted by Limelight Entertainment from 6:30 p.m.-9:30p.m. Cheers!
URL:https://downtowndayton.org/event/karaoke-2025-07-17/
LOCATION:OH
ATTACH;FMTTYPE=image/jpeg:https://downtowndayton.org/wp-content/uploads/2025/01/dbc.jpg
END:VEVENT
BEGIN:VEVENT
DTSTART;TZID=America/Detroit:20251002T183000
DTEND;TZID=America/Detroit:20251002T213000
DTSTAMP:20260423T205632
CREATED:20250114T175650Z
LAST-MODIFIED:20250114T175650Z
UID:10048065-1759429800-1759440600@downtowndayton.org
SUMMARY:Karaoke
DESCRIPTION:Join us for Karaoke Thursdays at The Dayton Beer Company\, hosted by Limelight Entertainment from 6:30 p.m.-9:30p.m. Cheers!
URL:https://downtowndayton.org/event/karaoke-2025-03-20-3/
LOCATION:OH
ATTACH;FMTTYPE=image/jpeg:https://downtowndayton.org/wp-content/uploads/2025/01/dbc.jpg
END:VEVENT
BEGIN:VEVENT
DTSTART;TZID=America/Detroit:20251002T183000
DTEND;TZID=America/Detroit:20251002T213000
DTSTAMP:20260423T205632
CREATED:20250114T175650Z
LAST-MODIFIED:20250114T175650Z
UID:10045836-1759429800-1759440600@downtowndayton.org
SUMMARY:Karaoke
DESCRIPTION:Join us for Karaoke Thursdays at The Dayton Beer Company\, hosted by Limelight Entertainment from 6:30 p.m.-9:30p.m. Cheers!
URL:https://downtowndayton.org/event/karaoke-2025-03-27/
LOCATION:OH
ATTACH;FMTTYPE=image/jpeg:https://downtowndayton.org/wp-content/uploads/2025/01/dbc.jpg
END:VEVENT
BEGIN:VEVENT
DTSTART;TZID=America/Detroit:20251002T183000
DTEND;TZID=America/Detroit:20251002T213000
DTSTAMP:20260423T205632
CREATED:20250114T175650Z
LAST-MODIFIED:20250114T175650Z
UID:10046499-1759429800-1759440600@downtowndayton.org
SUMMARY:Karaoke
DESCRIPTION:Join us for Karaoke Thursdays at The Dayton Beer Company\, hosted by Limelight Entertainment from 6:30 p.m.-9:30p.m. Cheers!
URL:https://downtowndayton.org/event/karaoke-2025-09-25/
LOCATION:OH
ATTACH;FMTTYPE=image/jpeg:https://downtowndayton.org/wp-content/uploads/2025/01/dbc.jpg
END:VEVENT
BEGIN:VEVENT
DTSTART;TZID=America/Detroit:20251002T183000
DTEND;TZID=America/Detroit:20251002T213000
DTSTAMP:20260423T205632
CREATED:20250114T175650Z
LAST-MODIFIED:20250114T175650Z
UID:10045449-1759429800-1759440600@downtowndayton.org
SUMMARY:Karaoke
DESCRIPTION:Join us for Karaoke Thursdays at The Dayton Beer Company\, hosted by Limelight Entertainment from 6:30 p.m.-9:30p.m. Cheers!
URL:https://downtowndayton.org/event/karaoke-2025-01-23/
LOCATION:OH
ATTACH;FMTTYPE=image/jpeg:https://downtowndayton.org/wp-content/uploads/2025/01/dbc.jpg
END:VEVENT
BEGIN:VEVENT
DTSTART;TZID=America/Detroit:20251002T183000
DTEND;TZID=America/Detroit:20251002T213000
DTSTAMP:20260423T205632
CREATED:20250114T175650Z
LAST-MODIFIED:20250114T175650Z
UID:10048284-1759429800-1759440600@downtowndayton.org
SUMMARY:Karaoke
DESCRIPTION:Join us for Karaoke Thursdays at The Dayton Beer Company\, hosted by Limelight Entertainment from 6:30 p.m.-9:30p.m. Cheers!
URL:https://downtowndayton.org/event/karaoke-2025-05-01-3/
LOCATION:OH
ATTACH;FMTTYPE=image/jpeg:https://downtowndayton.org/wp-content/uploads/2025/01/dbc.jpg
END:VEVENT
BEGIN:VEVENT
DTSTART;TZID=America/Detroit:20251002T183000
DTEND;TZID=America/Detroit:20251002T213000
DTSTAMP:20260423T205633
CREATED:20250114T175650Z
LAST-MODIFIED:20250114T175650Z
UID:10047324-1759429800-1759440600@downtowndayton.org
SUMMARY:Karaoke
DESCRIPTION:Join us for Karaoke Thursdays at The Dayton Beer Company\, hosted by Limelight Entertainment from 6:30 p.m.-9:30p.m. Cheers!
URL:https://downtowndayton.org/event/karaoke-2025-03-20-2/
LOCATION:OH
ATTACH;FMTTYPE=image/jpeg:https://downtowndayton.org/wp-content/uploads/2025/01/dbc.jpg
END:VEVENT
BEGIN:VEVENT
DTSTART;TZID=America/Detroit:20251002T183000
DTEND;TZID=America/Detroit:20251002T213000
DTSTAMP:20260423T205633
CREATED:20250114T175650Z
LAST-MODIFIED:20250114T175650Z
UID:10046252-1759429800-1759440600@downtowndayton.org
SUMMARY:Karaoke
DESCRIPTION:Join us for Karaoke Thursdays at The Dayton Beer Company\, hosted by Limelight Entertainment from 6:30 p.m.-9:30p.m. Cheers!
URL:https://downtowndayton.org/event/karaoke-2025-06-26/
LOCATION:OH
ATTACH;FMTTYPE=image/jpeg:https://downtowndayton.org/wp-content/uploads/2025/01/dbc.jpg
END:VEVENT
BEGIN:VEVENT
DTSTART;TZID=America/Detroit:20251002T183000
DTEND;TZID=America/Detroit:20251002T213000
DTSTAMP:20260423T205633
CREATED:20250114T175650Z
LAST-MODIFIED:20250114T175650Z
UID:10049262-1759429800-1759440600@downtowndayton.org
SUMMARY:Karaoke
DESCRIPTION:Join us for Karaoke Thursdays at The Dayton Beer Company\, hosted by Limelight Entertainment from 6:30 p.m.-9:30p.m. Cheers!
URL:https://downtowndayton.org/event/karaoke-2025-05-29-4/
LOCATION:OH
ATTACH;FMTTYPE=image/jpeg:https://downtowndayton.org/wp-content/uploads/2025/01/dbc.jpg
END:VEVENT
BEGIN:VEVENT
DTSTART;TZID=America/Detroit:20251002T183000
DTEND;TZID=America/Detroit:20251002T213000
DTSTAMP:20260423T205633
CREATED:20250114T175650Z
LAST-MODIFIED:20250114T175650Z
UID:10047942-1759429800-1759440600@downtowndayton.org
SUMMARY:Karaoke
DESCRIPTION:Join us for Karaoke Thursdays at The Dayton Beer Company\, hosted by Limelight Entertainment from 6:30 p.m.-9:30p.m. Cheers!
URL:https://downtowndayton.org/event/karaoke-2025-02-27-3/
LOCATION:OH
ATTACH;FMTTYPE=image/jpeg:https://downtowndayton.org/wp-content/uploads/2025/01/dbc.jpg
END:VEVENT
BEGIN:VEVENT
DTSTART;TZID=America/Detroit:20251002T183000
DTEND;TZID=America/Detroit:20251002T213000
DTSTAMP:20260423T205633
CREATED:20250114T175650Z
LAST-MODIFIED:20250114T175650Z
UID:10046472-1759429800-1759440600@downtowndayton.org
SUMMARY:Karaoke
DESCRIPTION:Join us for Karaoke Thursdays at The Dayton Beer Company\, hosted by Limelight Entertainment from 6:30 p.m.-9:30p.m. Cheers!
URL:https://downtowndayton.org/event/karaoke-2025-09-11/
LOCATION:OH
ATTACH;FMTTYPE=image/jpeg:https://downtowndayton.org/wp-content/uploads/2025/01/dbc.jpg
END:VEVENT
BEGIN:VEVENT
DTSTART;TZID=America/Detroit:20251002T183000
DTEND;TZID=America/Detroit:20251002T213000
DTSTAMP:20260423T205633
CREATED:20250114T175650Z
LAST-MODIFIED:20250114T175650Z
UID:10045716-1759429800-1759440600@downtowndayton.org
SUMMARY:Karaoke
DESCRIPTION:Join us for Karaoke Thursdays at The Dayton Beer Company\, hosted by Limelight Entertainment from 6:30 p.m.-9:30p.m. Cheers!
URL:https://downtowndayton.org/event/karaoke-2025-03-06/
LOCATION:OH
ATTACH;FMTTYPE=image/jpeg:https://downtowndayton.org/wp-content/uploads/2025/01/dbc.jpg
END:VEVENT
BEGIN:VEVENT
DTSTART;TZID=America/Detroit:20251002T183000
DTEND;TZID=America/Detroit:20251002T213000
DTSTAMP:20260423T205633
CREATED:20250114T175650Z
LAST-MODIFIED:20250114T175650Z
UID:10048662-1759429800-1759440600@downtowndayton.org
SUMMARY:Karaoke
DESCRIPTION:Join us for Karaoke Thursdays at The Dayton Beer Company\, hosted by Limelight Entertainment from 6:30 p.m.-9:30p.m. Cheers!
URL:https://downtowndayton.org/event/karaoke-2025-02-06-4/
LOCATION:OH
ATTACH;FMTTYPE=image/jpeg:https://downtowndayton.org/wp-content/uploads/2025/01/dbc.jpg
END:VEVENT
BEGIN:VEVENT
DTSTART;TZID=America/Detroit:20251002T183000
DTEND;TZID=America/Detroit:20251002T213000
DTSTAMP:20260423T205633
CREATED:20250114T175650Z
LAST-MODIFIED:20250114T175650Z
UID:10048179-1759429800-1759440600@downtowndayton.org
SUMMARY:Karaoke
DESCRIPTION:Join us for Karaoke Thursdays at The Dayton Beer Company\, hosted by Limelight Entertainment from 6:30 p.m.-9:30p.m. Cheers!
URL:https://downtowndayton.org/event/karaoke-2025-04-10-3/
LOCATION:OH
ATTACH;FMTTYPE=image/jpeg:https://downtowndayton.org/wp-content/uploads/2025/01/dbc.jpg
END:VEVENT
BEGIN:VEVENT
DTSTART;TZID=America/New_York:20251003T160000
DTEND;TZID=America/New_York:20251003T180000
DTSTAMP:20260423T205633
CREATED:20250923T203825Z
LAST-MODIFIED:20250923T203825Z
UID:10039808-1759507200-1759514400@downtowndayton.org
SUMMARY:Friday Night Paint-In
DESCRIPTION:Friday Night Paint-In on first Fridays of every month between October 2025-April 2026. 2 sessions available 4:00pm-6:00pm and 6:00pm-8:00pm. Bring your own beverage of choice and a snack. $30.00 per person Register online: www.k12tejasgallery.org or in person at K12 TEJAS Gallery 341 S. Jefferson St. Dayton\, OH 45402
URL:https://downtowndayton.org/event/friday-night-paint-in/2025-10-03/
LOCATION:K12 Gallery & TEJAS\, 341 S. Jefferson St.\, Dayton\, OH\, 45402
ATTACH;FMTTYPE=image/jpeg:https://downtowndayton.org/wp-content/uploads/2025/09/paintin.jpg
END:VEVENT
BEGIN:VEVENT
DTSTART;TZID=America/New_York:20251003T170000
DTEND;TZID=America/New_York:20251003T210000
DTSTAMP:20260423T205633
CREATED:20250929T123217Z
LAST-MODIFIED:20250929T123217Z
UID:10040894-1759510800-1759525200@downtowndayton.org
SUMMARY:First Friday Art Hop and October Halloween Market
DESCRIPTION:Join Front Street to kick start the Halloween season during October’s First Friday and Saturday Art Hop! The artists have been busy preparing for the spooky season with a costume contest; you help choose the winner! For our guests\, a treasure hunt\, find four hidden items\, and win a Front Street t-shirt! Trick or treating for the kid! Special appearance by Batman! On Saturday… Free pumpkin painting. Mom and Dad can paint a free pumpkin with the kids and bring it home! Food Truck Rally by Dayton Food Truck Rally Music and more!
URL:https://downtowndayton.org/event/first-friday-art-hop-and-october-halloween-market/
LOCATION:Front Street Galleries\, 1001 E. Second St.\, Dayton\, OH\, 45402
ATTACH;FMTTYPE=image/jpeg:https://downtowndayton.org/wp-content/uploads/2025/09/Image-109.jpeg
END:VEVENT
BEGIN:VEVENT
DTSTART;TZID=America/New_York:20251003T180000
DTEND;TZID=America/New_York:20251003T200000
DTSTAMP:20260423T205633
CREATED:20250923T203928Z
LAST-MODIFIED:20250923T203928Z
UID:10039815-1759514400-1759521600@downtowndayton.org
SUMMARY:Friday Night Paint-In
DESCRIPTION:Friday Night Paint-In on first Fridays of every month between October 2025-April 2026. 2 sessions available 4:00pm-6:00pm and 6:00pm-8:00pm. Bring your own beverage of choice and a snack. $30.00 per person Register online: www.k12tejasgallery.org or in person at K12 TEJAS Gallery 341 S. Jefferson St. Dayton\, OH 45402
URL:https://downtowndayton.org/event/friday-night-paint-in-2/2025-10-03/
LOCATION:K12 Gallery & TEJAS\, 341 S. Jefferson St.\, Dayton\, OH\, 45402
ATTACH;FMTTYPE=image/jpeg:https://downtowndayton.org/wp-content/uploads/2025/09/paintin.jpg
END:VEVENT
BEGIN:VEVENT
DTSTART;TZID=America/New_York:20251003T190000
DTEND;TZID=America/New_York:20251003T190000
DTSTAMP:20260423T205633
CREATED:20251002T123341Z
LAST-MODIFIED:20251002T123341Z
UID:10040909-1759518000-1759518000@downtowndayton.org
SUMMARY:John Crist: Jokes For Humans
DESCRIPTION:John Crist is one of today’s fastest-rising stand-up comedians\, earning more than one billion video views\, more than seven million fans on social media and sold-out shows from coast to coast — even ending 2023 as one of Pollstar’s Top 10 Global Touring Comedians. John has sold out the majority of his current 2024 U.S. Emotional Support Tour dates and continues to add multiple shows in select cities. \nIn 2023\, John released his special “John Crist: Would Like to Release a Statement” on YouTube\, garnering more than 2.8 million views\, with more than 200 million views on social clips alone. In 2022\, Crist also independently released his “What Are We Doing?” special\, and that compilation has more than 100 million views across platforms. John also has a podcast titled “Net Positive\,” which regularly charts on Spotify and Apple’s top podcast charts. Filmed in downtown Nashville\, the weekly installment has featured guests like comedian Matt Rife\, Creed frontman Scott Stapp\, comedian Leanne Morgan\, musician Michael W. Smith\, NFL all-pro wide receiver Eric Decker\, and many more. Additionally\, John released his book Delete That in 2022. John has been seen on ESPN\, “Sports Illustrated\,” CBS Sports\, Barstool Sports\, and Buzzfeed just to name a few.
URL:https://downtowndayton.org/event/john-crist-jokes-for-humans/
LOCATION:Victoria Theatre\, 138 N. Main St.\, Dayton\, OH\, 45402\, United States
ATTACH;FMTTYPE=image/jpeg:https://downtowndayton.org/wp-content/uploads/2025/10/crist.jpg
END:VEVENT
BEGIN:VEVENT
DTSTART;TZID=America/New_York:20251003T193000
DTEND;TZID=America/New_York:20251003T193000
DTSTAMP:20260423T205633
CREATED:20251002T123709Z
LAST-MODIFIED:20251002T123709Z
UID:10040910-1759519800-1759519800@downtowndayton.org
SUMMARY:With Friends\, For Friends
DESCRIPTION:In this special event\, we celebrate Neal Gittleman. The concert begins with two works (one a world premiere) by local composers\, longtime collaborators\, and close friends Austin Jaquith and Steve Winteregg. Then\, in an homage to those on stage and in the audience\, maestro Gittleman leads the orchestra in Elgar’s “Enigma Variations\,” a gorgeous symphony which Elgar wrote in honor of his own friends. \nNeal Gittleman\, conductor\nDayton Philharmonic Orchestra \nAustin Jaquith: “Containing The World” (world premiere)\nSteve Winteregg: “Dante’s Journey”\nEdward Elgar: “Enigma Variations”
URL:https://downtowndayton.org/event/with-friends-for-friends/2025-10-03/
LOCATION:The Benjamin & Marian Schuster Performing Arts Center\, 1 West Second Street\, Dayton\, OH\, 45402
ATTACH;FMTTYPE=image/jpeg:https://downtowndayton.org/wp-content/uploads/2025/10/wfff.jpg
END:VEVENT
BEGIN:VEVENT
DTSTART;TZID=America/New_York:20251003T200000
DTEND;TZID=America/New_York:20251003T200000
DTSTAMP:20260423T205633
CREATED:20251002T123047Z
LAST-MODIFIED:20251002T123047Z
UID:10040908-1759521600-1759521600@downtowndayton.org
SUMMARY:Funky Friday with Cooley the Curator
DESCRIPTION:
URL:https://downtowndayton.org/event/funky-friday-with-cooley-the-curator/
LOCATION:The Barrel House\, 417 E. Third St.\, Dayton\, OH\, 45402\, United States
ATTACH;FMTTYPE=image/jpeg:https://downtowndayton.org/wp-content/uploads/2025/10/funky.jpg
END:VEVENT
END:VCALENDAR