BEGIN:VCALENDAR
VERSION:2.0
PRODID:-//Downtown Dayton Partnership - ECPv6.8.1//NONSGML v1.0//EN
CALSCALE:GREGORIAN
METHOD:PUBLISH
X-WR-CALNAME:Downtown Dayton Partnership
X-ORIGINAL-URL:https://downtowndayton.org
X-WR-CALDESC:Events for Downtown Dayton Partnership
REFRESH-INTERVAL;VALUE=DURATION:PT1H
X-Robots-Tag:noindex
X-PUBLISHED-TTL:PT1H
BEGIN:VTIMEZONE
TZID:America/New_York
BEGIN:DAYLIGHT
TZOFFSETFROM:-0500
TZOFFSETTO:-0400
TZNAME:EDT
DTSTART:20250309T070000
END:DAYLIGHT
BEGIN:STANDARD
TZOFFSETFROM:-0400
TZOFFSETTO:-0500
TZNAME:EST
DTSTART:20251102T060000
END:STANDARD
TZID:America/Detroit
BEGIN:DAYLIGHT
TZOFFSETFROM:-0500
TZOFFSETTO:-0400
TZNAME:EDT
DTSTART:20250309T070000
END:DAYLIGHT
BEGIN:STANDARD
TZOFFSETFROM:-0400
TZOFFSETTO:-0500
TZNAME:EST
DTSTART:20251102T060000
END:STANDARD
END:VTIMEZONE
BEGIN:VEVENT
DTSTART;TZID=America/New_York:20250914T130000
DTEND;TZID=America/New_York:20250914T170000
DTSTAMP:20260424T122524
CREATED:20250909T132240Z
LAST-MODIFIED:20250909T132240Z
UID:10039771-1757854800-1757869200@downtowndayton.org
SUMMARY:Flyer Fest & Beyond Grocery Grand Opening
DESCRIPTION:The historic Dayton Arcade is heating up this September with a double celebration: “Flyer Fest” and the grand opening of Beyond Grocery. This one-of-a-kind community event will bring together food\, fun\, music\, and the University of Dayton Flyer spirit in the heart of downtown Dayton. This celebration marks more than just a grand opening — it’s a revitalization of downtown Dayton. Beyond Grocery is not only a cashless grocery store but also a hub for innovation\, alumni connection\, and community collaboration. \nWhat to Expect:\n• Live DJ & Music to keep the vibe going all day\n• Local Vendors offering food\, drinks\, art\, fashion & wellness\n• Beyond Grocery Grand Opening featuring quick & convenient meals\n• Exclusive Art Tours hosted by The Contemporary Dayton\n• Game Watch Party — join alumni & fans for the big NFL Sunday games at the Hilton Garden Inn Bar\n• Family Fun Zone with face painting\, balloon twisting\, and kid-friendly activities\n• Photo Experiences\n• Door Prizes & Giveaways throughout the day \nEvent Details:\n• Rotunda\, Dayton Arcade\n• Sunday\, September 14\, 2025\n• 1:00 PM – 5:00 PM\n• Ribbon Cutting Ceremony: 2:00 PM
URL:https://downtowndayton.org/event/flyer-fest-beyond-grocery-grand-opening/
LOCATION:Dayton Arcade\, 35 W. Fourth St.\, Dayton\, OH\, 45402
ATTACH;FMTTYPE=image/jpeg:https://downtowndayton.org/wp-content/uploads/2025/09/ffest.jpg
END:VEVENT
BEGIN:VEVENT
DTSTART;TZID=America/Detroit:20250916T190000
DTEND;TZID=America/Detroit:20250916T190000
DTSTAMP:20260424T122524
CREATED:20250114T175514Z
LAST-MODIFIED:20250114T175514Z
UID:10049632-1758049200-1758049200@downtowndayton.org
SUMMARY:Trivia Tuesday
DESCRIPTION:Trivia Tuesdays are fun for everyone at The Dayton Beer Company! Get $3.50 DBC Pints every Tuesday with trivia starting at 7:00 p.m. Cheers!
URL:https://downtowndayton.org/event/trivia-tuesday-2025-02-18/
LOCATION:OH
ATTACH;FMTTYPE=image/jpeg:https://downtowndayton.org/wp-content/uploads/2025/01/dbc.jpg
END:VEVENT
BEGIN:VEVENT
DTSTART;TZID=America/Detroit:20250916T190000
DTEND;TZID=America/Detroit:20250916T190000
DTSTAMP:20260424T122525
CREATED:20250114T175514Z
LAST-MODIFIED:20250114T175514Z
UID:10051802-1758049200-1758049200@downtowndayton.org
SUMMARY:Trivia Tuesday
DESCRIPTION:Trivia Tuesdays are fun for everyone at The Dayton Beer Company! Get $3.50 DBC Pints every Tuesday with trivia starting at 7:00 p.m. Cheers!
URL:https://downtowndayton.org/event/trivia-tuesday-2025-01-28-3/
LOCATION:OH
ATTACH;FMTTYPE=image/jpeg:https://downtowndayton.org/wp-content/uploads/2025/01/dbc.jpg
END:VEVENT
BEGIN:VEVENT
DTSTART;TZID=America/Detroit:20250916T190000
DTEND;TZID=America/Detroit:20250916T190000
DTSTAMP:20260424T122525
CREATED:20250114T175514Z
LAST-MODIFIED:20250114T175514Z
UID:10051238-1758049200-1758049200@downtowndayton.org
SUMMARY:Trivia Tuesday
DESCRIPTION:Trivia Tuesdays are fun for everyone at The Dayton Beer Company! Get $3.50 DBC Pints every Tuesday with trivia starting at 7:00 p.m. Cheers!
URL:https://downtowndayton.org/event/trivia-tuesday-2025-04-08-2/
LOCATION:OH
ATTACH;FMTTYPE=image/jpeg:https://downtowndayton.org/wp-content/uploads/2025/01/dbc.jpg
END:VEVENT
BEGIN:VEVENT
DTSTART;TZID=America/Detroit:20250916T190000
DTEND;TZID=America/Detroit:20250916T190000
DTSTAMP:20260424T122525
CREATED:20250114T175514Z
LAST-MODIFIED:20250114T175514Z
UID:10049764-1758049200-1758049200@downtowndayton.org
SUMMARY:Trivia Tuesday
DESCRIPTION:Trivia Tuesdays are fun for everyone at The Dayton Beer Company! Get $3.50 DBC Pints every Tuesday with trivia starting at 7:00 p.m. Cheers!
URL:https://downtowndayton.org/event/trivia-tuesday-2025-03-11/
LOCATION:OH
ATTACH;FMTTYPE=image/jpeg:https://downtowndayton.org/wp-content/uploads/2025/01/dbc.jpg
END:VEVENT
BEGIN:VEVENT
DTSTART;TZID=America/Detroit:20250916T190000
DTEND;TZID=America/Detroit:20250916T190000
DTSTAMP:20260424T122525
CREATED:20250114T175514Z
LAST-MODIFIED:20250114T175514Z
UID:10051943-1758049200-1758049200@downtowndayton.org
SUMMARY:Trivia Tuesday
DESCRIPTION:Trivia Tuesdays are fun for everyone at The Dayton Beer Company! Get $3.50 DBC Pints every Tuesday with trivia starting at 7:00 p.m. Cheers!
URL:https://downtowndayton.org/event/trivia-tuesday-2025-02-18-3/
LOCATION:OH
ATTACH;FMTTYPE=image/jpeg:https://downtowndayton.org/wp-content/uploads/2025/01/dbc.jpg
END:VEVENT
BEGIN:VEVENT
DTSTART;TZID=America/Detroit:20250916T190000
DTEND;TZID=America/Detroit:20250916T190000
DTSTAMP:20260424T122525
CREATED:20250114T175514Z
LAST-MODIFIED:20250114T175514Z
UID:10049887-1758049200-1758049200@downtowndayton.org
SUMMARY:Trivia Tuesday
DESCRIPTION:Trivia Tuesdays are fun for everyone at The Dayton Beer Company! Get $3.50 DBC Pints every Tuesday with trivia starting at 7:00 p.m. Cheers!
URL:https://downtowndayton.org/event/trivia-tuesday-2025-04-01/
LOCATION:OH
ATTACH;FMTTYPE=image/jpeg:https://downtowndayton.org/wp-content/uploads/2025/01/dbc.jpg
END:VEVENT
BEGIN:VEVENT
DTSTART;TZID=America/Detroit:20250916T190000
DTEND;TZID=America/Detroit:20250916T190000
DTSTAMP:20260424T122525
CREATED:20250114T175514Z
LAST-MODIFIED:20250114T175514Z
UID:10052075-1758049200-1758049200@downtowndayton.org
SUMMARY:Trivia Tuesday
DESCRIPTION:Trivia Tuesdays are fun for everyone at The Dayton Beer Company! Get $3.50 DBC Pints every Tuesday with trivia starting at 7:00 p.m. Cheers!
URL:https://downtowndayton.org/event/trivia-tuesday-2025-03-11-3/
LOCATION:OH
ATTACH;FMTTYPE=image/jpeg:https://downtowndayton.org/wp-content/uploads/2025/01/dbc.jpg
END:VEVENT
BEGIN:VEVENT
DTSTART;TZID=America/Detroit:20250916T190000
DTEND;TZID=America/Detroit:20250916T190000
DTSTAMP:20260424T122525
CREATED:20250114T175514Z
LAST-MODIFIED:20250114T175514Z
UID:10050001-1758049200-1758049200@downtowndayton.org
SUMMARY:Trivia Tuesday
DESCRIPTION:Trivia Tuesdays are fun for everyone at The Dayton Beer Company! Get $3.50 DBC Pints every Tuesday with trivia starting at 7:00 p.m. Cheers!
URL:https://downtowndayton.org/event/trivia-tuesday-2025-04-22/
LOCATION:OH
ATTACH;FMTTYPE=image/jpeg:https://downtowndayton.org/wp-content/uploads/2025/01/dbc.jpg
END:VEVENT
BEGIN:VEVENT
DTSTART;TZID=America/Detroit:20250916T190000
DTEND;TZID=America/Detroit:20250916T190000
DTSTAMP:20260424T122525
CREATED:20250114T175514Z
LAST-MODIFIED:20250114T175514Z
UID:10052198-1758049200-1758049200@downtowndayton.org
SUMMARY:Trivia Tuesday
DESCRIPTION:Trivia Tuesdays are fun for everyone at The Dayton Beer Company! Get $3.50 DBC Pints every Tuesday with trivia starting at 7:00 p.m. Cheers!
URL:https://downtowndayton.org/event/trivia-tuesday-2025-04-01-3/
LOCATION:OH
ATTACH;FMTTYPE=image/jpeg:https://downtowndayton.org/wp-content/uploads/2025/01/dbc.jpg
END:VEVENT
BEGIN:VEVENT
DTSTART;TZID=America/Detroit:20250916T190000
DTEND;TZID=America/Detroit:20250916T190000
DTSTAMP:20260424T122525
CREATED:20250114T175514Z
LAST-MODIFIED:20250114T175514Z
UID:10052312-1758049200-1758049200@downtowndayton.org
SUMMARY:Trivia Tuesday
DESCRIPTION:Trivia Tuesdays are fun for everyone at The Dayton Beer Company! Get $3.50 DBC Pints every Tuesday with trivia starting at 7:00 p.m. Cheers!
URL:https://downtowndayton.org/event/trivia-tuesday-2025-04-22-3/
LOCATION:OH
ATTACH;FMTTYPE=image/jpeg:https://downtowndayton.org/wp-content/uploads/2025/01/dbc.jpg
END:VEVENT
BEGIN:VEVENT
DTSTART;TZID=America/Detroit:20250916T190000
DTEND;TZID=America/Detroit:20250916T190000
DTSTAMP:20260424T122525
CREATED:20250114T175514Z
LAST-MODIFIED:20250114T175514Z
UID:10050106-1758049200-1758049200@downtowndayton.org
SUMMARY:Trivia Tuesday
DESCRIPTION:Trivia Tuesdays are fun for everyone at The Dayton Beer Company! Get $3.50 DBC Pints every Tuesday with trivia starting at 7:00 p.m. Cheers!
URL:https://downtowndayton.org/event/trivia-tuesday-2025-05-13/
LOCATION:OH
ATTACH;FMTTYPE=image/jpeg:https://downtowndayton.org/wp-content/uploads/2025/01/dbc.jpg
END:VEVENT
BEGIN:VEVENT
DTSTART;TZID=America/Detroit:20250916T190000
DTEND;TZID=America/Detroit:20250916T190000
DTSTAMP:20260424T122525
CREATED:20250114T175514Z
LAST-MODIFIED:20250114T175514Z
UID:10052417-1758049200-1758049200@downtowndayton.org
SUMMARY:Trivia Tuesday
DESCRIPTION:Trivia Tuesdays are fun for everyone at The Dayton Beer Company! Get $3.50 DBC Pints every Tuesday with trivia starting at 7:00 p.m. Cheers!
URL:https://downtowndayton.org/event/trivia-tuesday-2025-05-13-3/
LOCATION:OH
ATTACH;FMTTYPE=image/jpeg:https://downtowndayton.org/wp-content/uploads/2025/01/dbc.jpg
END:VEVENT
BEGIN:VEVENT
DTSTART;TZID=America/Detroit:20250916T190000
DTEND;TZID=America/Detroit:20250916T190000
DTSTAMP:20260424T122525
CREATED:20250114T175514Z
LAST-MODIFIED:20250114T175514Z
UID:10050202-1758049200-1758049200@downtowndayton.org
SUMMARY:Trivia Tuesday
DESCRIPTION:Trivia Tuesdays are fun for everyone at The Dayton Beer Company! Get $3.50 DBC Pints every Tuesday with trivia starting at 7:00 p.m. Cheers!
URL:https://downtowndayton.org/event/trivia-tuesday-2025-06-03/
LOCATION:OH
ATTACH;FMTTYPE=image/jpeg:https://downtowndayton.org/wp-content/uploads/2025/01/dbc.jpg
END:VEVENT
BEGIN:VEVENT
DTSTART;TZID=America/Detroit:20250916T190000
DTEND;TZID=America/Detroit:20250916T190000
DTSTAMP:20260424T122525
CREATED:20250114T175514Z
LAST-MODIFIED:20250114T175514Z
UID:10051349-1758049200-1758049200@downtowndayton.org
SUMMARY:Trivia Tuesday
DESCRIPTION:Trivia Tuesdays are fun for everyone at The Dayton Beer Company! Get $3.50 DBC Pints every Tuesday with trivia starting at 7:00 p.m. Cheers!
URL:https://downtowndayton.org/event/trivia-tuesday-2025-04-29-2/
LOCATION:OH
ATTACH;FMTTYPE=image/jpeg:https://downtowndayton.org/wp-content/uploads/2025/01/dbc.jpg
END:VEVENT
BEGIN:VEVENT
DTSTART;TZID=America/Detroit:20250916T190000
DTEND;TZID=America/Detroit:20250916T190000
DTSTAMP:20260424T122525
CREATED:20250114T175514Z
LAST-MODIFIED:20250114T175514Z
UID:10052513-1758049200-1758049200@downtowndayton.org
SUMMARY:Trivia Tuesday
DESCRIPTION:Trivia Tuesdays are fun for everyone at The Dayton Beer Company! Get $3.50 DBC Pints every Tuesday with trivia starting at 7:00 p.m. Cheers!
URL:https://downtowndayton.org/event/trivia-tuesday-2025-06-03-3/
LOCATION:OH
ATTACH;FMTTYPE=image/jpeg:https://downtowndayton.org/wp-content/uploads/2025/01/dbc.jpg
END:VEVENT
BEGIN:VEVENT
DTSTART;TZID=America/Detroit:20250916T190000
DTEND;TZID=America/Detroit:20250916T190000
DTSTAMP:20260424T122525
CREATED:20250114T175514Z
LAST-MODIFIED:20250114T175514Z
UID:10050289-1758049200-1758049200@downtowndayton.org
SUMMARY:Trivia Tuesday
DESCRIPTION:Trivia Tuesdays are fun for everyone at The Dayton Beer Company! Get $3.50 DBC Pints every Tuesday with trivia starting at 7:00 p.m. Cheers!
URL:https://downtowndayton.org/event/trivia-tuesday-2025-06-24/
LOCATION:OH
ATTACH;FMTTYPE=image/jpeg:https://downtowndayton.org/wp-content/uploads/2025/01/dbc.jpg
END:VEVENT
BEGIN:VEVENT
DTSTART;TZID=America/Detroit:20250916T190000
DTEND;TZID=America/Detroit:20250916T190000
DTSTAMP:20260424T122525
CREATED:20250114T175514Z
LAST-MODIFIED:20250114T175514Z
UID:10050367-1758049200-1758049200@downtowndayton.org
SUMMARY:Trivia Tuesday
DESCRIPTION:Trivia Tuesdays are fun for everyone at The Dayton Beer Company! Get $3.50 DBC Pints every Tuesday with trivia starting at 7:00 p.m. Cheers!
URL:https://downtowndayton.org/event/trivia-tuesday-2025-07-15/
LOCATION:OH
ATTACH;FMTTYPE=image/jpeg:https://downtowndayton.org/wp-content/uploads/2025/01/dbc.jpg
END:VEVENT
BEGIN:VEVENT
DTSTART;TZID=America/Detroit:20250916T190000
DTEND;TZID=America/Detroit:20250916T190000
DTSTAMP:20260424T122525
CREATED:20250114T175514Z
LAST-MODIFIED:20250114T175514Z
UID:10051451-1758049200-1758049200@downtowndayton.org
SUMMARY:Trivia Tuesday
DESCRIPTION:Trivia Tuesdays are fun for everyone at The Dayton Beer Company! Get $3.50 DBC Pints every Tuesday with trivia starting at 7:00 p.m. Cheers!
URL:https://downtowndayton.org/event/trivia-tuesday-2025-05-20-2/
LOCATION:OH
ATTACH;FMTTYPE=image/jpeg:https://downtowndayton.org/wp-content/uploads/2025/01/dbc.jpg
END:VEVENT
BEGIN:VEVENT
DTSTART;TZID=America/Detroit:20250916T190000
DTEND;TZID=America/Detroit:20250916T190000
DTSTAMP:20260424T122525
CREATED:20250114T175514Z
LAST-MODIFIED:20250114T175514Z
UID:10052600-1758049200-1758049200@downtowndayton.org
SUMMARY:Trivia Tuesday
DESCRIPTION:Trivia Tuesdays are fun for everyone at The Dayton Beer Company! Get $3.50 DBC Pints every Tuesday with trivia starting at 7:00 p.m. Cheers!
URL:https://downtowndayton.org/event/trivia-tuesday-2025-06-24-3/
LOCATION:OH
ATTACH;FMTTYPE=image/jpeg:https://downtowndayton.org/wp-content/uploads/2025/01/dbc.jpg
END:VEVENT
BEGIN:VEVENT
DTSTART;TZID=America/Detroit:20250916T190000
DTEND;TZID=America/Detroit:20250916T190000
DTSTAMP:20260424T122525
CREATED:20250114T175514Z
LAST-MODIFIED:20250114T175514Z
UID:10050754-1758049200-1758049200@downtowndayton.org
SUMMARY:Trivia Tuesday
DESCRIPTION:Trivia Tuesdays are fun for everyone at The Dayton Beer Company! Get $3.50 DBC Pints every Tuesday with trivia starting at 7:00 p.m. Cheers!
URL:https://downtowndayton.org/event/trivia-tuesday-2025-01-21-2/
LOCATION:OH
ATTACH;FMTTYPE=image/jpeg:https://downtowndayton.org/wp-content/uploads/2025/01/dbc.jpg
END:VEVENT
BEGIN:VEVENT
DTSTART;TZID=America/Detroit:20250916T190000
DTEND;TZID=America/Detroit:20250916T190000
DTSTAMP:20260424T122525
CREATED:20250114T175514Z
LAST-MODIFIED:20250114T175514Z
UID:10050437-1758049200-1758049200@downtowndayton.org
SUMMARY:Trivia Tuesday
DESCRIPTION:Trivia Tuesdays are fun for everyone at The Dayton Beer Company! Get $3.50 DBC Pints every Tuesday with trivia starting at 7:00 p.m. Cheers!
URL:https://downtowndayton.org/event/trivia-tuesday-2025-08-05/
LOCATION:OH
ATTACH;FMTTYPE=image/jpeg:https://downtowndayton.org/wp-content/uploads/2025/01/dbc.jpg
END:VEVENT
BEGIN:VEVENT
DTSTART;TZID=America/Detroit:20250916T190000
DTEND;TZID=America/Detroit:20250916T190000
DTSTAMP:20260424T122525
CREATED:20250114T175514Z
LAST-MODIFIED:20250114T175514Z
UID:10051544-1758049200-1758049200@downtowndayton.org
SUMMARY:Trivia Tuesday
DESCRIPTION:Trivia Tuesdays are fun for everyone at The Dayton Beer Company! Get $3.50 DBC Pints every Tuesday with trivia starting at 7:00 p.m. Cheers!
URL:https://downtowndayton.org/event/trivia-tuesday-2025-06-10-2/
LOCATION:OH
ATTACH;FMTTYPE=image/jpeg:https://downtowndayton.org/wp-content/uploads/2025/01/dbc.jpg
END:VEVENT
BEGIN:VEVENT
DTSTART;TZID=America/Detroit:20250916T190000
DTEND;TZID=America/Detroit:20250916T190000
DTSTAMP:20260424T122525
CREATED:20250114T175514Z
LAST-MODIFIED:20250114T175514Z
UID:10052678-1758049200-1758049200@downtowndayton.org
SUMMARY:Trivia Tuesday
DESCRIPTION:Trivia Tuesdays are fun for everyone at The Dayton Beer Company! Get $3.50 DBC Pints every Tuesday with trivia starting at 7:00 p.m. Cheers!
URL:https://downtowndayton.org/event/trivia-tuesday-2025-07-15-3/
LOCATION:OH
ATTACH;FMTTYPE=image/jpeg:https://downtowndayton.org/wp-content/uploads/2025/01/dbc.jpg
END:VEVENT
BEGIN:VEVENT
DTSTART;TZID=America/Detroit:20250916T190000
DTEND;TZID=America/Detroit:20250916T190000
DTSTAMP:20260424T122525
CREATED:20250114T175514Z
LAST-MODIFIED:20250114T175514Z
UID:10050898-1758049200-1758049200@downtowndayton.org
SUMMARY:Trivia Tuesday
DESCRIPTION:Trivia Tuesdays are fun for everyone at The Dayton Beer Company! Get $3.50 DBC Pints every Tuesday with trivia starting at 7:00 p.m. Cheers!
URL:https://downtowndayton.org/event/trivia-tuesday-2025-02-11-2/
LOCATION:OH
ATTACH;FMTTYPE=image/jpeg:https://downtowndayton.org/wp-content/uploads/2025/01/dbc.jpg
END:VEVENT
BEGIN:VEVENT
DTSTART;TZID=America/Detroit:20250916T190000
DTEND;TZID=America/Detroit:20250916T190000
DTSTAMP:20260424T122525
CREATED:20250114T175514Z
LAST-MODIFIED:20250114T175514Z
UID:10051628-1758049200-1758049200@downtowndayton.org
SUMMARY:Trivia Tuesday
DESCRIPTION:Trivia Tuesdays are fun for everyone at The Dayton Beer Company! Get $3.50 DBC Pints every Tuesday with trivia starting at 7:00 p.m. Cheers!
URL:https://downtowndayton.org/event/trivia-tuesday-2025-07-01-2/
LOCATION:OH
ATTACH;FMTTYPE=image/jpeg:https://downtowndayton.org/wp-content/uploads/2025/01/dbc.jpg
END:VEVENT
BEGIN:VEVENT
DTSTART;TZID=America/Detroit:20250916T190000
DTEND;TZID=America/Detroit:20250916T190000
DTSTAMP:20260424T122525
CREATED:20250114T175514Z
LAST-MODIFIED:20250114T175514Z
UID:10051033-1758049200-1758049200@downtowndayton.org
SUMMARY:Trivia Tuesday
DESCRIPTION:Trivia Tuesdays are fun for everyone at The Dayton Beer Company! Get $3.50 DBC Pints every Tuesday with trivia starting at 7:00 p.m. Cheers!
URL:https://downtowndayton.org/event/trivia-tuesday-2025-03-04-2/
LOCATION:OH
ATTACH;FMTTYPE=image/jpeg:https://downtowndayton.org/wp-content/uploads/2025/01/dbc.jpg
END:VEVENT
BEGIN:VEVENT
DTSTART;TZID=America/Detroit:20250916T190000
DTEND;TZID=America/Detroit:20250916T190000
DTSTAMP:20260424T122525
CREATED:20250114T175514Z
LAST-MODIFIED:20250114T175514Z
UID:10050415-1758049200-1758049200@downtowndayton.org
SUMMARY:Trivia Tuesday
DESCRIPTION:Trivia Tuesdays are fun for everyone at The Dayton Beer Company! Get $3.50 DBC Pints every Tuesday with trivia starting at 7:00 p.m. Cheers!
URL:https://downtowndayton.org/event/trivia-tuesday-2025-07-29/
LOCATION:OH
ATTACH;FMTTYPE=image/jpeg:https://downtowndayton.org/wp-content/uploads/2025/01/dbc.jpg
END:VEVENT
BEGIN:VEVENT
DTSTART;TZID=America/Detroit:20250916T190000
DTEND;TZID=America/Detroit:20250916T190000
DTSTAMP:20260424T122525
CREATED:20250114T175514Z
LAST-MODIFIED:20250114T175514Z
UID:10049539-1758049200-1758049200@downtowndayton.org
SUMMARY:Trivia Tuesday
DESCRIPTION:Trivia Tuesdays are fun for everyone at The Dayton Beer Company! Get $3.50 DBC Pints every Tuesday with trivia starting at 7:00 p.m. Cheers!
URL:https://downtowndayton.org/event/trivia-tuesday-2025-02-04/
LOCATION:OH
ATTACH;FMTTYPE=image/jpeg:https://downtowndayton.org/wp-content/uploads/2025/01/dbc.jpg
END:VEVENT
BEGIN:VEVENT
DTSTART;TZID=America/Detroit:20250916T190000
DTEND;TZID=America/Detroit:20250916T190000
DTSTAMP:20260424T122525
CREATED:20250114T175514Z
LAST-MODIFIED:20250114T175514Z
UID:10051703-1758049200-1758049200@downtowndayton.org
SUMMARY:Trivia Tuesday
DESCRIPTION:Trivia Tuesdays are fun for everyone at The Dayton Beer Company! Get $3.50 DBC Pints every Tuesday with trivia starting at 7:00 p.m. Cheers!
URL:https://downtowndayton.org/event/trivia-tuesday-2025-07-22-2/
LOCATION:OH
ATTACH;FMTTYPE=image/jpeg:https://downtowndayton.org/wp-content/uploads/2025/01/dbc.jpg
END:VEVENT
END:VCALENDAR