BEGIN:VCALENDAR
VERSION:2.0
PRODID:-//Downtown Dayton Partnership - ECPv6.8.1//NONSGML v1.0//EN
CALSCALE:GREGORIAN
METHOD:PUBLISH
X-WR-CALNAME:Downtown Dayton Partnership
X-ORIGINAL-URL:https://downtowndayton.org
X-WR-CALDESC:Events for Downtown Dayton Partnership
REFRESH-INTERVAL;VALUE=DURATION:PT1H
X-Robots-Tag:noindex
X-PUBLISHED-TTL:PT1H
BEGIN:VTIMEZONE
TZID:America/New_York
BEGIN:DAYLIGHT
TZOFFSETFROM:-0500
TZOFFSETTO:-0400
TZNAME:EDT
DTSTART:20250309T070000
END:DAYLIGHT
BEGIN:STANDARD
TZOFFSETFROM:-0400
TZOFFSETTO:-0500
TZNAME:EST
DTSTART:20251102T060000
END:STANDARD
TZID:America/Detroit
BEGIN:DAYLIGHT
TZOFFSETFROM:-0500
TZOFFSETTO:-0400
TZNAME:EDT
DTSTART:20250309T070000
END:DAYLIGHT
BEGIN:STANDARD
TZOFFSETFROM:-0400
TZOFFSETTO:-0500
TZNAME:EST
DTSTART:20251102T060000
END:STANDARD
END:VTIMEZONE
BEGIN:VEVENT
DTSTART;VALUE=DATE:20250418
DTEND;VALUE=DATE:20250419
DTSTAMP:20260425T205752
CREATED:20250311T120901Z
LAST-MODIFIED:20250311T120901Z
UID:10030904-1744934400-1745020799@downtowndayton.org
SUMMARY:Exhibit: Jamie Wyeth: Unsettled
DESCRIPTION:March 15–June 8\, 2025 \nA distinguished figure in contemporary art\, Jamie Wyeth is recognized for his fiercely independent\, realistic approach to art. This exhibition follows Wyeth’s entire career and looks at a specifically darker thread within his oeuvre of troubling and unnerving imagery. Unsettled is divided into three distinct sections: “Strangers and Specters;” “Natural and Supernatural Worlds;” and “Haunted Places and Disturbing Spaces.” Drawn from museums and private collections from across the country\, the DAI is the exclusive Ohio venue and the final stop for this major traveling exhibition. Organized by the Brandywine Museum of Art.
URL:https://downtowndayton.org/event/exhibit-jamie-wyeth-unsettled/2025-04-18/
LOCATION:The Dayton Art Institute\, 456 Belmonte Park N\, Dayton\, OH\, 45405\, United States
ATTACH;FMTTYPE=image/jpeg:https://downtowndayton.org/wp-content/uploads/2025/03/wyeth.jpg
END:VEVENT
BEGIN:VEVENT
DTSTART;TZID=America/New_York:20250417T200000
DTEND;TZID=America/New_York:20250417T200000
DTSTAMP:20260425T205752
CREATED:20250318T142048Z
LAST-MODIFIED:20250318T142048Z
UID:10031813-1744920000-1744920000@downtowndayton.org
SUMMARY:Music Bingo Thursdays
DESCRIPTION:We have music bingo every Thursday! It’s free to play\, lots of fun\, hosted by KG\, and there are prizes galore. Come check it out!
URL:https://downtowndayton.org/event/music-bingo-thursdays/2025-04-17/
LOCATION:The Trolley Stop\, 530 E. Fifth St.\, Dayton\, OH\, 45402\, USA
ATTACH;FMTTYPE=image/jpeg:https://downtowndayton.org/wp-content/uploads/2025/03/trolley.jpg
END:VEVENT
BEGIN:VEVENT
DTSTART;TZID=America/New_York:20250417T190000
DTEND;TZID=America/New_York:20250417T213000
DTSTAMP:20260425T205752
CREATED:20250213T135807Z
LAST-MODIFIED:20250213T135807Z
UID:10030295-1744916400-1744925400@downtowndayton.org
SUMMARY:Cecil B. Demented Screening with John Waters
DESCRIPTION:oin us for an unforgettable evening at the Yellow Springs Film Festival’s annual Mini-Fest as we kick off this year’s celebration with a special screening of the cult classic\, Cecil B. Demented\, commemorating its 25th anniversary! Experience the magic of cinema with a live appearance by the iconic director John Waters\, who will engage in an insightful conversation and Q&A session following the screening. Don’t miss this exclusive opportunity to delve into the creative mind behind one of the most influential films in modern cinema. **Limited VIP tickets are available for an intimate post-event Q&A with Waters – grab yours now and be part of this extraordinary celebration!** How to Go? Thursday\, April 17th Doors 6pm / Show 7pm The Brightside\, 905 E 3rd St\, Dayton $35 general admission / $100 VIP Ticket link: https://www.eventbrite.com/e/ysff-presents-cecil-b-demented-screening-with-john-waters-tickets-1247234555129?aff=oddtdtcreator
URL:https://downtowndayton.org/event/cecil-b-demented-screening-with-john-waters/
LOCATION:The Brightside\, 905 E. Third St.\, Dayton\, OH\, 45402
ATTACH;FMTTYPE=image/png:https://downtowndayton.org/wp-content/uploads/2025/02/John-Waters.png
END:VEVENT
BEGIN:VEVENT
DTSTART;TZID=America/Detroit:20250417T183000
DTEND;TZID=America/Detroit:20250417T213000
DTSTAMP:20260425T205752
CREATED:20250114T175650Z
LAST-MODIFIED:20250114T175650Z
UID:10048592-1744914600-1744925400@downtowndayton.org
SUMMARY:Karaoke
DESCRIPTION:Join us for Karaoke Thursdays at The Dayton Beer Company\, hosted by Limelight Entertainment from 6:30 p.m.-9:30p.m. Cheers!
URL:https://downtowndayton.org/event/karaoke-2025-01-30-4/
LOCATION:OH
ATTACH;FMTTYPE=image/jpeg:https://downtowndayton.org/wp-content/uploads/2025/01/dbc.jpg
END:VEVENT
BEGIN:VEVENT
DTSTART;TZID=America/Detroit:20250417T183000
DTEND;TZID=America/Detroit:20250417T213000
DTSTAMP:20260425T205752
CREATED:20250114T175650Z
LAST-MODIFIED:20250114T175650Z
UID:10047219-1744914600-1744925400@downtowndayton.org
SUMMARY:Karaoke
DESCRIPTION:Join us for Karaoke Thursdays at The Dayton Beer Company\, hosted by Limelight Entertainment from 6:30 p.m.-9:30p.m. Cheers!
URL:https://downtowndayton.org/event/karaoke-2025-03-06-2/
LOCATION:OH
ATTACH;FMTTYPE=image/jpeg:https://downtowndayton.org/wp-content/uploads/2025/01/dbc.jpg
END:VEVENT
BEGIN:VEVENT
DTSTART;TZID=America/Detroit:20250417T183000
DTEND;TZID=America/Detroit:20250417T213000
DTSTAMP:20260425T205752
CREATED:20250114T175650Z
LAST-MODIFIED:20250114T175650Z
UID:10045472-1744914600-1744925400@downtowndayton.org
SUMMARY:Karaoke
DESCRIPTION:Join us for Karaoke Thursdays at The Dayton Beer Company\, hosted by Limelight Entertainment from 6:30 p.m.-9:30p.m. Cheers!
URL:https://downtowndayton.org/event/karaoke-2025-01-30/
LOCATION:OH
ATTACH;FMTTYPE=image/jpeg:https://downtowndayton.org/wp-content/uploads/2025/01/dbc.jpg
END:VEVENT
BEGIN:VEVENT
DTSTART;TZID=America/Detroit:20250417T183000
DTEND;TZID=America/Detroit:20250417T213000
DTSTAMP:20260425T205752
CREATED:20250114T175650Z
LAST-MODIFIED:20250114T175650Z
UID:10047090-1744914600-1744925400@downtowndayton.org
SUMMARY:Karaoke
DESCRIPTION:Join us for Karaoke Thursdays at The Dayton Beer Company\, hosted by Limelight Entertainment from 6:30 p.m.-9:30p.m. Cheers!
URL:https://downtowndayton.org/event/karaoke-2025-02-13-2/
LOCATION:OH
ATTACH;FMTTYPE=image/jpeg:https://downtowndayton.org/wp-content/uploads/2025/01/dbc.jpg
END:VEVENT
BEGIN:VEVENT
DTSTART;TZID=America/Detroit:20250417T183000
DTEND;TZID=America/Detroit:20250417T213000
DTSTAMP:20260425T205752
CREATED:20250114T175650Z
LAST-MODIFIED:20250114T175650Z
UID:10048770-1744914600-1744925400@downtowndayton.org
SUMMARY:Karaoke
DESCRIPTION:Join us for Karaoke Thursdays at The Dayton Beer Company\, hosted by Limelight Entertainment from 6:30 p.m.-9:30p.m. Cheers!
URL:https://downtowndayton.org/event/karaoke-2025-02-27-4/
LOCATION:OH
ATTACH;FMTTYPE=image/jpeg:https://downtowndayton.org/wp-content/uploads/2025/01/dbc.jpg
END:VEVENT
BEGIN:VEVENT
DTSTART;TZID=America/Detroit:20250417T183000
DTEND;TZID=America/Detroit:20250417T213000
DTSTAMP:20260425T205752
CREATED:20250114T175650Z
LAST-MODIFIED:20250114T175650Z
UID:10047693-1744914600-1744925400@downtowndayton.org
SUMMARY:Karaoke
DESCRIPTION:Join us for Karaoke Thursdays at The Dayton Beer Company\, hosted by Limelight Entertainment from 6:30 p.m.-9:30p.m. Cheers!
URL:https://downtowndayton.org/event/karaoke-2025-01-23-3/
LOCATION:OH
ATTACH;FMTTYPE=image/jpeg:https://downtowndayton.org/wp-content/uploads/2025/01/dbc.jpg
END:VEVENT
BEGIN:VEVENT
DTSTART;TZID=America/Detroit:20250417T183000
DTEND;TZID=America/Detroit:20250417T213000
DTSTAMP:20260425T205752
CREATED:20250114T175650Z
LAST-MODIFIED:20250114T175650Z
UID:10045650-1744914600-1744925400@downtowndayton.org
SUMMARY:Karaoke
DESCRIPTION:Join us for Karaoke Thursdays at The Dayton Beer Company\, hosted by Limelight Entertainment from 6:30 p.m.-9:30p.m. Cheers!
URL:https://downtowndayton.org/event/karaoke-2025-02-27/
LOCATION:OH
ATTACH;FMTTYPE=image/jpeg:https://downtowndayton.org/wp-content/uploads/2025/01/dbc.jpg
END:VEVENT
BEGIN:VEVENT
DTSTART;TZID=America/Detroit:20250417T183000
DTEND;TZID=America/Detroit:20250417T213000
DTSTAMP:20260425T205752
CREATED:20250114T175650Z
LAST-MODIFIED:20250114T175650Z
UID:10047134-1744914600-1744925400@downtowndayton.org
SUMMARY:Karaoke
DESCRIPTION:Join us for Karaoke Thursdays at The Dayton Beer Company\, hosted by Limelight Entertainment from 6:30 p.m.-9:30p.m. Cheers!
URL:https://downtowndayton.org/event/karaoke-2025-02-20-2/
LOCATION:OH
ATTACH;FMTTYPE=image/jpeg:https://downtowndayton.org/wp-content/uploads/2025/01/dbc.jpg
END:VEVENT
BEGIN:VEVENT
DTSTART;TZID=America/Detroit:20250417T183000
DTEND;TZID=America/Detroit:20250417T213000
DTSTAMP:20260425T205752
CREATED:20250114T175650Z
LAST-MODIFIED:20250114T175650Z
UID:10048853-1744914600-1744925400@downtowndayton.org
SUMMARY:Karaoke
DESCRIPTION:Join us for Karaoke Thursdays at The Dayton Beer Company\, hosted by Limelight Entertainment from 6:30 p.m.-9:30p.m. Cheers!
URL:https://downtowndayton.org/event/karaoke-2025-03-13-4/
LOCATION:OH
ATTACH;FMTTYPE=image/jpeg:https://downtowndayton.org/wp-content/uploads/2025/01/dbc.jpg
END:VEVENT
BEGIN:VEVENT
DTSTART;TZID=America/Detroit:20250417T183000
DTEND;TZID=America/Detroit:20250417T213000
DTSTAMP:20260425T205752
CREATED:20250114T175650Z
LAST-MODIFIED:20250114T175650Z
UID:10047414-1744914600-1744925400@downtowndayton.org
SUMMARY:Karaoke
DESCRIPTION:Join us for Karaoke Thursdays at The Dayton Beer Company\, hosted by Limelight Entertainment from 6:30 p.m.-9:30p.m. Cheers!
URL:https://downtowndayton.org/event/karaoke-2025-04-10-2/
LOCATION:OH
ATTACH;FMTTYPE=image/jpeg:https://downtowndayton.org/wp-content/uploads/2025/01/dbc.jpg
END:VEVENT
BEGIN:VEVENT
DTSTART;TZID=America/Detroit:20250417T183000
DTEND;TZID=America/Detroit:20250417T213000
DTSTAMP:20260425T205752
CREATED:20250114T175650Z
LAST-MODIFIED:20250114T175650Z
UID:10045733-1744914600-1744925400@downtowndayton.org
SUMMARY:Karaoke
DESCRIPTION:Join us for Karaoke Thursdays at The Dayton Beer Company\, hosted by Limelight Entertainment from 6:30 p.m.-9:30p.m. Cheers!
URL:https://downtowndayton.org/event/karaoke-2025-03-13/
LOCATION:OH
ATTACH;FMTTYPE=image/jpeg:https://downtowndayton.org/wp-content/uploads/2025/01/dbc.jpg
END:VEVENT
BEGIN:VEVENT
DTSTART;TZID=America/Detroit:20250417T183000
DTEND;TZID=America/Detroit:20250417T213000
DTSTAMP:20260425T205752
CREATED:20250114T175650Z
LAST-MODIFIED:20250114T175650Z
UID:10047786-1744914600-1744925400@downtowndayton.org
SUMMARY:Karaoke
DESCRIPTION:Join us for Karaoke Thursdays at The Dayton Beer Company\, hosted by Limelight Entertainment from 6:30 p.m.-9:30p.m. Cheers!
URL:https://downtowndayton.org/event/karaoke-2025-02-06-3/
LOCATION:OH
ATTACH;FMTTYPE=image/jpeg:https://downtowndayton.org/wp-content/uploads/2025/01/dbc.jpg
END:VEVENT
BEGIN:VEVENT
DTSTART;TZID=America/Detroit:20250417T183000
DTEND;TZID=America/Detroit:20250417T213000
DTSTAMP:20260425T205752
CREATED:20250114T175650Z
LAST-MODIFIED:20250114T175650Z
UID:10048970-1744914600-1744925400@downtowndayton.org
SUMMARY:Karaoke
DESCRIPTION:Join us for Karaoke Thursdays at The Dayton Beer Company\, hosted by Limelight Entertainment from 6:30 p.m.-9:30p.m. Cheers!
URL:https://downtowndayton.org/event/karaoke-2025-04-03-4/
LOCATION:OH
ATTACH;FMTTYPE=image/jpeg:https://downtowndayton.org/wp-content/uploads/2025/01/dbc.jpg
END:VEVENT
BEGIN:VEVENT
DTSTART;TZID=America/Detroit:20250417T183000
DTEND;TZID=America/Detroit:20250417T213000
DTSTAMP:20260425T205752
CREATED:20250114T175650Z
LAST-MODIFIED:20250114T175650Z
UID:10049043-1744914600-1744925400@downtowndayton.org
SUMMARY:Karaoke
DESCRIPTION:Join us for Karaoke Thursdays at The Dayton Beer Company\, hosted by Limelight Entertainment from 6:30 p.m.-9:30p.m. Cheers!
URL:https://downtowndayton.org/event/karaoke-2025-04-17-4/
LOCATION:OH
ATTACH;FMTTYPE=image/jpeg:https://downtowndayton.org/wp-content/uploads/2025/01/dbc.jpg
END:VEVENT
BEGIN:VEVENT
DTSTART;TZID=America/Detroit:20250417T183000
DTEND;TZID=America/Detroit:20250417T213000
DTSTAMP:20260425T205752
CREATED:20250114T175650Z
LAST-MODIFIED:20250114T175650Z
UID:10045850-1744914600-1744925400@downtowndayton.org
SUMMARY:Karaoke
DESCRIPTION:Join us for Karaoke Thursdays at The Dayton Beer Company\, hosted by Limelight Entertainment from 6:30 p.m.-9:30p.m. Cheers!
URL:https://downtowndayton.org/event/karaoke-2025-04-03/
LOCATION:OH
ATTACH;FMTTYPE=image/jpeg:https://downtowndayton.org/wp-content/uploads/2025/01/dbc.jpg
END:VEVENT
BEGIN:VEVENT
DTSTART;TZID=America/Detroit:20250417T183000
DTEND;TZID=America/Detroit:20250417T213000
DTSTAMP:20260425T205752
CREATED:20250114T175650Z
LAST-MODIFIED:20250114T175650Z
UID:10047300-1744914600-1744925400@downtowndayton.org
SUMMARY:Karaoke
DESCRIPTION:Join us for Karaoke Thursdays at The Dayton Beer Company\, hosted by Limelight Entertainment from 6:30 p.m.-9:30p.m. Cheers!
URL:https://downtowndayton.org/event/karaoke-2025-03-20-2/
LOCATION:OH
ATTACH;FMTTYPE=image/jpeg:https://downtowndayton.org/wp-content/uploads/2025/01/dbc.jpg
END:VEVENT
BEGIN:VEVENT
DTSTART;TZID=America/Detroit:20250417T183000
DTEND;TZID=America/Detroit:20250417T213000
DTSTAMP:20260425T205752
CREATED:20250114T175650Z
LAST-MODIFIED:20250114T175650Z
UID:10048812-1744914600-1744925400@downtowndayton.org
SUMMARY:Karaoke
DESCRIPTION:Join us for Karaoke Thursdays at The Dayton Beer Company\, hosted by Limelight Entertainment from 6:30 p.m.-9:30p.m. Cheers!
URL:https://downtowndayton.org/event/karaoke-2025-03-06-4/
LOCATION:OH
ATTACH;FMTTYPE=image/jpeg:https://downtowndayton.org/wp-content/uploads/2025/01/dbc.jpg
END:VEVENT
BEGIN:VEVENT
DTSTART;TZID=America/Detroit:20250417T183000
DTEND;TZID=America/Detroit:20250417T213000
DTSTAMP:20260425T205752
CREATED:20250114T175650Z
LAST-MODIFIED:20250114T175650Z
UID:10045923-1744914600-1744925400@downtowndayton.org
SUMMARY:Karaoke
DESCRIPTION:Join us for Karaoke Thursdays at The Dayton Beer Company\, hosted by Limelight Entertainment from 6:30 p.m.-9:30p.m. Cheers!
URL:https://downtowndayton.org/event/karaoke-2025-04-17/
LOCATION:OH
ATTACH;FMTTYPE=image/jpeg:https://downtowndayton.org/wp-content/uploads/2025/01/dbc.jpg
END:VEVENT
BEGIN:VEVENT
DTSTART;TZID=America/Detroit:20250417T183000
DTEND;TZID=America/Detroit:20250417T213000
DTSTAMP:20260425T205752
CREATED:20250114T175650Z
LAST-MODIFIED:20250114T175650Z
UID:10047339-1744914600-1744925400@downtowndayton.org
SUMMARY:Karaoke
DESCRIPTION:Join us for Karaoke Thursdays at The Dayton Beer Company\, hosted by Limelight Entertainment from 6:30 p.m.-9:30p.m. Cheers!
URL:https://downtowndayton.org/event/karaoke-2025-03-27-2/
LOCATION:OH
ATTACH;FMTTYPE=image/jpeg:https://downtowndayton.org/wp-content/uploads/2025/01/dbc.jpg
END:VEVENT
BEGIN:VEVENT
DTSTART;TZID=America/Detroit:20250417T183000
DTEND;TZID=America/Detroit:20250417T213000
DTSTAMP:20260425T205752
CREATED:20250114T175650Z
LAST-MODIFIED:20250114T175650Z
UID:10048683-1744914600-1744925400@downtowndayton.org
SUMMARY:Karaoke
DESCRIPTION:Join us for Karaoke Thursdays at The Dayton Beer Company\, hosted by Limelight Entertainment from 6:30 p.m.-9:30p.m. Cheers!
URL:https://downtowndayton.org/event/karaoke-2025-02-13-4/
LOCATION:OH
ATTACH;FMTTYPE=image/jpeg:https://downtowndayton.org/wp-content/uploads/2025/01/dbc.jpg
END:VEVENT
BEGIN:VEVENT
DTSTART;TZID=America/Detroit:20250417T183000
DTEND;TZID=America/Detroit:20250417T213000
DTSTAMP:20260425T205752
CREATED:20250114T175650Z
LAST-MODIFIED:20250114T175650Z
UID:10045692-1744914600-1744925400@downtowndayton.org
SUMMARY:Karaoke
DESCRIPTION:Join us for Karaoke Thursdays at The Dayton Beer Company\, hosted by Limelight Entertainment from 6:30 p.m.-9:30p.m. Cheers!
URL:https://downtowndayton.org/event/karaoke-2025-03-06/
LOCATION:OH
ATTACH;FMTTYPE=image/jpeg:https://downtowndayton.org/wp-content/uploads/2025/01/dbc.jpg
END:VEVENT
BEGIN:VEVENT
DTSTART;TZID=America/Detroit:20250417T183000
DTEND;TZID=America/Detroit:20250417T213000
DTSTAMP:20260425T205752
CREATED:20250114T175650Z
LAST-MODIFIED:20250114T175650Z
UID:10047740-1744914600-1744925400@downtowndayton.org
SUMMARY:Karaoke
DESCRIPTION:Join us for Karaoke Thursdays at The Dayton Beer Company\, hosted by Limelight Entertainment from 6:30 p.m.-9:30p.m. Cheers!
URL:https://downtowndayton.org/event/karaoke-2025-01-30-3/
LOCATION:OH
ATTACH;FMTTYPE=image/jpeg:https://downtowndayton.org/wp-content/uploads/2025/01/dbc.jpg
END:VEVENT
BEGIN:VEVENT
DTSTART;TZID=America/Detroit:20250417T183000
DTEND;TZID=America/Detroit:20250417T213000
DTSTAMP:20260425T205752
CREATED:20250114T175650Z
LAST-MODIFIED:20250114T175650Z
UID:10045563-1744914600-1744925400@downtowndayton.org
SUMMARY:Karaoke
DESCRIPTION:Join us for Karaoke Thursdays at The Dayton Beer Company\, hosted by Limelight Entertainment from 6:30 p.m.-9:30p.m. Cheers!
URL:https://downtowndayton.org/event/karaoke-2025-02-13/
LOCATION:OH
ATTACH;FMTTYPE=image/jpeg:https://downtowndayton.org/wp-content/uploads/2025/01/dbc.jpg
END:VEVENT
BEGIN:VEVENT
DTSTART;TZID=America/Detroit:20250417T183000
DTEND;TZID=America/Detroit:20250417T213000
DTSTAMP:20260425T205752
CREATED:20250114T175650Z
LAST-MODIFIED:20250114T175650Z
UID:10047918-1744914600-1744925400@downtowndayton.org
SUMMARY:Karaoke
DESCRIPTION:Join us for Karaoke Thursdays at The Dayton Beer Company\, hosted by Limelight Entertainment from 6:30 p.m.-9:30p.m. Cheers!
URL:https://downtowndayton.org/event/karaoke-2025-02-27-3/
LOCATION:OH
ATTACH;FMTTYPE=image/jpeg:https://downtowndayton.org/wp-content/uploads/2025/01/dbc.jpg
END:VEVENT
BEGIN:VEVENT
DTSTART;TZID=America/Detroit:20250417T183000
DTEND;TZID=America/Detroit:20250417T213000
DTSTAMP:20260425T205752
CREATED:20250114T175650Z
LAST-MODIFIED:20250114T175650Z
UID:10048727-1744914600-1744925400@downtowndayton.org
SUMMARY:Karaoke
DESCRIPTION:Join us for Karaoke Thursdays at The Dayton Beer Company\, hosted by Limelight Entertainment from 6:30 p.m.-9:30p.m. Cheers!
URL:https://downtowndayton.org/event/karaoke-2025-02-20-4/
LOCATION:OH
ATTACH;FMTTYPE=image/jpeg:https://downtowndayton.org/wp-content/uploads/2025/01/dbc.jpg
END:VEVENT
BEGIN:VEVENT
DTSTART;TZID=America/Detroit:20250417T183000
DTEND;TZID=America/Detroit:20250417T213000
DTSTAMP:20260425T205752
CREATED:20250114T175650Z
LAST-MODIFIED:20250114T175650Z
UID:10046952-1744914600-1744925400@downtowndayton.org
SUMMARY:Karaoke
DESCRIPTION:Join us for Karaoke Thursdays at The Dayton Beer Company\, hosted by Limelight Entertainment from 6:30 p.m.-9:30p.m. Cheers!
URL:https://downtowndayton.org/event/karaoke-2025-01-23-2/
LOCATION:OH
ATTACH;FMTTYPE=image/jpeg:https://downtowndayton.org/wp-content/uploads/2025/01/dbc.jpg
END:VEVENT
BEGIN:VEVENT
DTSTART;TZID=America/Detroit:20250417T183000
DTEND;TZID=America/Detroit:20250417T213000
DTSTAMP:20260425T205752
CREATED:20250114T175650Z
LAST-MODIFIED:20250114T175650Z
UID:10045607-1744914600-1744925400@downtowndayton.org
SUMMARY:Karaoke
DESCRIPTION:Join us for Karaoke Thursdays at The Dayton Beer Company\, hosted by Limelight Entertainment from 6:30 p.m.-9:30p.m. Cheers!
URL:https://downtowndayton.org/event/karaoke-2025-02-20/
LOCATION:OH
ATTACH;FMTTYPE=image/jpeg:https://downtowndayton.org/wp-content/uploads/2025/01/dbc.jpg
END:VEVENT
END:VCALENDAR