BEGIN:VCALENDAR
VERSION:2.0
PRODID:-//Downtown Dayton Partnership - ECPv6.8.1//NONSGML v1.0//EN
CALSCALE:GREGORIAN
METHOD:PUBLISH
X-WR-CALNAME:Downtown Dayton Partnership
X-ORIGINAL-URL:https://downtowndayton.org
X-WR-CALDESC:Events for Downtown Dayton Partnership
REFRESH-INTERVAL;VALUE=DURATION:PT1H
X-Robots-Tag:noindex
X-PUBLISHED-TTL:PT1H
BEGIN:VTIMEZONE
TZID:America/New_York
BEGIN:DAYLIGHT
TZOFFSETFROM:-0500
TZOFFSETTO:-0400
TZNAME:EDT
DTSTART:20250309T070000
END:DAYLIGHT
BEGIN:STANDARD
TZOFFSETFROM:-0400
TZOFFSETTO:-0500
TZNAME:EST
DTSTART:20251102T060000
END:STANDARD
TZID:America/Detroit
BEGIN:DAYLIGHT
TZOFFSETFROM:-0500
TZOFFSETTO:-0400
TZNAME:EDT
DTSTART:20250309T070000
END:DAYLIGHT
BEGIN:STANDARD
TZOFFSETFROM:-0400
TZOFFSETTO:-0500
TZNAME:EST
DTSTART:20251102T060000
END:STANDARD
END:VTIMEZONE
BEGIN:VEVENT
DTSTART;TZID=America/New_York:20251005T193000
DTEND;TZID=America/New_York:20251005T193000
DTSTAMP:20260425T065442
CREATED:20251002T123941Z
LAST-MODIFIED:20251002T123941Z
UID:10040913-1759692600-1759692600@downtowndayton.org
SUMMARY:Ben Folds & A Piano Tour
DESCRIPTION:Ben Folds is widely regarded as one of the major music influencers of our generation. \nThe Emmy-nominated singer-songwriter-composer has created an enormous body of genre-bending music that includes pop albums with Ben Folds Five\, multiple solo albums\, and numerous collaborative records. \nHis latest pop solo album was released in 2023 to rave reviews and sold-out performances. He released his first Christmas album in 2024 and last fall recorded a live album slated for release in 2025 with the National Symphony Orchestra (NSO) at the Kennedy Center in DC where he served for eight years as the first Artistic Advisor to the NSO. \nHe currently tours as a pop artist\, while also performing with some of the world’s greatest symphony orchestras. A New York Times best-selling author and former podcast host\, Ben is also working on new compositions for film\, TV\, and theatre. He also frequently guest stars in films and TV shows. \nIn 2022\, Ben launched a music education charitable initiative in his native state of North Carolina entitled “Keys For Kids\,” which provides funds and keyboards to existing nonprofits that offer free or affordable piano lessons to school-age children from economically-disadvantaged households. And he continually advocates for improving public policies for the arts and arts education on the national level as a member of Americans For The Arts and the Arts Action Fund.
URL:https://downtowndayton.org/event/ben-folds-a-piano-tour/
LOCATION:The Benjamin & Marian Schuster Performing Arts Center\, 1 West Second Street\, Dayton\, OH\, 45402
ATTACH;FMTTYPE=image/jpeg:https://downtowndayton.org/wp-content/uploads/2025/10/ben.jpg
END:VEVENT
BEGIN:VEVENT
DTSTART;TZID=America/New_York:20251006T180000
DTEND;TZID=America/New_York:20251006T200000
DTSTAMP:20260425T065442
CREATED:20250825T210035Z
LAST-MODIFIED:20250825T210035Z
UID:10039590-1759773600-1759780800@downtowndayton.org
SUMMARY:Pilates & Pinot
DESCRIPTION:Raise a toast to a fulfilling workout! \nEnjoy a pilates class with Soleil Movement Studio instructors and glass of wine from Joui Wine during this event. More details at https://www.soleilmovement.com/
URL:https://downtowndayton.org/event/pilates-pinot/
LOCATION:Joui Wine\, 117 E. Third St.\, Dayton\, OH\, 45402
CATEGORIES:Active Living,Food & Drink,Health & Wellness
ATTACH;FMTTYPE=image/jpeg:https://downtowndayton.org/wp-content/uploads/2025/08/IMG_2123-scaled-e1756155234687.jpg
END:VEVENT
BEGIN:VEVENT
DTSTART;TZID=America/New_York:20251006T183000
DTEND;TZID=America/New_York:20251006T220000
DTSTAMP:20260425T065442
CREATED:20250807T132218Z
LAST-MODIFIED:20250807T132218Z
UID:10039508-1759775400-1759788000@downtowndayton.org
SUMMARY:Spettacolo! Art Dinner 2025
DESCRIPTION:ART DINNER 2025 Monday\, October 6\, 2025 6:30-10P The most anticipated art-immersive dining experience of the Miami Valley party season–a sell-out 3 years running! Cocktails & Mocktails / 6-course dinner / limited to 100 guests Secret downtown Dayton location revealed 24 hours before event / attire: GLAM The Co’s Art Dinner is an unforgettable evening celebrating the impact of art in Dayton. The evening unfolds with an elegant cocktail hour and seated dinner\, with a surprise performance and decor. By supporting The Co\, you play a direction role in ambitious exhibitions\, enriching arts education\, and vital resources for creatives that center the arts and artists as essential in the community. Chefs: Casey & Patrick Van Voorhis\, Grist Provisions and Resonant Performance: TheatreLab Dayton\, with an original production by Philip Drennen Design & Decor: Chris “Red” Newman\, Cheeky Monkey Designs .
URL:https://downtowndayton.org/event/spettacolo-art-dinner-2025/
LOCATION:The Contemporary Dayton\, 25 W. Fourth St.\, Dayton\, OH\, 45402\, United States
ATTACH;FMTTYPE=image/png:https://downtowndayton.org/wp-content/uploads/2025/08/spettacolo-1.png
END:VEVENT
BEGIN:VEVENT
DTSTART;TZID=America/Detroit:20251007T190000
DTEND;TZID=America/Detroit:20251007T190000
DTSTAMP:20260425T065442
CREATED:20250114T175514Z
LAST-MODIFIED:20250114T175514Z
UID:10049929-1759863600-1759863600@downtowndayton.org
SUMMARY:Trivia Tuesday
DESCRIPTION:Trivia Tuesdays are fun for everyone at The Dayton Beer Company! Get $3.50 DBC Pints every Tuesday with trivia starting at 7:00 p.m. Cheers!
URL:https://downtowndayton.org/event/trivia-tuesday-2025-04-08/
LOCATION:OH
ATTACH;FMTTYPE=image/jpeg:https://downtowndayton.org/wp-content/uploads/2025/01/dbc.jpg
END:VEVENT
BEGIN:VEVENT
DTSTART;TZID=America/Detroit:20251007T190000
DTEND;TZID=America/Detroit:20251007T190000
DTSTAMP:20260425T065442
CREATED:20250114T175514Z
LAST-MODIFIED:20250114T175514Z
UID:10050205-1759863600-1759863600@downtowndayton.org
SUMMARY:Trivia Tuesday
DESCRIPTION:Trivia Tuesdays are fun for everyone at The Dayton Beer Company! Get $3.50 DBC Pints every Tuesday with trivia starting at 7:00 p.m. Cheers!
URL:https://downtowndayton.org/event/trivia-tuesday-2025-06-03/
LOCATION:OH
ATTACH;FMTTYPE=image/jpeg:https://downtowndayton.org/wp-content/uploads/2025/01/dbc.jpg
END:VEVENT
BEGIN:VEVENT
DTSTART;TZID=America/Detroit:20251007T190000
DTEND;TZID=America/Detroit:20251007T190000
DTSTAMP:20260425T065442
CREATED:20250114T175514Z
LAST-MODIFIED:20250114T175514Z
UID:10049589-1759863600-1759863600@downtowndayton.org
SUMMARY:Trivia Tuesday
DESCRIPTION:Trivia Tuesdays are fun for everyone at The Dayton Beer Company! Get $3.50 DBC Pints every Tuesday with trivia starting at 7:00 p.m. Cheers!
URL:https://downtowndayton.org/event/trivia-tuesday-2025-02-11/
LOCATION:OH
ATTACH;FMTTYPE=image/jpeg:https://downtowndayton.org/wp-content/uploads/2025/01/dbc.jpg
END:VEVENT
BEGIN:VEVENT
DTSTART;TZID=America/Detroit:20251007T190000
DTEND;TZID=America/Detroit:20251007T190000
DTSTAMP:20260425T065442
CREATED:20250114T175514Z
LAST-MODIFIED:20250114T175514Z
UID:10050854-1759863600-1759863600@downtowndayton.org
SUMMARY:Trivia Tuesday
DESCRIPTION:Trivia Tuesdays are fun for everyone at The Dayton Beer Company! Get $3.50 DBC Pints every Tuesday with trivia starting at 7:00 p.m. Cheers!
URL:https://downtowndayton.org/event/trivia-tuesday-2025-02-04-2/
LOCATION:OH
ATTACH;FMTTYPE=image/jpeg:https://downtowndayton.org/wp-content/uploads/2025/01/dbc.jpg
END:VEVENT
BEGIN:VEVENT
DTSTART;TZID=America/Detroit:20251007T190000
DTEND;TZID=America/Detroit:20251007T190000
DTSTAMP:20260425T065442
CREATED:20250114T175514Z
LAST-MODIFIED:20250114T175514Z
UID:10052078-1759863600-1759863600@downtowndayton.org
SUMMARY:Trivia Tuesday
DESCRIPTION:Trivia Tuesdays are fun for everyone at The Dayton Beer Company! Get $3.50 DBC Pints every Tuesday with trivia starting at 7:00 p.m. Cheers!
URL:https://downtowndayton.org/event/trivia-tuesday-2025-03-11-3/
LOCATION:OH
ATTACH;FMTTYPE=image/jpeg:https://downtowndayton.org/wp-content/uploads/2025/01/dbc.jpg
END:VEVENT
BEGIN:VEVENT
DTSTART;TZID=America/Detroit:20251007T190000
DTEND;TZID=America/Detroit:20251007T190000
DTSTAMP:20260425T065442
CREATED:20250114T175514Z
LAST-MODIFIED:20250114T175514Z
UID:10051202-1759863600-1759863600@downtowndayton.org
SUMMARY:Trivia Tuesday
DESCRIPTION:Trivia Tuesdays are fun for everyone at The Dayton Beer Company! Get $3.50 DBC Pints every Tuesday with trivia starting at 7:00 p.m. Cheers!
URL:https://downtowndayton.org/event/trivia-tuesday-2025-04-01-2/
LOCATION:OH
ATTACH;FMTTYPE=image/jpeg:https://downtowndayton.org/wp-content/uploads/2025/01/dbc.jpg
END:VEVENT
BEGIN:VEVENT
DTSTART;TZID=America/Detroit:20251007T190000
DTEND;TZID=America/Detroit:20251007T190000
DTSTAMP:20260425T065442
CREATED:20250114T175514Z
LAST-MODIFIED:20250114T175514Z
UID:10052386-1759863600-1759863600@downtowndayton.org
SUMMARY:Trivia Tuesday
DESCRIPTION:Trivia Tuesdays are fun for everyone at The Dayton Beer Company! Get $3.50 DBC Pints every Tuesday with trivia starting at 7:00 p.m. Cheers!
URL:https://downtowndayton.org/event/trivia-tuesday-2025-05-06-3/
LOCATION:OH
ATTACH;FMTTYPE=image/jpeg:https://downtowndayton.org/wp-content/uploads/2025/01/dbc.jpg
END:VEVENT
BEGIN:VEVENT
DTSTART;TZID=America/Detroit:20251007T190000
DTEND;TZID=America/Detroit:20251007T190000
DTSTAMP:20260425T065442
CREATED:20250114T175514Z
LAST-MODIFIED:20250114T175514Z
UID:10051486-1759863600-1759863600@downtowndayton.org
SUMMARY:Trivia Tuesday
DESCRIPTION:Trivia Tuesdays are fun for everyone at The Dayton Beer Company! Get $3.50 DBC Pints every Tuesday with trivia starting at 7:00 p.m. Cheers!
URL:https://downtowndayton.org/event/trivia-tuesday-2025-05-27-2/
LOCATION:OH
ATTACH;FMTTYPE=image/jpeg:https://downtowndayton.org/wp-content/uploads/2025/01/dbc.jpg
END:VEVENT
BEGIN:VEVENT
DTSTART;TZID=America/Detroit:20251007T190000
DTEND;TZID=America/Detroit:20251007T190000
DTSTAMP:20260425T065442
CREATED:20250114T175514Z
LAST-MODIFIED:20250114T175514Z
UID:10052630-1759863600-1759863600@downtowndayton.org
SUMMARY:Trivia Tuesday
DESCRIPTION:Trivia Tuesdays are fun for everyone at The Dayton Beer Company! Get $3.50 DBC Pints every Tuesday with trivia starting at 7:00 p.m. Cheers!
URL:https://downtowndayton.org/event/trivia-tuesday-2025-07-01-3/
LOCATION:OH
ATTACH;FMTTYPE=image/jpeg:https://downtowndayton.org/wp-content/uploads/2025/01/dbc.jpg
END:VEVENT
BEGIN:VEVENT
DTSTART;TZID=America/Detroit:20251007T190000
DTEND;TZID=America/Detroit:20251007T190000
DTSTAMP:20260425T065442
CREATED:20250114T175514Z
LAST-MODIFIED:20250114T175514Z
UID:10051706-1759863600-1759863600@downtowndayton.org
SUMMARY:Trivia Tuesday
DESCRIPTION:Trivia Tuesdays are fun for everyone at The Dayton Beer Company! Get $3.50 DBC Pints every Tuesday with trivia starting at 7:00 p.m. Cheers!
URL:https://downtowndayton.org/event/trivia-tuesday-2025-07-22-2/
LOCATION:OH
ATTACH;FMTTYPE=image/jpeg:https://downtowndayton.org/wp-content/uploads/2025/01/dbc.jpg
END:VEVENT
BEGIN:VEVENT
DTSTART;TZID=America/Detroit:20251007T190000
DTEND;TZID=America/Detroit:20251007T190000
DTSTAMP:20260425T065442
CREATED:20250114T175514Z
LAST-MODIFIED:20250114T175514Z
UID:10049967-1759863600-1759863600@downtowndayton.org
SUMMARY:Trivia Tuesday
DESCRIPTION:Trivia Tuesdays are fun for everyone at The Dayton Beer Company! Get $3.50 DBC Pints every Tuesday with trivia starting at 7:00 p.m. Cheers!
URL:https://downtowndayton.org/event/trivia-tuesday-2025-04-15/
LOCATION:OH
ATTACH;FMTTYPE=image/jpeg:https://downtowndayton.org/wp-content/uploads/2025/01/dbc.jpg
END:VEVENT
BEGIN:VEVENT
DTSTART;TZID=America/Detroit:20251007T190000
DTEND;TZID=America/Detroit:20251007T190000
DTSTAMP:20260425T065442
CREATED:20250114T175514Z
LAST-MODIFIED:20250114T175514Z
UID:10050235-1759863600-1759863600@downtowndayton.org
SUMMARY:Trivia Tuesday
DESCRIPTION:Trivia Tuesdays are fun for everyone at The Dayton Beer Company! Get $3.50 DBC Pints every Tuesday with trivia starting at 7:00 p.m. Cheers!
URL:https://downtowndayton.org/event/trivia-tuesday-2025-06-10/
LOCATION:OH
ATTACH;FMTTYPE=image/jpeg:https://downtowndayton.org/wp-content/uploads/2025/01/dbc.jpg
END:VEVENT
BEGIN:VEVENT
DTSTART;TZID=America/Detroit:20251007T190000
DTEND;TZID=America/Detroit:20251007T190000
DTSTAMP:20260425T065442
CREATED:20250114T175514Z
LAST-MODIFIED:20250114T175514Z
UID:10049635-1759863600-1759863600@downtowndayton.org
SUMMARY:Trivia Tuesday
DESCRIPTION:Trivia Tuesdays are fun for everyone at The Dayton Beer Company! Get $3.50 DBC Pints every Tuesday with trivia starting at 7:00 p.m. Cheers!
URL:https://downtowndayton.org/event/trivia-tuesday-2025-02-18/
LOCATION:OH
ATTACH;FMTTYPE=image/jpeg:https://downtowndayton.org/wp-content/uploads/2025/01/dbc.jpg
END:VEVENT
BEGIN:VEVENT
DTSTART;TZID=America/Detroit:20251007T190000
DTEND;TZID=America/Detroit:20251007T190000
DTSTAMP:20260425T065442
CREATED:20250114T175514Z
LAST-MODIFIED:20250114T175514Z
UID:10050580-1759863600-1759863600@downtowndayton.org
SUMMARY:Trivia Tuesday
DESCRIPTION:Trivia Tuesdays are fun for everyone at The Dayton Beer Company! Get $3.50 DBC Pints every Tuesday with trivia starting at 7:00 p.m. Cheers!
URL:https://downtowndayton.org/event/trivia-tuesday-2025-09-30/
LOCATION:OH
ATTACH;FMTTYPE=image/jpeg:https://downtowndayton.org/wp-content/uploads/2025/01/dbc.jpg
END:VEVENT
BEGIN:VEVENT
DTSTART;TZID=America/Detroit:20251007T190000
DTEND;TZID=America/Detroit:20251007T190000
DTSTAMP:20260425T065442
CREATED:20250114T175514Z
LAST-MODIFIED:20250114T175514Z
UID:10050901-1759863600-1759863600@downtowndayton.org
SUMMARY:Trivia Tuesday
DESCRIPTION:Trivia Tuesdays are fun for everyone at The Dayton Beer Company! Get $3.50 DBC Pints every Tuesday with trivia starting at 7:00 p.m. Cheers!
URL:https://downtowndayton.org/event/trivia-tuesday-2025-02-11-2/
LOCATION:OH
ATTACH;FMTTYPE=image/jpeg:https://downtowndayton.org/wp-content/uploads/2025/01/dbc.jpg
END:VEVENT
BEGIN:VEVENT
DTSTART;TZID=America/Detroit:20251007T190000
DTEND;TZID=America/Detroit:20251007T190000
DTSTAMP:20260425T065442
CREATED:20250114T175514Z
LAST-MODIFIED:20250114T175514Z
UID:10052120-1759863600-1759863600@downtowndayton.org
SUMMARY:Trivia Tuesday
DESCRIPTION:Trivia Tuesdays are fun for everyone at The Dayton Beer Company! Get $3.50 DBC Pints every Tuesday with trivia starting at 7:00 p.m. Cheers!
URL:https://downtowndayton.org/event/trivia-tuesday-2025-03-18-3/
LOCATION:OH
ATTACH;FMTTYPE=image/jpeg:https://downtowndayton.org/wp-content/uploads/2025/01/dbc.jpg
END:VEVENT
BEGIN:VEVENT
DTSTART;TZID=America/Detroit:20251007T190000
DTEND;TZID=America/Detroit:20251007T190000
DTSTAMP:20260425T065442
CREATED:20250114T175514Z
LAST-MODIFIED:20250114T175514Z
UID:10051241-1759863600-1759863600@downtowndayton.org
SUMMARY:Trivia Tuesday
DESCRIPTION:Trivia Tuesdays are fun for everyone at The Dayton Beer Company! Get $3.50 DBC Pints every Tuesday with trivia starting at 7:00 p.m. Cheers!
URL:https://downtowndayton.org/event/trivia-tuesday-2025-04-08-2/
LOCATION:OH
ATTACH;FMTTYPE=image/jpeg:https://downtowndayton.org/wp-content/uploads/2025/01/dbc.jpg
END:VEVENT
BEGIN:VEVENT
DTSTART;TZID=America/Detroit:20251007T190000
DTEND;TZID=America/Detroit:20251007T190000
DTSTAMP:20260425T065442
CREATED:20250114T175514Z
LAST-MODIFIED:20250114T175514Z
UID:10052420-1759863600-1759863600@downtowndayton.org
SUMMARY:Trivia Tuesday
DESCRIPTION:Trivia Tuesdays are fun for everyone at The Dayton Beer Company! Get $3.50 DBC Pints every Tuesday with trivia starting at 7:00 p.m. Cheers!
URL:https://downtowndayton.org/event/trivia-tuesday-2025-05-13-3/
LOCATION:OH
ATTACH;FMTTYPE=image/jpeg:https://downtowndayton.org/wp-content/uploads/2025/01/dbc.jpg
END:VEVENT
BEGIN:VEVENT
DTSTART;TZID=America/Detroit:20251007T190000
DTEND;TZID=America/Detroit:20251007T190000
DTSTAMP:20260425T065442
CREATED:20250114T175514Z
LAST-MODIFIED:20250114T175514Z
UID:10051517-1759863600-1759863600@downtowndayton.org
SUMMARY:Trivia Tuesday
DESCRIPTION:Trivia Tuesdays are fun for everyone at The Dayton Beer Company! Get $3.50 DBC Pints every Tuesday with trivia starting at 7:00 p.m. Cheers!
URL:https://downtowndayton.org/event/trivia-tuesday-2025-06-03-2/
LOCATION:OH
ATTACH;FMTTYPE=image/jpeg:https://downtowndayton.org/wp-content/uploads/2025/01/dbc.jpg
END:VEVENT
BEGIN:VEVENT
DTSTART;TZID=America/Detroit:20251007T190000
DTEND;TZID=America/Detroit:20251007T190000
DTSTAMP:20260425T065442
CREATED:20250114T175514Z
LAST-MODIFIED:20250114T175514Z
UID:10051756-1759863600-1759863600@downtowndayton.org
SUMMARY:Trivia Tuesday
DESCRIPTION:Trivia Tuesdays are fun for everyone at The Dayton Beer Company! Get $3.50 DBC Pints every Tuesday with trivia starting at 7:00 p.m. Cheers!
URL:https://downtowndayton.org/event/trivia-tuesday-2025-01-21-3/
LOCATION:OH
ATTACH;FMTTYPE=image/jpeg:https://downtowndayton.org/wp-content/uploads/2025/01/dbc.jpg
END:VEVENT
BEGIN:VEVENT
DTSTART;TZID=America/Detroit:20251007T190000
DTEND;TZID=America/Detroit:20251007T190000
DTSTAMP:20260425T065443
CREATED:20250114T175514Z
LAST-MODIFIED:20250114T175514Z
UID:10050004-1759863600-1759863600@downtowndayton.org
SUMMARY:Trivia Tuesday
DESCRIPTION:Trivia Tuesdays are fun for everyone at The Dayton Beer Company! Get $3.50 DBC Pints every Tuesday with trivia starting at 7:00 p.m. Cheers!
URL:https://downtowndayton.org/event/trivia-tuesday-2025-04-22/
LOCATION:OH
ATTACH;FMTTYPE=image/jpeg:https://downtowndayton.org/wp-content/uploads/2025/01/dbc.jpg
END:VEVENT
BEGIN:VEVENT
DTSTART;TZID=America/Detroit:20251007T190000
DTEND;TZID=America/Detroit:20251007T190000
DTSTAMP:20260425T065443
CREATED:20250114T175514Z
LAST-MODIFIED:20250114T175514Z
UID:10050264-1759863600-1759863600@downtowndayton.org
SUMMARY:Trivia Tuesday
DESCRIPTION:Trivia Tuesdays are fun for everyone at The Dayton Beer Company! Get $3.50 DBC Pints every Tuesday with trivia starting at 7:00 p.m. Cheers!
URL:https://downtowndayton.org/event/trivia-tuesday-2025-06-17/
LOCATION:OH
ATTACH;FMTTYPE=image/jpeg:https://downtowndayton.org/wp-content/uploads/2025/01/dbc.jpg
END:VEVENT
BEGIN:VEVENT
DTSTART;TZID=America/Detroit:20251007T190000
DTEND;TZID=America/Detroit:20251007T190000
DTSTAMP:20260425T065443
CREATED:20250114T175514Z
LAST-MODIFIED:20250114T175514Z
UID:10049680-1759863600-1759863600@downtowndayton.org
SUMMARY:Trivia Tuesday
DESCRIPTION:Trivia Tuesdays are fun for everyone at The Dayton Beer Company! Get $3.50 DBC Pints every Tuesday with trivia starting at 7:00 p.m. Cheers!
URL:https://downtowndayton.org/event/trivia-tuesday-2025-02-25/
LOCATION:OH
ATTACH;FMTTYPE=image/jpeg:https://downtowndayton.org/wp-content/uploads/2025/01/dbc.jpg
END:VEVENT
BEGIN:VEVENT
DTSTART;TZID=America/Detroit:20251007T190000
DTEND;TZID=America/Detroit:20251007T190000
DTSTAMP:20260425T065443
CREATED:20250114T175514Z
LAST-MODIFIED:20250114T175514Z
UID:10050694-1759863600-1759863600@downtowndayton.org
SUMMARY:Trivia Tuesday
DESCRIPTION:Trivia Tuesdays are fun for everyone at The Dayton Beer Company! Get $3.50 DBC Pints every Tuesday with trivia starting at 7:00 p.m. Cheers!
URL:https://downtowndayton.org/event/trivia-tuesday-2025-07-29-2/
LOCATION:OH
ATTACH;FMTTYPE=image/jpeg:https://downtowndayton.org/wp-content/uploads/2025/01/dbc.jpg
END:VEVENT
BEGIN:VEVENT
DTSTART;TZID=America/Detroit:20251007T190000
DTEND;TZID=America/Detroit:20251007T190000
DTSTAMP:20260425T065443
CREATED:20250114T175514Z
LAST-MODIFIED:20250114T175514Z
UID:10050947-1759863600-1759863600@downtowndayton.org
SUMMARY:Trivia Tuesday
DESCRIPTION:Trivia Tuesdays are fun for everyone at The Dayton Beer Company! Get $3.50 DBC Pints every Tuesday with trivia starting at 7:00 p.m. Cheers!
URL:https://downtowndayton.org/event/trivia-tuesday-2025-02-18-2/
LOCATION:OH
ATTACH;FMTTYPE=image/jpeg:https://downtowndayton.org/wp-content/uploads/2025/01/dbc.jpg
END:VEVENT
BEGIN:VEVENT
DTSTART;TZID=America/Detroit:20251007T190000
DTEND;TZID=America/Detroit:20251007T190000
DTSTAMP:20260425T065443
CREATED:20250114T175514Z
LAST-MODIFIED:20250114T175514Z
UID:10052161-1759863600-1759863600@downtowndayton.org
SUMMARY:Trivia Tuesday
DESCRIPTION:Trivia Tuesdays are fun for everyone at The Dayton Beer Company! Get $3.50 DBC Pints every Tuesday with trivia starting at 7:00 p.m. Cheers!
URL:https://downtowndayton.org/event/trivia-tuesday-2025-03-25-3/
LOCATION:OH
ATTACH;FMTTYPE=image/jpeg:https://downtowndayton.org/wp-content/uploads/2025/01/dbc.jpg
END:VEVENT
BEGIN:VEVENT
DTSTART;TZID=America/Detroit:20251007T190000
DTEND;TZID=America/Detroit:20251007T190000
DTSTAMP:20260425T065443
CREATED:20250114T175514Z
LAST-MODIFIED:20250114T175514Z
UID:10051279-1759863600-1759863600@downtowndayton.org
SUMMARY:Trivia Tuesday
DESCRIPTION:Trivia Tuesdays are fun for everyone at The Dayton Beer Company! Get $3.50 DBC Pints every Tuesday with trivia starting at 7:00 p.m. Cheers!
URL:https://downtowndayton.org/event/trivia-tuesday-2025-04-15-2/
LOCATION:OH
ATTACH;FMTTYPE=image/jpeg:https://downtowndayton.org/wp-content/uploads/2025/01/dbc.jpg
END:VEVENT
END:VCALENDAR