BEGIN:VCALENDAR
VERSION:2.0
PRODID:-//Downtown Dayton Partnership - ECPv6.8.1//NONSGML v1.0//EN
CALSCALE:GREGORIAN
METHOD:PUBLISH
X-WR-CALNAME:Downtown Dayton Partnership
X-ORIGINAL-URL:https://downtowndayton.org
X-WR-CALDESC:Events for Downtown Dayton Partnership
REFRESH-INTERVAL;VALUE=DURATION:PT1H
X-Robots-Tag:noindex
X-PUBLISHED-TTL:PT1H
BEGIN:VTIMEZONE
TZID:America/Detroit
BEGIN:DAYLIGHT
TZOFFSETFROM:-0500
TZOFFSETTO:-0400
TZNAME:EDT
DTSTART:20250309T070000
END:DAYLIGHT
BEGIN:STANDARD
TZOFFSETFROM:-0400
TZOFFSETTO:-0500
TZNAME:EST
DTSTART:20251102T060000
END:STANDARD
TZID:America/New_York
BEGIN:DAYLIGHT
TZOFFSETFROM:-0500
TZOFFSETTO:-0400
TZNAME:EDT
DTSTART:20250309T070000
END:DAYLIGHT
BEGIN:STANDARD
TZOFFSETFROM:-0400
TZOFFSETTO:-0500
TZNAME:EST
DTSTART:20251102T060000
END:STANDARD
END:VTIMEZONE
BEGIN:VEVENT
DTSTART;TZID=America/Detroit:20251008T190000
DTEND;TZID=America/Detroit:20251008T210000
DTSTAMP:20260423T170214
CREATED:20250114T175815Z
LAST-MODIFIED:20250114T175815Z
UID:10042544-1759950000-1759957200@downtowndayton.org
SUMMARY:Puzzle Feud
DESCRIPTION:Calling all puzzle fans! Join us for Puzzle Feud every Wednesday from 7:00 p.m.-9:00 p.m. (or until the first puzzle is completed). Complete a 500-piece puzzle of your choice with teams of up to 4 with a 2-hour limit. All teams must sign up at the bar on the day of and teams must go to the bar once their puzzle is completed. The winning team receives a prize. Cheers!
URL:https://downtowndayton.org/event/puzzle-feud-2025-04-02-2/
ATTACH;FMTTYPE=image/jpeg:https://downtowndayton.org/wp-content/uploads/2025/01/dbc.jpg
END:VEVENT
BEGIN:VEVENT
DTSTART;TZID=America/Detroit:20251008T190000
DTEND;TZID=America/Detroit:20251008T210000
DTSTAMP:20260423T170214
CREATED:20250114T175815Z
LAST-MODIFIED:20250114T175815Z
UID:10045049-1759950000-1759957200@downtowndayton.org
SUMMARY:Puzzle Feud
DESCRIPTION:Calling all puzzle fans! Join us for Puzzle Feud every Wednesday from 7:00 p.m.-9:00 p.m. (or until the first puzzle is completed). Complete a 500-piece puzzle of your choice with teams of up to 4 with a 2-hour limit. All teams must sign up at the bar on the day of and teams must go to the bar once their puzzle is completed. The winning team receives a prize. Cheers!
URL:https://downtowndayton.org/event/puzzle-feud-2025-09-17/
ATTACH;FMTTYPE=image/jpeg:https://downtowndayton.org/wp-content/uploads/2025/01/dbc.jpg
END:VEVENT
BEGIN:VEVENT
DTSTART;TZID=America/Detroit:20251008T190000
DTEND;TZID=America/Detroit:20251008T210000
DTSTAMP:20260423T170214
CREATED:20250114T175815Z
LAST-MODIFIED:20250114T175815Z
UID:10042046-1759950000-1759957200@downtowndayton.org
SUMMARY:Puzzle Feud
DESCRIPTION:Calling all puzzle fans! Join us for Puzzle Feud every Wednesday from 7:00 p.m.-9:00 p.m. (or until the first puzzle is completed). Complete a 500-piece puzzle of your choice with teams of up to 4 with a 2-hour limit. All teams must sign up at the bar on the day of and teams must go to the bar once their puzzle is completed. The winning team receives a prize. Cheers!
URL:https://downtowndayton.org/event/puzzle-feud-2025-07-16/
ATTACH;FMTTYPE=image/jpeg:https://downtowndayton.org/wp-content/uploads/2025/01/dbc.jpg
END:VEVENT
BEGIN:VEVENT
DTSTART;TZID=America/Detroit:20251008T190000
DTEND;TZID=America/Detroit:20251008T210000
DTSTAMP:20260423T170214
CREATED:20250114T175815Z
LAST-MODIFIED:20250114T175815Z
UID:10044261-1759950000-1759957200@downtowndayton.org
SUMMARY:Puzzle Feud
DESCRIPTION:Calling all puzzle fans! Join us for Puzzle Feud every Wednesday from 7:00 p.m.-9:00 p.m. (or until the first puzzle is completed). Complete a 500-piece puzzle of your choice with teams of up to 4 with a 2-hour limit. All teams must sign up at the bar on the day of and teams must go to the bar once their puzzle is completed. The winning team receives a prize. Cheers!
URL:https://downtowndayton.org/event/puzzle-feud-2025-02-12-4/
ATTACH;FMTTYPE=image/jpeg:https://downtowndayton.org/wp-content/uploads/2025/01/dbc.jpg
END:VEVENT
BEGIN:VEVENT
DTSTART;TZID=America/Detroit:20251008T190000
DTEND;TZID=America/Detroit:20251008T210000
DTSTAMP:20260423T170214
CREATED:20250114T175815Z
LAST-MODIFIED:20250114T175815Z
UID:10043171-1759950000-1759957200@downtowndayton.org
SUMMARY:Puzzle Feud
DESCRIPTION:Calling all puzzle fans! Join us for Puzzle Feud every Wednesday from 7:00 p.m.-9:00 p.m. (or until the first puzzle is completed). Complete a 500-piece puzzle of your choice with teams of up to 4 with a 2-hour limit. All teams must sign up at the bar on the day of and teams must go to the bar once their puzzle is completed. The winning team receives a prize. Cheers!
URL:https://downtowndayton.org/event/puzzle-feud-2025-01-29-3/
ATTACH;FMTTYPE=image/jpeg:https://downtowndayton.org/wp-content/uploads/2025/01/dbc.jpg
END:VEVENT
BEGIN:VEVENT
DTSTART;TZID=America/Detroit:20251008T190000
DTEND;TZID=America/Detroit:20251008T210000
DTSTAMP:20260423T170214
CREATED:20250114T175815Z
LAST-MODIFIED:20250114T175815Z
UID:10041558-1759950000-1759957200@downtowndayton.org
SUMMARY:Puzzle Feud
DESCRIPTION:Calling all puzzle fans! Join us for Puzzle Feud every Wednesday from 7:00 p.m.-9:00 p.m. (or until the first puzzle is completed). Complete a 500-piece puzzle of your choice with teams of up to 4 with a 2-hour limit. All teams must sign up at the bar on the day of and teams must go to the bar once their puzzle is completed. The winning team receives a prize. Cheers!
URL:https://downtowndayton.org/event/puzzle-feud-2025-03-26/
ATTACH;FMTTYPE=image/jpeg:https://downtowndayton.org/wp-content/uploads/2025/01/dbc.jpg
END:VEVENT
BEGIN:VEVENT
DTSTART;TZID=America/Detroit:20251008T190000
DTEND;TZID=America/Detroit:20251008T210000
DTSTAMP:20260423T170214
CREATED:20250114T175815Z
LAST-MODIFIED:20250114T175815Z
UID:10044845-1759950000-1759957200@downtowndayton.org
SUMMARY:Puzzle Feud
DESCRIPTION:Calling all puzzle fans! Join us for Puzzle Feud every Wednesday from 7:00 p.m.-9:00 p.m. (or until the first puzzle is completed). Complete a 500-piece puzzle of your choice with teams of up to 4 with a 2-hour limit. All teams must sign up at the bar on the day of and teams must go to the bar once their puzzle is completed. The winning team receives a prize. Cheers!
URL:https://downtowndayton.org/event/puzzle-feud-2025-06-04-4/
ATTACH;FMTTYPE=image/jpeg:https://downtowndayton.org/wp-content/uploads/2025/01/dbc.jpg
END:VEVENT
BEGIN:VEVENT
DTSTART;TZID=America/Detroit:20251008T190000
DTEND;TZID=America/Detroit:20251008T210000
DTSTAMP:20260423T170214
CREATED:20250114T175815Z
LAST-MODIFIED:20250114T175815Z
UID:10043787-1759950000-1759957200@downtowndayton.org
SUMMARY:Puzzle Feud
DESCRIPTION:Calling all puzzle fans! Join us for Puzzle Feud every Wednesday from 7:00 p.m.-9:00 p.m. (or until the first puzzle is completed). Complete a 500-piece puzzle of your choice with teams of up to 4 with a 2-hour limit. All teams must sign up at the bar on the day of and teams must go to the bar once their puzzle is completed. The winning team receives a prize. Cheers!
URL:https://downtowndayton.org/event/puzzle-feud-2025-05-21-3/
ATTACH;FMTTYPE=image/jpeg:https://downtowndayton.org/wp-content/uploads/2025/01/dbc.jpg
END:VEVENT
BEGIN:VEVENT
DTSTART;TZID=America/Detroit:20251008T190000
DTEND;TZID=America/Detroit:20251008T210000
DTSTAMP:20260423T170214
CREATED:20250114T175815Z
LAST-MODIFIED:20250114T175815Z
UID:10044056-1759950000-1759957200@downtowndayton.org
SUMMARY:Puzzle Feud
DESCRIPTION:Calling all puzzle fans! Join us for Puzzle Feud every Wednesday from 7:00 p.m.-9:00 p.m. (or until the first puzzle is completed). Complete a 500-piece puzzle of your choice with teams of up to 4 with a 2-hour limit. All teams must sign up at the bar on the day of and teams must go to the bar once their puzzle is completed. The winning team receives a prize. Cheers!
URL:https://downtowndayton.org/event/puzzle-feud-2025-08-27/
ATTACH;FMTTYPE=image/jpeg:https://downtowndayton.org/wp-content/uploads/2025/01/dbc.jpg
END:VEVENT
BEGIN:VEVENT
DTSTART;TZID=America/Detroit:20251008T190000
DTEND;TZID=America/Detroit:20251008T210000
DTSTAMP:20260423T170214
CREATED:20250114T175815Z
LAST-MODIFIED:20250114T175815Z
UID:10042427-1759950000-1759957200@downtowndayton.org
SUMMARY:Puzzle Feud
DESCRIPTION:Calling all puzzle fans! Join us for Puzzle Feud every Wednesday from 7:00 p.m.-9:00 p.m. (or until the first puzzle is completed). Complete a 500-piece puzzle of your choice with teams of up to 4 with a 2-hour limit. All teams must sign up at the bar on the day of and teams must go to the bar once their puzzle is completed. The winning team receives a prize. Cheers!
URL:https://downtowndayton.org/event/puzzle-feud-2025-03-12-2/
ATTACH;FMTTYPE=image/jpeg:https://downtowndayton.org/wp-content/uploads/2025/01/dbc.jpg
END:VEVENT
BEGIN:VEVENT
DTSTART;TZID=America/Detroit:20251008T190000
DTEND;TZID=America/Detroit:20251008T210000
DTSTAMP:20260423T170214
CREATED:20250114T175815Z
LAST-MODIFIED:20250114T175815Z
UID:10042947-1759950000-1759957200@downtowndayton.org
SUMMARY:Puzzle Feud
DESCRIPTION:Calling all puzzle fans! Join us for Puzzle Feud every Wednesday from 7:00 p.m.-9:00 p.m. (or until the first puzzle is completed). Complete a 500-piece puzzle of your choice with teams of up to 4 with a 2-hour limit. All teams must sign up at the bar on the day of and teams must go to the bar once their puzzle is completed. The winning team receives a prize. Cheers!
URL:https://downtowndayton.org/event/puzzle-feud-2025-07-02-2/
ATTACH;FMTTYPE=image/jpeg:https://downtowndayton.org/wp-content/uploads/2025/01/dbc.jpg
END:VEVENT
BEGIN:VEVENT
DTSTART;TZID=America/Detroit:20251008T190000
DTEND;TZID=America/Detroit:20251008T210000
DTSTAMP:20260423T170214
CREATED:20250114T175815Z
LAST-MODIFIED:20250114T175815Z
UID:10044123-1759950000-1759957200@downtowndayton.org
SUMMARY:Puzzle Feud
DESCRIPTION:Calling all puzzle fans! Join us for Puzzle Feud every Wednesday from 7:00 p.m.-9:00 p.m. (or until the first puzzle is completed). Complete a 500-piece puzzle of your choice with teams of up to 4 with a 2-hour limit. All teams must sign up at the bar on the day of and teams must go to the bar once their puzzle is completed. The winning team receives a prize. Cheers!
URL:https://downtowndayton.org/event/puzzle-feud-2025-01-22-4/
ATTACH;FMTTYPE=image/jpeg:https://downtowndayton.org/wp-content/uploads/2025/01/dbc.jpg
END:VEVENT
BEGIN:VEVENT
DTSTART;TZID=America/Detroit:20251008T190000
DTEND;TZID=America/Detroit:20251008T210000
DTSTAMP:20260423T170214
CREATED:20250114T175815Z
LAST-MODIFIED:20250114T175815Z
UID:10043057-1759950000-1759957200@downtowndayton.org
SUMMARY:Puzzle Feud
DESCRIPTION:Calling all puzzle fans! Join us for Puzzle Feud every Wednesday from 7:00 p.m.-9:00 p.m. (or until the first puzzle is completed). Complete a 500-piece puzzle of your choice with teams of up to 4 with a 2-hour limit. All teams must sign up at the bar on the day of and teams must go to the bar once their puzzle is completed. The winning team receives a prize. Cheers!
URL:https://downtowndayton.org/event/puzzle-feud-2025-08-06/
ATTACH;FMTTYPE=image/jpeg:https://downtowndayton.org/wp-content/uploads/2025/01/dbc.jpg
END:VEVENT
BEGIN:VEVENT
DTSTART;TZID=America/Detroit:20251008T190000
DTEND;TZID=America/Detroit:20251008T210000
DTSTAMP:20260423T170215
CREATED:20250114T175815Z
LAST-MODIFIED:20250114T175815Z
UID:10041438-1759950000-1759957200@downtowndayton.org
SUMMARY:Puzzle Feud
DESCRIPTION:Calling all puzzle fans! Join us for Puzzle Feud every Wednesday from 7:00 p.m.-9:00 p.m. (or until the first puzzle is completed). Complete a 500-piece puzzle of your choice with teams of up to 4 with a 2-hour limit. All teams must sign up at the bar on the day of and teams must go to the bar once their puzzle is completed. The winning team receives a prize. Cheers!
URL:https://downtowndayton.org/event/puzzle-feud-2025-03-05/
ATTACH;FMTTYPE=image/jpeg:https://downtowndayton.org/wp-content/uploads/2025/01/dbc.jpg
END:VEVENT
BEGIN:VEVENT
DTSTART;TZID=America/Detroit:20251008T190000
DTEND;TZID=America/Detroit:20251008T210000
DTSTAMP:20260423T170215
CREATED:20250114T175815Z
LAST-MODIFIED:20250114T175815Z
UID:10044755-1759950000-1759957200@downtowndayton.org
SUMMARY:Puzzle Feud
DESCRIPTION:Calling all puzzle fans! Join us for Puzzle Feud every Wednesday from 7:00 p.m.-9:00 p.m. (or until the first puzzle is completed). Complete a 500-piece puzzle of your choice with teams of up to 4 with a 2-hour limit. All teams must sign up at the bar on the day of and teams must go to the bar once their puzzle is completed. The winning team receives a prize. Cheers!
URL:https://downtowndayton.org/event/puzzle-feud-2025-05-14-4/
ATTACH;FMTTYPE=image/jpeg:https://downtowndayton.org/wp-content/uploads/2025/01/dbc.jpg
END:VEVENT
BEGIN:VEVENT
DTSTART;TZID=America/Detroit:20251008T190000
DTEND;TZID=America/Detroit:20251008T210000
DTSTAMP:20260423T170215
CREATED:20250114T175815Z
LAST-MODIFIED:20250114T175815Z
UID:10043691-1759950000-1759957200@downtowndayton.org
SUMMARY:Puzzle Feud
DESCRIPTION:Calling all puzzle fans! Join us for Puzzle Feud every Wednesday from 7:00 p.m.-9:00 p.m. (or until the first puzzle is completed). Complete a 500-piece puzzle of your choice with teams of up to 4 with a 2-hour limit. All teams must sign up at the bar on the day of and teams must go to the bar once their puzzle is completed. The winning team receives a prize. Cheers!
URL:https://downtowndayton.org/event/puzzle-feud-2025-04-30-3/
ATTACH;FMTTYPE=image/jpeg:https://downtowndayton.org/wp-content/uploads/2025/01/dbc.jpg
END:VEVENT
BEGIN:VEVENT
DTSTART;TZID=America/Detroit:20251008T190000
DTEND;TZID=America/Detroit:20251008T210000
DTSTAMP:20260423T170215
CREATED:20250114T175815Z
LAST-MODIFIED:20250114T175815Z
UID:10041974-1759950000-1759957200@downtowndayton.org
SUMMARY:Puzzle Feud
DESCRIPTION:Calling all puzzle fans! Join us for Puzzle Feud every Wednesday from 7:00 p.m.-9:00 p.m. (or until the first puzzle is completed). Complete a 500-piece puzzle of your choice with teams of up to 4 with a 2-hour limit. All teams must sign up at the bar on the day of and teams must go to the bar once their puzzle is completed. The winning team receives a prize. Cheers!
URL:https://downtowndayton.org/event/puzzle-feud-2025-06-25/
ATTACH;FMTTYPE=image/jpeg:https://downtowndayton.org/wp-content/uploads/2025/01/dbc.jpg
END:VEVENT
BEGIN:VEVENT
DTSTART;TZID=America/Detroit:20251008T190000
DTEND;TZID=America/Detroit:20251008T210000
DTSTAMP:20260423T170215
CREATED:20250114T175815Z
LAST-MODIFIED:20250114T175815Z
UID:10042301-1759950000-1759957200@downtowndayton.org
SUMMARY:Puzzle Feud
DESCRIPTION:Calling all puzzle fans! Join us for Puzzle Feud every Wednesday from 7:00 p.m.-9:00 p.m. (or until the first puzzle is completed). Complete a 500-piece puzzle of your choice with teams of up to 4 with a 2-hour limit. All teams must sign up at the bar on the day of and teams must go to the bar once their puzzle is completed. The winning team receives a prize. Cheers!
URL:https://downtowndayton.org/event/puzzle-feud-2025-02-19-2/
ATTACH;FMTTYPE=image/jpeg:https://downtowndayton.org/wp-content/uploads/2025/01/dbc.jpg
END:VEVENT
BEGIN:VEVENT
DTSTART;TZID=America/Detroit:20251008T190000
DTEND;TZID=America/Detroit:20251008T210000
DTSTAMP:20260423T170215
CREATED:20250114T175815Z
LAST-MODIFIED:20250114T175815Z
UID:10042869-1759950000-1759957200@downtowndayton.org
SUMMARY:Puzzle Feud
DESCRIPTION:Calling all puzzle fans! Join us for Puzzle Feud every Wednesday from 7:00 p.m.-9:00 p.m. (or until the first puzzle is completed). Complete a 500-piece puzzle of your choice with teams of up to 4 with a 2-hour limit. All teams must sign up at the bar on the day of and teams must go to the bar once their puzzle is completed. The winning team receives a prize. Cheers!
URL:https://downtowndayton.org/event/puzzle-feud-2025-06-11-2/
ATTACH;FMTTYPE=image/jpeg:https://downtowndayton.org/wp-content/uploads/2025/01/dbc.jpg
END:VEVENT
BEGIN:VEVENT
DTSTART;TZID=America/Detroit:20251008T190000
DTEND;TZID=America/Detroit:20251008T210000
DTSTAMP:20260423T170215
CREATED:20250114T175815Z
LAST-MODIFIED:20250114T175815Z
UID:10044039-1759950000-1759957200@downtowndayton.org
SUMMARY:Puzzle Feud
DESCRIPTION:Calling all puzzle fans! Join us for Puzzle Feud every Wednesday from 7:00 p.m.-9:00 p.m. (or until the first puzzle is completed). Complete a 500-piece puzzle of your choice with teams of up to 4 with a 2-hour limit. All teams must sign up at the bar on the day of and teams must go to the bar once their puzzle is completed. The winning team receives a prize. Cheers!
URL:https://downtowndayton.org/event/puzzle-feud-2025-08-20/
ATTACH;FMTTYPE=image/jpeg:https://downtowndayton.org/wp-content/uploads/2025/01/dbc.jpg
END:VEVENT
BEGIN:VEVENT
DTSTART;TZID=America/Detroit:20251008T190000
DTEND;TZID=America/Detroit:20251008T210000
DTSTAMP:20260423T170215
CREATED:20250114T175815Z
LAST-MODIFIED:20250114T175815Z
UID:10042994-1759950000-1759957200@downtowndayton.org
SUMMARY:Puzzle Feud
DESCRIPTION:Calling all puzzle fans! Join us for Puzzle Feud every Wednesday from 7:00 p.m.-9:00 p.m. (or until the first puzzle is completed). Complete a 500-piece puzzle of your choice with teams of up to 4 with a 2-hour limit. All teams must sign up at the bar on the day of and teams must go to the bar once their puzzle is completed. The winning team receives a prize. Cheers!
URL:https://downtowndayton.org/event/puzzle-feud-2025-07-16-2/
ATTACH;FMTTYPE=image/jpeg:https://downtowndayton.org/wp-content/uploads/2025/01/dbc.jpg
END:VEVENT
BEGIN:VEVENT
DTSTART;TZID=America/Detroit:20251008T190000
DTEND;TZID=America/Detroit:20251008T210000
DTSTAMP:20260423T170215
CREATED:20250114T175815Z
LAST-MODIFIED:20250114T175815Z
UID:10041309-1759950000-1759957200@downtowndayton.org
SUMMARY:Puzzle Feud
DESCRIPTION:Calling all puzzle fans! Join us for Puzzle Feud every Wednesday from 7:00 p.m.-9:00 p.m. (or until the first puzzle is completed). Complete a 500-piece puzzle of your choice with teams of up to 4 with a 2-hour limit. All teams must sign up at the bar on the day of and teams must go to the bar once their puzzle is completed. The winning team receives a prize. Cheers!
URL:https://downtowndayton.org/event/puzzle-feud-2025-02-12/
ATTACH;FMTTYPE=image/jpeg:https://downtowndayton.org/wp-content/uploads/2025/01/dbc.jpg
END:VEVENT
BEGIN:VEVENT
DTSTART;TZID=America/Detroit:20251008T190000
DTEND;TZID=America/Detroit:20251008T210000
DTSTAMP:20260423T170215
CREATED:20250114T175815Z
LAST-MODIFIED:20250114T175815Z
UID:10044656-1759950000-1759957200@downtowndayton.org
SUMMARY:Puzzle Feud
DESCRIPTION:Calling all puzzle fans! Join us for Puzzle Feud every Wednesday from 7:00 p.m.-9:00 p.m. (or until the first puzzle is completed). Complete a 500-piece puzzle of your choice with teams of up to 4 with a 2-hour limit. All teams must sign up at the bar on the day of and teams must go to the bar once their puzzle is completed. The winning team receives a prize. Cheers!
URL:https://downtowndayton.org/event/puzzle-feud-2025-04-23-4/
ATTACH;FMTTYPE=image/jpeg:https://downtowndayton.org/wp-content/uploads/2025/01/dbc.jpg
END:VEVENT
BEGIN:VEVENT
DTSTART;TZID=America/Detroit:20251008T190000
DTEND;TZID=America/Detroit:20251008T210000
DTSTAMP:20260423T170215
CREATED:20250114T175815Z
LAST-MODIFIED:20250114T175815Z
UID:10043586-1759950000-1759957200@downtowndayton.org
SUMMARY:Puzzle Feud
DESCRIPTION:Calling all puzzle fans! Join us for Puzzle Feud every Wednesday from 7:00 p.m.-9:00 p.m. (or until the first puzzle is completed). Complete a 500-piece puzzle of your choice with teams of up to 4 with a 2-hour limit. All teams must sign up at the bar on the day of and teams must go to the bar once their puzzle is completed. The winning team receives a prize. Cheers!
URL:https://downtowndayton.org/event/puzzle-feud-2025-04-09-3/
ATTACH;FMTTYPE=image/jpeg:https://downtowndayton.org/wp-content/uploads/2025/01/dbc.jpg
END:VEVENT
BEGIN:VEVENT
DTSTART;TZID=America/Detroit:20251008T190000
DTEND;TZID=America/Detroit:20251008T210000
DTSTAMP:20260423T170215
CREATED:20250114T175815Z
LAST-MODIFIED:20250114T175815Z
UID:10041893-1759950000-1759957200@downtowndayton.org
SUMMARY:Puzzle Feud
DESCRIPTION:Calling all puzzle fans! Join us for Puzzle Feud every Wednesday from 7:00 p.m.-9:00 p.m. (or until the first puzzle is completed). Complete a 500-piece puzzle of your choice with teams of up to 4 with a 2-hour limit. All teams must sign up at the bar on the day of and teams must go to the bar once their puzzle is completed. The winning team receives a prize. Cheers!
URL:https://downtowndayton.org/event/puzzle-feud-2025-06-04/
ATTACH;FMTTYPE=image/jpeg:https://downtowndayton.org/wp-content/uploads/2025/01/dbc.jpg
END:VEVENT
BEGIN:VEVENT
DTSTART;TZID=America/Detroit:20251008T190000
DTEND;TZID=America/Detroit:20251008T210000
DTSTAMP:20260423T170215
CREATED:20250114T175815Z
LAST-MODIFIED:20250114T175815Z
UID:10042166-1759950000-1759957200@downtowndayton.org
SUMMARY:Puzzle Feud
DESCRIPTION:Calling all puzzle fans! Join us for Puzzle Feud every Wednesday from 7:00 p.m.-9:00 p.m. (or until the first puzzle is completed). Complete a 500-piece puzzle of your choice with teams of up to 4 with a 2-hour limit. All teams must sign up at the bar on the day of and teams must go to the bar once their puzzle is completed. The winning team receives a prize. Cheers!
URL:https://downtowndayton.org/event/puzzle-feud-2025-01-29-2/
ATTACH;FMTTYPE=image/jpeg:https://downtowndayton.org/wp-content/uploads/2025/01/dbc.jpg
END:VEVENT
BEGIN:VEVENT
DTSTART;TZID=America/Detroit:20251008T190000
DTEND;TZID=America/Detroit:20251008T210000
DTSTAMP:20260423T170215
CREATED:20250114T175815Z
LAST-MODIFIED:20250114T175815Z
UID:10042782-1759950000-1759957200@downtowndayton.org
SUMMARY:Puzzle Feud
DESCRIPTION:Calling all puzzle fans! Join us for Puzzle Feud every Wednesday from 7:00 p.m.-9:00 p.m. (or until the first puzzle is completed). Complete a 500-piece puzzle of your choice with teams of up to 4 with a 2-hour limit. All teams must sign up at the bar on the day of and teams must go to the bar once their puzzle is completed. The winning team receives a prize. Cheers!
URL:https://downtowndayton.org/event/puzzle-feud-2025-05-21-2/
ATTACH;FMTTYPE=image/jpeg:https://downtowndayton.org/wp-content/uploads/2025/01/dbc.jpg
END:VEVENT
BEGIN:VEVENT
DTSTART;VALUE=DATE:20251009
DTEND;VALUE=DATE:20251010
DTSTAMP:20260423T170215
CREATED:20251002T132228Z
LAST-MODIFIED:20251002T132228Z
UID:10041006-1759968000-1760054399@downtowndayton.org
SUMMARY:Out Here Dayton Film Fest
DESCRIPTION:Welcome to the\n2025 Out Here Dayton Film Fest\nThis is our 20th year of bringing the best in LGBTQIA+ cinema from around the world to the Miami Valley! It’s quite a milestone\, and we’re proud of what we have been able to accomplish. During our first 19 years\, we screened 337 films and hosted 57 guest artists\, and we’re excited for you to see what we have in store for you this year. \nJoin us at THE NEON in downtown Dayton during the long weekend of Oct. 9-12\, 2025 for 9 different screenings featuring 24 short and feature-length films. \nOur Friday night party at Joui Wine has some treats in store\, and other special details for the weekend are still in the works. Be sure to keep your eye on our Facebook and Instagram pages – the best place to keep track of last-minute additions and announcements. \nIn these challenging times\, building strong community is more important than ever. We can’t wait to share these great films in a space where we can celebrate our stories together.
URL:https://downtowndayton.org/event/out-here-dayton-film-fest-3/2025-10-09/
LOCATION:THE NEON\, United States
ATTACH;FMTTYPE=image/jpeg:https://downtowndayton.org/wp-content/uploads/2023/10/outhere.jpg
END:VEVENT
BEGIN:VEVENT
DTSTART;TZID=America/New_York:20251009T170000
DTEND;TZID=America/New_York:20251009T200000
DTSTAMP:20260423T170215
CREATED:20250923T135217Z
LAST-MODIFIED:20250923T135217Z
UID:10039800-1760029200-1760040000@downtowndayton.org
SUMMARY:Culture Kitchen-Mediterranean
DESCRIPTION:Join us for an evening of a culture experience. Vendors at the Market\, Gunash’s Mediterranean and Lucy’s Pastry Palance will host an evening of fine dining with food from their homelands of Turkey and Armenia. Registration is required at 2nd Street Market – Five Rivers MetroParks.
URL:https://downtowndayton.org/event/culture-kitchen-mediterranean/
LOCATION:2nd Street Market\, 600 E. Second St.\, Dayton\, OH\, 45402\, USA
ATTACH;FMTTYPE=image/jpeg:https://downtowndayton.org/wp-content/uploads/2023/08/2ndstmkt.jpg
END:VEVENT
BEGIN:VEVENT
DTSTART;TZID=America/New_York:20251009T173000
DTEND;TZID=America/New_York:20251009T183000
DTSTAMP:20260423T170215
CREATED:20250910T115114Z
LAST-MODIFIED:20250910T115114Z
UID:10039778-1760031000-1760034600@downtowndayton.org
SUMMARY:Color Me Calm: Halloween
DESCRIPTION:Color Me Calm: Halloween\, Thursday\, October 9\, 5:30-6:30 pm\, Main Library\, Conference Room 1A: Relax and unwind with music and coloring. Adults
URL:https://downtowndayton.org/event/color-me-calm-halloween/
LOCATION:Dayton Metro Library – Main Library\, 215 E. Third Street\, Dayton\, OH\, 45402
ATTACH;FMTTYPE=image/jpeg:https://downtowndayton.org/wp-content/uploads/2023/08/dml.jpg
END:VEVENT
END:VCALENDAR