BEGIN:VCALENDAR
VERSION:2.0
PRODID:-//Downtown Dayton Partnership - ECPv6.8.1//NONSGML v1.0//EN
CALSCALE:GREGORIAN
METHOD:PUBLISH
X-WR-CALNAME:Downtown Dayton Partnership
X-ORIGINAL-URL:https://downtowndayton.org
X-WR-CALDESC:Events for Downtown Dayton Partnership
REFRESH-INTERVAL;VALUE=DURATION:PT1H
X-Robots-Tag:noindex
X-PUBLISHED-TTL:PT1H
BEGIN:VTIMEZONE
TZID:America/Detroit
BEGIN:DAYLIGHT
TZOFFSETFROM:-0500
TZOFFSETTO:-0400
TZNAME:EDT
DTSTART:20250309T070000
END:DAYLIGHT
BEGIN:STANDARD
TZOFFSETFROM:-0400
TZOFFSETTO:-0500
TZNAME:EST
DTSTART:20251102T060000
END:STANDARD
TZID:America/New_York
BEGIN:DAYLIGHT
TZOFFSETFROM:-0500
TZOFFSETTO:-0400
TZNAME:EDT
DTSTART:20250309T070000
END:DAYLIGHT
BEGIN:STANDARD
TZOFFSETFROM:-0400
TZOFFSETTO:-0500
TZNAME:EST
DTSTART:20251102T060000
END:STANDARD
END:VTIMEZONE
BEGIN:VEVENT
DTSTART;TZID=America/Detroit:20251009T183000
DTEND;TZID=America/Detroit:20251009T213000
DTSTAMP:20260420T213714
CREATED:20250114T175650Z
LAST-MODIFIED:20250114T175650Z
UID:10045948-1760034600-1760045400@downtowndayton.org
SUMMARY:Karaoke
DESCRIPTION:Join us for Karaoke Thursdays at The Dayton Beer Company\, hosted by Limelight Entertainment from 6:30 p.m.-9:30p.m. Cheers!
URL:https://downtowndayton.org/event/karaoke-2025-04-17/
ATTACH;FMTTYPE=image/jpeg:https://downtowndayton.org/wp-content/uploads/2025/01/dbc.jpg
END:VEVENT
BEGIN:VEVENT
DTSTART;TZID=America/Detroit:20251009T183000
DTEND;TZID=America/Detroit:20251009T213000
DTSTAMP:20260420T213714
CREATED:20250114T175650Z
LAST-MODIFIED:20250114T175650Z
UID:10048918-1760034600-1760045400@downtowndayton.org
SUMMARY:Karaoke
DESCRIPTION:Join us for Karaoke Thursdays at The Dayton Beer Company\, hosted by Limelight Entertainment from 6:30 p.m.-9:30p.m. Cheers!
URL:https://downtowndayton.org/event/karaoke-2025-03-20-4/
ATTACH;FMTTYPE=image/jpeg:https://downtowndayton.org/wp-content/uploads/2025/01/dbc.jpg
END:VEVENT
BEGIN:VEVENT
DTSTART;TZID=America/Detroit:20251009T183000
DTEND;TZID=America/Detroit:20251009T213000
DTSTAMP:20260420T213714
CREATED:20250114T175650Z
LAST-MODIFIED:20250114T175650Z
UID:10047544-1760034600-1760045400@downtowndayton.org
SUMMARY:Karaoke
DESCRIPTION:Join us for Karaoke Thursdays at The Dayton Beer Company\, hosted by Limelight Entertainment from 6:30 p.m.-9:30p.m. Cheers!
URL:https://downtowndayton.org/event/karaoke-2025-05-01-2/
ATTACH;FMTTYPE=image/jpeg:https://downtowndayton.org/wp-content/uploads/2025/01/dbc.jpg
END:VEVENT
BEGIN:VEVENT
DTSTART;TZID=America/Detroit:20251009T183000
DTEND;TZID=America/Detroit:20251009T213000
DTSTAMP:20260420T213714
CREATED:20250114T175650Z
LAST-MODIFIED:20250114T175650Z
UID:10046388-1760034600-1760045400@downtowndayton.org
SUMMARY:Karaoke
DESCRIPTION:Join us for Karaoke Thursdays at The Dayton Beer Company\, hosted by Limelight Entertainment from 6:30 p.m.-9:30p.m. Cheers!
URL:https://downtowndayton.org/event/karaoke-2025-08-07/
ATTACH;FMTTYPE=image/jpeg:https://downtowndayton.org/wp-content/uploads/2025/01/dbc.jpg
END:VEVENT
BEGIN:VEVENT
DTSTART;TZID=America/Detroit:20251009T183000
DTEND;TZID=America/Detroit:20251009T213000
DTSTAMP:20260420T213714
CREATED:20250114T175650Z
LAST-MODIFIED:20250114T175650Z
UID:10046458-1760034600-1760045400@downtowndayton.org
SUMMARY:Karaoke
DESCRIPTION:Join us for Karaoke Thursdays at The Dayton Beer Company\, hosted by Limelight Entertainment from 6:30 p.m.-9:30p.m. Cheers!
URL:https://downtowndayton.org/event/karaoke-2025-09-04/
ATTACH;FMTTYPE=image/jpeg:https://downtowndayton.org/wp-content/uploads/2025/01/dbc.jpg
END:VEVENT
BEGIN:VEVENT
DTSTART;TZID=America/Detroit:20251009T183000
DTEND;TZID=America/Detroit:20251009T213000
DTSTAMP:20260420T213714
CREATED:20250114T175650Z
LAST-MODIFIED:20250114T175650Z
UID:10048381-1760034600-1760045400@downtowndayton.org
SUMMARY:Karaoke
DESCRIPTION:Join us for Karaoke Thursdays at The Dayton Beer Company\, hosted by Limelight Entertainment from 6:30 p.m.-9:30p.m. Cheers!
URL:https://downtowndayton.org/event/karaoke-2025-05-22-3/
ATTACH;FMTTYPE=image/jpeg:https://downtowndayton.org/wp-content/uploads/2025/01/dbc.jpg
END:VEVENT
BEGIN:VEVENT
DTSTART;TZID=America/Detroit:20251009T183000
DTEND;TZID=America/Detroit:20251009T213000
DTSTAMP:20260420T213714
CREATED:20250114T175650Z
LAST-MODIFIED:20250114T175650Z
UID:10048795-1760034600-1760045400@downtowndayton.org
SUMMARY:Karaoke
DESCRIPTION:Join us for Karaoke Thursdays at The Dayton Beer Company\, hosted by Limelight Entertainment from 6:30 p.m.-9:30p.m. Cheers!
URL:https://downtowndayton.org/event/karaoke-2025-02-27-4/
ATTACH;FMTTYPE=image/jpeg:https://downtowndayton.org/wp-content/uploads/2025/01/dbc.jpg
END:VEVENT
BEGIN:VEVENT
DTSTART;TZID=America/Detroit:20251009T183000
DTEND;TZID=America/Detroit:20251009T213000
DTSTAMP:20260420T213714
CREATED:20250114T175650Z
LAST-MODIFIED:20250114T175650Z
UID:10047439-1760034600-1760045400@downtowndayton.org
SUMMARY:Karaoke
DESCRIPTION:Join us for Karaoke Thursdays at The Dayton Beer Company\, hosted by Limelight Entertainment from 6:30 p.m.-9:30p.m. Cheers!
URL:https://downtowndayton.org/event/karaoke-2025-04-10-2/
ATTACH;FMTTYPE=image/jpeg:https://downtowndayton.org/wp-content/uploads/2025/01/dbc.jpg
END:VEVENT
BEGIN:VEVENT
DTSTART;TZID=America/Detroit:20251009T183000
DTEND;TZID=America/Detroit:20251009T213000
DTSTAMP:20260420T213714
CREATED:20250114T175650Z
LAST-MODIFIED:20250114T175650Z
UID:10046325-1760034600-1760045400@downtowndayton.org
SUMMARY:Karaoke
DESCRIPTION:Join us for Karaoke Thursdays at The Dayton Beer Company\, hosted by Limelight Entertainment from 6:30 p.m.-9:30p.m. Cheers!
URL:https://downtowndayton.org/event/karaoke-2025-07-17/
ATTACH;FMTTYPE=image/jpeg:https://downtowndayton.org/wp-content/uploads/2025/01/dbc.jpg
END:VEVENT
BEGIN:VEVENT
DTSTART;TZID=America/Detroit:20251009T183000
DTEND;TZID=America/Detroit:20251009T213000
DTSTAMP:20260420T213714
CREATED:20250114T175650Z
LAST-MODIFIED:20250114T175650Z
UID:10048066-1760034600-1760045400@downtowndayton.org
SUMMARY:Karaoke
DESCRIPTION:Join us for Karaoke Thursdays at The Dayton Beer Company\, hosted by Limelight Entertainment from 6:30 p.m.-9:30p.m. Cheers!
URL:https://downtowndayton.org/event/karaoke-2025-03-20-3/
ATTACH;FMTTYPE=image/jpeg:https://downtowndayton.org/wp-content/uploads/2025/01/dbc.jpg
END:VEVENT
BEGIN:VEVENT
DTSTART;TZID=America/Detroit:20251009T183000
DTEND;TZID=America/Detroit:20251009T213000
DTSTAMP:20260420T213714
CREATED:20250114T175650Z
LAST-MODIFIED:20250114T175650Z
UID:10045837-1760034600-1760045400@downtowndayton.org
SUMMARY:Karaoke
DESCRIPTION:Join us for Karaoke Thursdays at The Dayton Beer Company\, hosted by Limelight Entertainment from 6:30 p.m.-9:30p.m. Cheers!
URL:https://downtowndayton.org/event/karaoke-2025-03-27/
ATTACH;FMTTYPE=image/jpeg:https://downtowndayton.org/wp-content/uploads/2025/01/dbc.jpg
END:VEVENT
BEGIN:VEVENT
DTSTART;TZID=America/Detroit:20251009T183000
DTEND;TZID=America/Detroit:20251009T213000
DTSTAMP:20260420T213714
CREATED:20250114T175650Z
LAST-MODIFIED:20250114T175650Z
UID:10046500-1760034600-1760045400@downtowndayton.org
SUMMARY:Karaoke
DESCRIPTION:Join us for Karaoke Thursdays at The Dayton Beer Company\, hosted by Limelight Entertainment from 6:30 p.m.-9:30p.m. Cheers!
URL:https://downtowndayton.org/event/karaoke-2025-09-25/
ATTACH;FMTTYPE=image/jpeg:https://downtowndayton.org/wp-content/uploads/2025/01/dbc.jpg
END:VEVENT
BEGIN:VEVENT
DTSTART;TZID=America/Detroit:20251009T183000
DTEND;TZID=America/Detroit:20251009T213000
DTSTAMP:20260420T213714
CREATED:20250114T175650Z
LAST-MODIFIED:20250114T175650Z
UID:10045450-1760034600-1760045400@downtowndayton.org
SUMMARY:Karaoke
DESCRIPTION:Join us for Karaoke Thursdays at The Dayton Beer Company\, hosted by Limelight Entertainment from 6:30 p.m.-9:30p.m. Cheers!
URL:https://downtowndayton.org/event/karaoke-2025-01-23/
ATTACH;FMTTYPE=image/jpeg:https://downtowndayton.org/wp-content/uploads/2025/01/dbc.jpg
END:VEVENT
BEGIN:VEVENT
DTSTART;TZID=America/Detroit:20251009T183000
DTEND;TZID=America/Detroit:20251009T213000
DTSTAMP:20260420T213714
CREATED:20250114T175650Z
LAST-MODIFIED:20250114T175650Z
UID:10048285-1760034600-1760045400@downtowndayton.org
SUMMARY:Karaoke
DESCRIPTION:Join us for Karaoke Thursdays at The Dayton Beer Company\, hosted by Limelight Entertainment from 6:30 p.m.-9:30p.m. Cheers!
URL:https://downtowndayton.org/event/karaoke-2025-05-01-3/
ATTACH;FMTTYPE=image/jpeg:https://downtowndayton.org/wp-content/uploads/2025/01/dbc.jpg
END:VEVENT
BEGIN:VEVENT
DTSTART;TZID=America/Detroit:20251009T183000
DTEND;TZID=America/Detroit:20251009T213000
DTSTAMP:20260420T213714
CREATED:20250114T175650Z
LAST-MODIFIED:20250114T175650Z
UID:10048663-1760034600-1760045400@downtowndayton.org
SUMMARY:Karaoke
DESCRIPTION:Join us for Karaoke Thursdays at The Dayton Beer Company\, hosted by Limelight Entertainment from 6:30 p.m.-9:30p.m. Cheers!
URL:https://downtowndayton.org/event/karaoke-2025-02-06-4/
ATTACH;FMTTYPE=image/jpeg:https://downtowndayton.org/wp-content/uploads/2025/01/dbc.jpg
END:VEVENT
BEGIN:VEVENT
DTSTART;TZID=America/Detroit:20251009T183000
DTEND;TZID=America/Detroit:20251009T213000
DTSTAMP:20260420T213714
CREATED:20250114T175650Z
LAST-MODIFIED:20250114T175650Z
UID:10047325-1760034600-1760045400@downtowndayton.org
SUMMARY:Karaoke
DESCRIPTION:Join us for Karaoke Thursdays at The Dayton Beer Company\, hosted by Limelight Entertainment from 6:30 p.m.-9:30p.m. Cheers!
URL:https://downtowndayton.org/event/karaoke-2025-03-20-2/
ATTACH;FMTTYPE=image/jpeg:https://downtowndayton.org/wp-content/uploads/2025/01/dbc.jpg
END:VEVENT
BEGIN:VEVENT
DTSTART;TZID=America/Detroit:20251009T183000
DTEND;TZID=America/Detroit:20251009T213000
DTSTAMP:20260420T213714
CREATED:20250114T175650Z
LAST-MODIFIED:20250114T175650Z
UID:10046253-1760034600-1760045400@downtowndayton.org
SUMMARY:Karaoke
DESCRIPTION:Join us for Karaoke Thursdays at The Dayton Beer Company\, hosted by Limelight Entertainment from 6:30 p.m.-9:30p.m. Cheers!
URL:https://downtowndayton.org/event/karaoke-2025-06-26/
ATTACH;FMTTYPE=image/jpeg:https://downtowndayton.org/wp-content/uploads/2025/01/dbc.jpg
END:VEVENT
BEGIN:VEVENT
DTSTART;TZID=America/Detroit:20251009T183000
DTEND;TZID=America/Detroit:20251009T213000
DTSTAMP:20260420T213714
CREATED:20250114T175650Z
LAST-MODIFIED:20250114T175650Z
UID:10049263-1760034600-1760045400@downtowndayton.org
SUMMARY:Karaoke
DESCRIPTION:Join us for Karaoke Thursdays at The Dayton Beer Company\, hosted by Limelight Entertainment from 6:30 p.m.-9:30p.m. Cheers!
URL:https://downtowndayton.org/event/karaoke-2025-05-29-4/
ATTACH;FMTTYPE=image/jpeg:https://downtowndayton.org/wp-content/uploads/2025/01/dbc.jpg
END:VEVENT
BEGIN:VEVENT
DTSTART;TZID=America/Detroit:20251009T183000
DTEND;TZID=America/Detroit:20251009T213000
DTSTAMP:20260420T213714
CREATED:20250114T175650Z
LAST-MODIFIED:20250114T175650Z
UID:10047943-1760034600-1760045400@downtowndayton.org
SUMMARY:Karaoke
DESCRIPTION:Join us for Karaoke Thursdays at The Dayton Beer Company\, hosted by Limelight Entertainment from 6:30 p.m.-9:30p.m. Cheers!
URL:https://downtowndayton.org/event/karaoke-2025-02-27-3/
ATTACH;FMTTYPE=image/jpeg:https://downtowndayton.org/wp-content/uploads/2025/01/dbc.jpg
END:VEVENT
BEGIN:VEVENT
DTSTART;TZID=America/Detroit:20251009T183000
DTEND;TZID=America/Detroit:20251009T213000
DTSTAMP:20260420T213714
CREATED:20250114T175650Z
LAST-MODIFIED:20250114T175650Z
UID:10046473-1760034600-1760045400@downtowndayton.org
SUMMARY:Karaoke
DESCRIPTION:Join us for Karaoke Thursdays at The Dayton Beer Company\, hosted by Limelight Entertainment from 6:30 p.m.-9:30p.m. Cheers!
URL:https://downtowndayton.org/event/karaoke-2025-09-11/
ATTACH;FMTTYPE=image/jpeg:https://downtowndayton.org/wp-content/uploads/2025/01/dbc.jpg
END:VEVENT
BEGIN:VEVENT
DTSTART;TZID=America/Detroit:20251009T183000
DTEND;TZID=America/Detroit:20251009T213000
DTSTAMP:20260420T213714
CREATED:20250114T175650Z
LAST-MODIFIED:20250114T175650Z
UID:10045717-1760034600-1760045400@downtowndayton.org
SUMMARY:Karaoke
DESCRIPTION:Join us for Karaoke Thursdays at The Dayton Beer Company\, hosted by Limelight Entertainment from 6:30 p.m.-9:30p.m. Cheers!
URL:https://downtowndayton.org/event/karaoke-2025-03-06/
ATTACH;FMTTYPE=image/jpeg:https://downtowndayton.org/wp-content/uploads/2025/01/dbc.jpg
END:VEVENT
BEGIN:VEVENT
DTSTART;TZID=America/Detroit:20251009T183000
DTEND;TZID=America/Detroit:20251009T213000
DTSTAMP:20260420T213714
CREATED:20250114T175650Z
LAST-MODIFIED:20250114T175650Z
UID:10048180-1760034600-1760045400@downtowndayton.org
SUMMARY:Karaoke
DESCRIPTION:Join us for Karaoke Thursdays at The Dayton Beer Company\, hosted by Limelight Entertainment from 6:30 p.m.-9:30p.m. Cheers!
URL:https://downtowndayton.org/event/karaoke-2025-04-10-3/
ATTACH;FMTTYPE=image/jpeg:https://downtowndayton.org/wp-content/uploads/2025/01/dbc.jpg
END:VEVENT
BEGIN:VEVENT
DTSTART;TZID=America/Detroit:20251009T183000
DTEND;TZID=America/Detroit:20251009T213000
DTSTAMP:20260420T213714
CREATED:20250114T175650Z
LAST-MODIFIED:20250114T175650Z
UID:10047202-1760034600-1760045400@downtowndayton.org
SUMMARY:Karaoke
DESCRIPTION:Join us for Karaoke Thursdays at The Dayton Beer Company\, hosted by Limelight Entertainment from 6:30 p.m.-9:30p.m. Cheers!
URL:https://downtowndayton.org/event/karaoke-2025-02-27-2/
ATTACH;FMTTYPE=image/jpeg:https://downtowndayton.org/wp-content/uploads/2025/01/dbc.jpg
END:VEVENT
BEGIN:VEVENT
DTSTART;TZID=America/Detroit:20251009T183000
DTEND;TZID=America/Detroit:20251009T213000
DTSTAMP:20260420T213714
CREATED:20250114T175650Z
LAST-MODIFIED:20250114T175650Z
UID:10046172-1760034600-1760045400@downtowndayton.org
SUMMARY:Karaoke
DESCRIPTION:Join us for Karaoke Thursdays at The Dayton Beer Company\, hosted by Limelight Entertainment from 6:30 p.m.-9:30p.m. Cheers!
URL:https://downtowndayton.org/event/karaoke-2025-06-05/
ATTACH;FMTTYPE=image/jpeg:https://downtowndayton.org/wp-content/uploads/2025/01/dbc.jpg
END:VEVENT
BEGIN:VEVENT
DTSTART;TZID=America/Detroit:20251009T183000
DTEND;TZID=America/Detroit:20251009T213000
DTSTAMP:20260420T213714
CREATED:20250114T175650Z
LAST-MODIFIED:20250114T175650Z
UID:10049170-1760034600-1760045400@downtowndayton.org
SUMMARY:Karaoke
DESCRIPTION:Join us for Karaoke Thursdays at The Dayton Beer Company\, hosted by Limelight Entertainment from 6:30 p.m.-9:30p.m. Cheers!
URL:https://downtowndayton.org/event/karaoke-2025-05-08-4/
ATTACH;FMTTYPE=image/jpeg:https://downtowndayton.org/wp-content/uploads/2025/01/dbc.jpg
END:VEVENT
BEGIN:VEVENT
DTSTART;TZID=America/Detroit:20251009T183000
DTEND;TZID=America/Detroit:20251009T213000
DTSTAMP:20260420T213714
CREATED:20250114T175650Z
LAST-MODIFIED:20250114T175650Z
UID:10047811-1760034600-1760045400@downtowndayton.org
SUMMARY:Karaoke
DESCRIPTION:Join us for Karaoke Thursdays at The Dayton Beer Company\, hosted by Limelight Entertainment from 6:30 p.m.-9:30p.m. Cheers!
URL:https://downtowndayton.org/event/karaoke-2025-02-06-3/
ATTACH;FMTTYPE=image/jpeg:https://downtowndayton.org/wp-content/uploads/2025/01/dbc.jpg
END:VEVENT
BEGIN:VEVENT
DTSTART;TZID=America/Detroit:20251009T183000
DTEND;TZID=America/Detroit:20251009T213000
DTSTAMP:20260420T213714
CREATED:20250114T175650Z
LAST-MODIFIED:20250114T175650Z
UID:10045588-1760034600-1760045400@downtowndayton.org
SUMMARY:Karaoke
DESCRIPTION:Join us for Karaoke Thursdays at The Dayton Beer Company\, hosted by Limelight Entertainment from 6:30 p.m.-9:30p.m. Cheers!
URL:https://downtowndayton.org/event/karaoke-2025-02-13/
ATTACH;FMTTYPE=image/jpeg:https://downtowndayton.org/wp-content/uploads/2025/01/dbc.jpg
END:VEVENT
BEGIN:VEVENT
DTSTART;TZID=America/New_York:20251009T190000
DTEND;TZID=America/New_York:20251009T230000
DTSTAMP:20260420T213714
CREATED:20250909T130833Z
LAST-MODIFIED:20250909T130833Z
UID:10039766-1760036400-1760050800@downtowndayton.org
SUMMARY:Fellowship of the Rave
DESCRIPTION:“I wish it need not have happened in my time\,” said Frodo. “So do all who live to see such times. But that is not for them to decide. All we have to decide is what to do with the time that is given us.” – Gandalf During dark times\, we need some fellowship. That’s what inspired “Fellowship of the Rave!” It’s time to dust off your cloaks and wizard staffs and meet us on the dance floor! We’re hosting a Lord of the Rings themed Rave! Costumes encouraged! Featured DJs: Obi-Wan Shinobi (Columbus)\, Tonic (Dayton)\, Mt Analogue (Dayton)\n$15 PRESALE$20 DAY OF SHOW
URL:https://downtowndayton.org/event/fellowship-of-the-rave/
LOCATION:The Brightside\, 905 E. Third St.\, Dayton\, OH\, 45402
ATTACH;FMTTYPE=image/jpeg:https://downtowndayton.org/wp-content/uploads/2025/09/fotr.jpg
END:VEVENT
BEGIN:VEVENT
DTSTART;TZID=America/New_York:20251010T120000
DTEND;TZID=America/New_York:20251010T170000
DTSTAMP:20260420T213714
CREATED:20251002T122142Z
LAST-MODIFIED:20251002T122142Z
UID:10040903-1760097600-1760115600@downtowndayton.org
SUMMARY:Ask a Lawyer
DESCRIPTION:Ask a Lawyer\nFriday\, October 10\, 12-5 pm\, Main Library\, Community Room\, 2nd Floor: \nAttorneys from GDVLP will answer questions about employment law\, landlord/tenant issues\, and contracts and warranties. Appointments are limited to 25 minutes. Pre-registration is strongly encouraged via this link: https://bit.ly/4nNz3Ot.
URL:https://downtowndayton.org/event/ask-a-lawyer-2/
LOCATION:Dayton Metro Library – Main Library\, 215 E. Third Street\, Dayton\, OH\, 45402
ATTACH;FMTTYPE=image/jpeg:https://downtowndayton.org/wp-content/uploads/2023/08/dml.jpg
END:VEVENT
BEGIN:VEVENT
DTSTART;TZID=America/New_York:20251010T130000
DTEND;TZID=America/New_York:20251010T140000
DTSTAMP:20260420T213714
CREATED:20250923T135300Z
LAST-MODIFIED:20250923T135300Z
UID:10039801-1760101200-1760104800@downtowndayton.org
SUMMARY:Story Time at the Market
DESCRIPTION:Join us as an Educational Specialist from Wegerzyn’s Park\, a Five Rivers MetroParks reads reads Empanadas for Everyone by Jackie Azua Kramer and then do a craft. Registration recommended.
URL:https://downtowndayton.org/event/story-time-at-the-market-3/
LOCATION:2nd Street Market\, 600 E. Second St.\, Dayton\, OH\, 45402\, USA
ATTACH;FMTTYPE=image/jpeg:https://downtowndayton.org/wp-content/uploads/2023/08/2ndstmkt.jpg
END:VEVENT
END:VCALENDAR